Workbook

Sheet Parts List
A1: 2811100001 | B1: Aluminum Pipe (length 18.7 ft) | C1: 35.62
A2: 2811200001 | B2: Aluminum Pipe (length 18.7 ft) | C2: 54.78
A3: 2811400001 | B3: Aluminum Pipe (length 18.7 ft) | C3: 81.54
A4: 2811500001 | B4: Aluminum Pipe (length 18.7 ft) | C4: 106.24
A5: 2810660001 | B5: Aluminum Pipe (length 18.7 ft) | C5: 129.92
A6: 2810770001 | B6: Aluminum Pipe (length 18.7 ft) | C6: 182.25
A7: 2810880000 | B7: Aluminum Pipe (length 18.7 ft) | C7: 187.91
A8: 2810900000 | B8: Aluminum Pipe (length 18.7 ft) | C8: 434.17
A9: 2811106101 | B9: Aluminum Pipe Nitrogen | C9: 35.62
A10: 2811206101 | B10: Aluminum Pipe Nitrogen | C10: 54.78
A11: 2810100105 | B11: S-Bend (package of 5) | C11: 40.65
A12: 2810200105 | B12: S-Bend (package of 5) | C12: 50.29
... A147: 2810915400 | B147: Flange (ANSI) | C147: 155.99
A148: 0650010016 | B148: Flange Accessories (Flat Gasket) | C148: 18.12
A149: 0650100127 | B149: Flange Accessories (Flat Gasket) | C149: 22.35
A150: 0650010006 | B150: Flange Accessories (Flat Gasket) | C150: 21.92
A151: 2810806400 | B151: Flange Support | C151: 19.43
A152: 2810906400 | B152: Flange Support | C152: 28.99
A153: 2811102480 | B153: Wall Mounted Manifold | C153: 29.29
A154: 2811202480 | B154: Wall Mounted Manifold | C154: 30.8
A155: 2811002680 | B155: Wall Mounted Manifold (NPT Connection) | C155: 27.75
A156: 2811102680 | B156: Wall Mounted Manifold (NPT Connection) | C156: 29.29
A158: 2811100112 | B158: Spare Parts Fittings (internal parts / Push to Fit Series) | C158: 68.43
A159: 2811200112 | B159: Spare Parts Fittings (internal parts / Push to Fit Series) | C159: 29.71
A160: 2811400112 | B160: Spare Parts Fittings (internal parts / Push to Fit Series) | C160: 70.07
A161: 2811500112 | B161: Spare Parts Fittings (internal parts / Push to Fit Series) | C161: 90.87
A162: 2810606005 | B162: Spare Parts Fittings (internal parts) | C162: 43.09
A163: 2810706005 | B163: Spare Parts Fittings (internal parts) | C163: 78.15
A164: 2810106510 | B164: Spare Parts (o-rings) | C164: 10.99
A165: 2810206510 | B165: Spare Parts (o-rings) | C165: 14.32
... A304: 2811014900 | B304: L Key for Quick Drop (PF Series) | C304: 1.46

Sheet MENU
A4: 25
B7: Straight Connections, Elbows, Tees, & End Caps
B9: Straight Connections, Elbows, Tees, & End Caps
B11: Reducing Connections
B17: Adaptor Unions, Adaptor Kits & Threaded Connectors
B19: Hanging Material
B21: Tools
B23: Accessories
B25: Spare Parts

Sheet BOM
H3: =SUM(I6:I211) -> 0 | M3: 1 | N3: 2 | O3: 3 | P3: 4 | Q3: 5 | R3: 6 | S3: 7 | T3: 8 | U3: 9 | V3: 10
L4: # | M4: Count | N4: Description | P4: Qty ordered | Q4: Price | R4: Total | S4: P/N | T4: Size | U4: Additional Info | V4: Lot
B5: ALL QUANTITY CHANGES MUST BE MADE ON PRODUCT PAGES | U5: Reduced Size / Other info
B6: =IF(ISERROR(VLOOKUP(L6,$M$6:$V$612,7,0)),"",(VLOOKUP(L6,$M$6:$V612,7,0))) | C6: =IF(ISERROR(VLOOKUP(L6,$M$6:$V$612,2,0)),"",(VLOOKUP(L6,$M$6:$V$612,2,0))) | D6: =IF(ISERROR(VLOOKUP(L6,$M$6:$V$612,8,0)),"",(VLOOKUP(L6,$M$6:$V$612,8,0))) | E6: =IF(ISERROR(VLOOKUP(L6,$M$6:$V$612,9,FALSE)),"",(VLOOKUP(L6,$M$6:$V$612,9,0))) | F6: =IF(ISERROR(VLOOKUP(L6,$M$6:$V$612,10,0)),"",(VLOOKUP(L6,$M$6:$V$612,10,0))) | G6: =IF(ISERROR(VLOOKUP(L6,$M$6:$V$612,5,0)),"",(VLOOKUP(L6,$M$6:$V$612,5,0))) | H6: =IF(ISERROR(VLOOKUP(L6,$M$6:$V$612,4,0)),"",(VLOOKUP(L6,$M$6:$V$612,4,0))) | I6: =IF(ISERROR(VLOOKUP(L6,$M$6:$V$612,6,0)),"",(VLOOKUP(L6,$M$6:$V$612,6,0))) | L6: 1 | M6: =IF(P6>0,1,0) -> 0 | N6: =PIPE!$B$3 -> Pipe | P6: =PIPE!H4 -> 0 | Q6: =PIPE!I4 -> 63.67 | R6: =PIPE!K4 -> 0 | S6: =PIPE!D4 -> 2811100000 | T6: =PIPE!E4 -> 20 / ¾" | U6: =PIPE!F4 -> 18 ft 8 inch | V6: =PIPE!G4 -> 1
B7: =IF(ISERROR(VLOOKUP(L7,$M$6:$V$612,7,0)),"",(VLOOKUP(L7,$M$6:$V613,7,0))) | C7: =IF(ISERROR(VLOOKUP(L7,$M$6:$V$612,2,0)),"",(VLOOKUP(L7,$M$6:$V$612,2,0))) | D7: =IF(ISERROR(VLOOKUP(L7,$M$6:$V$612,8,0)),"",(VLOOKUP(L7,$M$6:$V$612,8,0))) | E7: =IF(ISERROR(VLOOKUP(L7,$M$6:$V$612,9,FALSE)),"",(VLOOKUP(L7,$M$6:$V$612,9,0))) | F7: =IF(ISERROR(VLOOKUP(L7,$M$6:$V$612,10,0)),"",(VLOOKUP(L7,$M$6:$V$612,10,0))) | G7: =IF(ISERROR(VLOOKUP(L7,$M$6:$V$612,5,0)),"",(VLOOKUP(L7,$M$6:$V$612,5,0))) | H7: =IF(ISERROR(VLOOKUP(L7,$M$6:$V$612,4,0)),"",(VLOOKUP(L7,$M$6:$V$612,4,0))) | I7: =IF(ISERROR(VLOOKUP(L7,$M$6:$V$612,6,0)),"",(VLOOKUP(L7,$M$6:$V$612,6,0))) | L7: 2 | M7: =IF(P7>0,M6+1,M6) -> 0 | N7: =PIPE!$B$3 -> Pipe | P7: =PIPE!H5 -> 0 | Q7: =PIPE!I5 -> 79.58 | R7: =PIPE!K5 -> 0 | S7: =PIPE!D5 -> 2811200000 | T7: =PIPE!E5 -> 25 / 1" | U7: =PIPE!F5 -> 18 ft 8 inch | V7: =PIPE!G5 -> 1
B8: =IF(ISERROR(VLOOKUP(L8,$M$6:$V$612,7,0)),"",(VLOOKUP(L8,$M$6:$V614,7,0))) | C8: =IF(ISERROR(VLOOKUP(L8,$M$6:$V$612,2,0)),"",(VLOOKUP(L8,$M$6:$V$612,2,0))) | D8: =IF(ISERROR(VLOOKUP(L8,$M$6:$V$612,8,0)),"",(VLOOKUP(L8,$M$6:$V$612,8,0))) | E8: =IF(ISERROR(VLOOKUP(L8,$M$6:$V$612,9,FALSE)),"",(VLOOKUP(L8,$M$6:$V$612,9,0))) | F8: =IF(ISERROR(VLOOKUP(L8,$M$6:$V$612,10,0)),"",(VLOOKUP(L8,$M$6:$V$612,10,0))) | G8: =IF(ISERROR(VLOOKUP(L8,$M$6:$V$612,5,0)),"",(VLOOKUP(L8,$M$6:$V$612,5,0))) | H8: =IF(ISERROR(VLOOKUP(L8,$M$6:$V$612,4,0)),"",(VLOOKUP(L8,$M$6:$V$612,4,0))) | I8: =IF(ISERROR(VLOOKUP(L8,$M$6:$V$612,6,0)),"",(VLOOKUP(L8,$M$6:$V$612,6,0))) | L8: 3 | M8: =IF(P8>0,M7+1,M7) -> 0 | N8: =PIPE!$B$3 -> Pipe | P8: =PIPE!H6 -> 0 | Q8: =PIPE!I6 -> 130.04 | R8: =PIPE!K6 -> 0 | S8: =PIPE!D6 -> 2811400000 | T8: =PIPE!E6 -> 40 / 1½" | U8: =PIPE!F6 -> 18 ft 8 inch | V8: =PIPE!G6 -> 1
B9: =IF(ISERROR(VLOOKUP(L9,$M$6:$V$612,7,0)),"",(VLOOKUP(L9,$M$6:$V615,7,0))) | C9: =IF(ISERROR(VLOOKUP(L9,$M$6:$V$612,2,0)),"",(VLOOKUP(L9,$M$6:$V$612,2,0))) | D9: =IF(ISERROR(VLOOKUP(L9,$M$6:$V$612,8,0)),"",(VLOOKUP(L9,$M$6:$V$612,8,0))) | E9: =IF(ISERROR(VLOOKUP(L9,$M$6:$V$612,9,FALSE)),"",(VLOOKUP(L9,$M$6:$V$612,9,0))) | F9: =IF(ISERROR(VLOOKUP(L9,$M$6:$V$612,10,0)),"",(VLOOKUP(L9,$M$6:$V$612,10,0))) | G9: =IF(ISERROR(VLOOKUP(L9,$M$6:$V$612,5,0)),"",(VLOOKUP(L9,$M$6:$V$612,5,0))) | H9: =IF(ISERROR(VLOOKUP(L9,$M$6:$V$612,4,0)),"",(VLOOKUP(L9,$M$6:$V$612,4,0))) | I9: =IF(ISERROR(VLOOKUP(L9,$M$6:$V$612,6,0)),"",(VLOOKUP(L9,$M$6:$V$612,6,0))) | L9: 4 | M9: =IF(P9>0,M8+1,M8) -> 0 | N9: =PIPE!$B$3 -> Pipe | P9: =PIPE!H7 -> 0 | Q9: =PIPE!I7 -> 175.81 | R9: =PIPE!K7 -> 0 | S9: =PIPE!D7 -> 2811500000 | T9: =PIPE!E7 -> 50 / 2" | U9: =PIPE!F7 -> 18 ft 8 inch | V9: =PIPE!G7 -> 1
B10: =IF(ISERROR(VLOOKUP(L10,$M$6:$V$612,7,0)),"",(VLOOKUP(L10,$M$6:$V616,7,0))) | C10: =IF(ISERROR(VLOOKUP(L10,$M$6:$V$612,2,0)),"",(VLOOKUP(L10,$M$6:$V$612,2,0))) | D10: =IF(ISERROR(VLOOKUP(L10,$M$6:$V$612,8,0)),"",(VLOOKUP(L10,$M$6:$V$612,8,0))) | E10: =IF(ISERROR(VLOOKUP(L10,$M$6:$V$612,9,FALSE)),"",(VLOOKUP(L10,$M$6:$V$612,9,0))) | F10: =IF(ISERROR(VLOOKUP(L10,$M$6:$V$612,10,0)),"",(VLOOKUP(L10,$M$6:$V$612,10,0))) | G10: =IF(ISERROR(VLOOKUP(L10,$M$6:$V$612,5,0)),"",(VLOOKUP(L10,$M$6:$V$612,5,0))) | H10: =IF(ISERROR(VLOOKUP(L10,$M$6:$V$612,4,0)),"",(VLOOKUP(L10,$M$6:$V$612,4,0))) | I10: =IF(ISERROR(VLOOKUP(L10,$M$6:$V$612,6,0)),"",(VLOOKUP(L10,$M$6:$V$612,6,0))) | L10: 5 | M10: =IF(P10>0,M9+1,M9) -> 0 | N10: =PIPE!$B$3 -> Pipe | P10: =PIPE!H8 -> 0 | Q10: =PIPE!I8 -> 225.22 | R10: =PIPE!K8 -> 0 | S10: =PIPE!D8 -> 2811600000 | T10: =PIPE!E8 -> 63 / 2½" | U10: =PIPE!F8 -> 18 ft 8 inch | V10: =PIPE!G8 -> 1
B11: =IF(ISERROR(VLOOKUP(L11,$M$6:$V$612,7,0)),"",(VLOOKUP(L11,$M$6:$V617,7,0))) | C11: =IF(ISERROR(VLOOKUP(L11,$M$6:$V$612,2,0)),"",(VLOOKUP(L11,$M$6:$V$612,2,0))) | D11: =IF(ISERROR(VLOOKUP(L11,$M$6:$V$612,8,0)),"",(VLOOKUP(L11,$M$6:$V$612,8,0))) | E11: =IF(ISERROR(VLOOKUP(L11,$M$6:$V$612,9,FALSE)),"",(VLOOKUP(L11,$M$6:$V$612,9,0))) | F11: =IF(ISERROR(VLOOKUP(L11,$M$6:$V$612,10,0)),"",(VLOOKUP(L11,$M$6:$V$612,10,0))) | G11: =IF(ISERROR(VLOOKUP(L11,$M$6:$V$612,5,0)),"",(VLOOKUP(L11,$M$6:$V$612,5,0))) | H11: =IF(ISERROR(VLOOKUP(L11,$M$6:$V$612,4,0)),"",(VLOOKUP(L11,$M$6:$V$612,4,0))) | I11: =IF(ISERROR(VLOOKUP(L11,$M$6:$V$612,6,0)),"",(VLOOKUP(L11,$M$6:$V$612,6,0))) | L11: 6 | M11: =IF(P11>0,M10+1,M10) -> 0 | N11: =PIPE!$B$3 -> Pipe | P11: =PIPE!H9 -> 0 | Q11: =PIPE!I9 -> 314.96 | R11: =PIPE!K9 -> 0 | S11: =PIPE!D9 -> 2811700000 | T11: =PIPE!E9 -> 80 / 3" | U11: =PIPE!F9 -> 18 ft 8 inch | V11: =PIPE!G9 -> 1
B12: =IF(ISERROR(VLOOKUP(L12,$M$6:$V$612,7,0)),"",(VLOOKUP(L12,$M$6:$V618,7,0))) | C12: =IF(ISERROR(VLOOKUP(L12,$M$6:$V$612,2,0)),"",(VLOOKUP(L12,$M$6:$V$612,2,0))) | D12: =IF(ISERROR(VLOOKUP(L12,$M$6:$V$612,8,0)),"",(VLOOKUP(L12,$M$6:$V$612,8,0))) | E12: =IF(ISERROR(VLOOKUP(L12,$M$6:$V$612,9,FALSE)),"",(VLOOKUP(L12,$M$6:$V$612,9,0))) | F12: =IF(ISERROR(VLOOKUP(L12,$M$6:$V$612,10,0)),"",(VLOOKUP(L12,$M$6:$V$612,10,0))) | G12: =IF(ISERROR(VLOOKUP(L12,$M$6:$V$612,5,0)),"",(VLOOKUP(L12,$M$6:$V$612,5,0))) | H12: =IF(ISERROR(VLOOKUP(L12,$M$6:$V$612,4,0)),"",(VLOOKUP(L12,$M$6:$V$612,4,0))) | I12: =IF(ISERROR(VLOOKUP(L12,$M$6:$V$612,6,0)),"",(VLOOKUP(L12,$M$6:$V$612,6,0))) | L12: 7 | M12: =IF(P12>0,M11+1,M11) -> 0 | N12: =PIPE!$B$3 -> Pipe | P12: =PIPE!H10 -> 0 | Q12: =PIPE!I10 -> 439.13 | R12: =PIPE!K10 -> 0 | S12: =PIPE!D10 -> 2811800000 | T12: =PIPE!E10 -> 100 / 4" | U12: =PIPE!F10 -> 18 ft 8 inch | V12: =PIPE!G10 -> 1
B13: =IF(ISERROR(VLOOKUP(L13,$M$6:$V$612,7,0)),"",(VLOOKUP(L13,$M$6:$V619,7,0))) | C13: =IF(ISERROR(VLOOKUP(L13,$M$6:$V$612,2,0)),"",(VLOOKUP(L13,$M$6:$V$612,2,0))) | D13: =IF(ISERROR(VLOOKUP(L13,$M$6:$V$612,8,0)),"",(VLOOKUP(L13,$M$6:$V$612,8,0))) | E13: =IF(ISERROR(VLOOKUP(L13,$M$6:$V$612,9,FALSE)),"",(VLOOKUP(L13,$M$6:$V$612,9,0))) | F13: =IF(ISERROR(VLOOKUP(L13,$M$6:$V$612,10,0)),"",(VLOOKUP(L13,$M$6:$V$612,10,0))) | G13: =IF(ISERROR(VLOOKUP(L13,$M$6:$V$612,5,0)),"",(VLOOKUP(L13,$M$6:$V$612,5,0))) | H13: =IF(ISERROR(VLOOKUP(L13,$M$6:$V$612,4,0)),"",(VLOOKUP(L13,$M$6:$V$612,4,0))) | I13: =IF(ISERROR(VLOOKUP(L13,$M$6:$V$612,6,0)),"",(VLOOKUP(L13,$M$6:$V$612,6,0))) | L13: 8 | M13: =IF(P13>0,M12+1,M12) -> 0 | N13: =PIPE!$B$3 -> Pipe | P13: =PIPE!H11 -> 0 | Q13: =PIPE!I11 -> 901.34 | R13: =PIPE!K11 -> 0 | S13: =PIPE!D11 -> 2811900000 | T13: =PIPE!E11 -> 158 / 6" | U13: =PIPE!F11 -> 18 ft 8 inch | V13: =PIPE!G11 -> 1
B14: =IF(ISERROR(VLOOKUP(L14,$M$6:$V$612,7,0)),"",(VLOOKUP(L14,$M$6:$V620,7,0))) | C14: =IF(ISERROR(VLOOKUP(L14,$M$6:$V$612,2,0)),"",(VLOOKUP(L14,$M$6:$V$612,2,0))) | D14: =IF(ISERROR(VLOOKUP(L14,$M$6:$V$612,8,0)),"",(VLOOKUP(L14,$M$6:$V$612,8,0))) | E14: =IF(ISERROR(VLOOKUP(L14,$M$6:$V$612,9,FALSE)),"",(VLOOKUP(L14,$M$6:$V$612,9,0))) | F14: =IF(ISERROR(VLOOKUP(L14,$M$6:$V$612,10,0)),"",(VLOOKUP(L14,$M$6:$V$612,10,0))) | G14: =IF(ISERROR(VLOOKUP(L14,$M$6:$V$612,5,0)),"",(VLOOKUP(L14,$M$6:$V$612,5,0))) | H14: =IF(ISERROR(VLOOKUP(L14,$M$6:$V$612,4,0)),"",(VLOOKUP(L14,$M$6:$V$612,4,0))) | I14: =IF(ISERROR(VLOOKUP(L14,$M$6:$V$612,6,0)),"",(VLOOKUP(L14,$M$6:$V$612,6,0))) | L14: 9 | M14: =IF(P14>0,M13+1,M13) -> 0
B15: =IF(ISERROR(VLOOKUP(L15,$M$6:$V$612,7,0)),"",(VLOOKUP(L15,$M$6:$V621,7,0))) | C15: =IF(ISERROR(VLOOKUP(L15,$M$6:$V$612,2,0)),"",(VLOOKUP(L15,$M$6:$V$612,2,0))) | D15: =IF(ISERROR(VLOOKUP(L15,$M$6:$V$612,8,0)),"",(VLOOKUP(L15,$M$6:$V$612,8,0))) | E15: =IF(ISERROR(VLOOKUP(L15,$M$6:$V$612,9,FALSE)),"",(VLOOKUP(L15,$M$6:$V$612,9,0))) | F15: =IF(ISERROR(VLOOKUP(L15,$M$6:$V$612,10,0)),"",(VLOOKUP(L15,$M$6:$V$612,10,0))) | G15: =IF(ISERROR(VLOOKUP(L15,$M$6:$V$612,5,0)),"",(VLOOKUP(L15,$M$6:$V$612,5,0))) | H15: =IF(ISERROR(VLOOKUP(L15,$M$6:$V$612,4,0)),"",(VLOOKUP(L15,$M$6:$V$612,4,0))) | I15: =IF(ISERROR(VLOOKUP(L15,$M$6:$V$612,6,0)),"",(VLOOKUP(L15,$M$6:$V$612,6,0))) | L15: 10 | M15: =IF(P15>0,M14+1,M14) -> 0
B16: =IF(ISERROR(VLOOKUP(L16,$M$6:$V$612,7,0)),"",(VLOOKUP(L16,$M$6:$V622,7,0))) | C16: =IF(ISERROR(VLOOKUP(L16,$M$6:$V$612,2,0)),"",(VLOOKUP(L16,$M$6:$V$612,2,0))) | D16: =IF(ISERROR(VLOOKUP(L16,$M$6:$V$612,8,0)),"",(VLOOKUP(L16,$M$6:$V$612,8,0))) | E16: =IF(ISERROR(VLOOKUP(L16,$M$6:$V$612,9,FALSE)),"",(VLOOKUP(L16,$M$6:$V$612,9,0))) | F16: =IF(ISERROR(VLOOKUP(L16,$M$6:$V$612,10,0)),"",(VLOOKUP(L16,$M$6:$V$612,10,0))) | G16: =IF(ISERROR(VLOOKUP(L16,$M$6:$V$612,5,0)),"",(VLOOKUP(L16,$M$6:$V$612,5,0))) | H16: =IF(ISERROR(VLOOKUP(L16,$M$6:$V$612,4,0)),"",(VLOOKUP(L16,$M$6:$V$612,4,0))) | I16: =IF(ISERROR(VLOOKUP(L16,$M$6:$V$612,6,0)),"",(VLOOKUP(L16,$M$6:$V$612,6,0))) | L16: 11 | M16: =IF(P16>0,M15+1,M15) -> 0 | N16: =PIPE!$C$13 -> Inert Gas (green pipe) | P16: =PIPE!H14 -> 0 | Q16: =PIPE!I14 -> 74.16 | R16: =PIPE!K14 -> 0 | S16: =PIPE!D14 -> 2811106100 | T16: =PIPE!E14 -> 20 / ¾" | U16: =PIPE!F14 -> 18 ft 8 inch | V16: =PIPE!G14 -> 1
B17: =IF(ISERROR(VLOOKUP(L17,$M$6:$V$612,7,0)),"",(VLOOKUP(L17,$M$6:$V623,7,0))) | C17: =IF(ISERROR(VLOOKUP(L17,$M$6:$V$612,2,0)),"",(VLOOKUP(L17,$M$6:$V$612,2,0))) | D17: =IF(ISERROR(VLOOKUP(L17,$M$6:$V$612,8,0)),"",(VLOOKUP(L17,$M$6:$V$612,8,0))) | E17: =IF(ISERROR(VLOOKUP(L17,$M$6:$V$612,9,FALSE)),"",(VLOOKUP(L17,$M$6:$V$612,9,0))) | F17: =IF(ISERROR(VLOOKUP(L17,$M$6:$V$612,10,0)),"",(VLOOKUP(L17,$M$6:$V$612,10,0))) | G17: =IF(ISERROR(VLOOKUP(L17,$M$6:$V$612,5,0)),"",(VLOOKUP(L17,$M$6:$V$612,5,0))) | H17: =IF(ISERROR(VLOOKUP(L17,$M$6:$V$612,4,0)),"",(VLOOKUP(L17,$M$6:$V$612,4,0))) | I17: =IF(ISERROR(VLOOKUP(L17,$M$6:$V$612,6,0)),"",(VLOOKUP(L17,$M$6:$V$612,6,0))) | L17: 12 | M17: =IF(P17>0,M16+1,M16) -> 0 | N17: =PIPE!$C$13 -> Inert Gas (green pipe) | P17: =PIPE!H15 -> 0 | Q17: =PIPE!I15 -> 120.17 | R17: =PIPE!K15 -> 0 | S17: =PIPE!D15 -> 2811206100 | T17: =PIPE!E15 -> 25 / 1" | U17: =PIPE!F15 -> 18 ft 8 inch | V17: =PIPE!G15 -> 1
B18: =IF(ISERROR(VLOOKUP(L18,$M$6:$V$612,7,0)),"",(VLOOKUP(L18,$M$6:$V624,7,0))) | C18: =IF(ISERROR(VLOOKUP(L18,$M$6:$V$612,2,0)),"",(VLOOKUP(L18,$M$6:$V$612,2,0))) | D18: =IF(ISERROR(VLOOKUP(L18,$M$6:$V$612,8,0)),"",(VLOOKUP(L18,$M$6:$V$612,8,0))) | E18: =IF(ISERROR(VLOOKUP(L18,$M$6:$V$612,9,FALSE)),"",(VLOOKUP(L18,$M$6:$V$612,9,0))) | F18: =IF(ISERROR(VLOOKUP(L18,$M$6:$V$612,10,0)),"",(VLOOKUP(L18,$M$6:$V$612,10,0))) | G18: =IF(ISERROR(VLOOKUP(L18,$M$6:$V$612,5,0)),"",(VLOOKUP(L18,$M$6:$V$612,5,0))) | H18: =IF(ISERROR(VLOOKUP(L18,$M$6:$V$612,4,0)),"",(VLOOKUP(L18,$M$6:$V$612,4,0))) | I18: =IF(ISERROR(VLOOKUP(L18,$M$6:$V$612,6,0)),"",(VLOOKUP(L18,$M$6:$V$612,6,0))) | L18: 13 | M18: =IF(P18>0,M17+1,M17) -> 0 | P18: =PIPE!H16 -> 0 | V18: =PIPE!G16 -> 0
B19: =IF(ISERROR(VLOOKUP(L19,$M$6:$V$612,7,0)),"",(VLOOKUP(L19,$M$6:$V625,7,0))) | C19: =IF(ISERROR(VLOOKUP(L19,$M$6:$V$612,2,0)),"",(VLOOKUP(L19,$M$6:$V$612,2,0))) | D19: =IF(ISERROR(VLOOKUP(L19,$M$6:$V$612,8,0)),"",(VLOOKUP(L19,$M$6:$V$612,8,0))) | E19: =IF(ISERROR(VLOOKUP(L19,$M$6:$V$612,9,FALSE)),"",(VLOOKUP(L19,$M$6:$V$612,9,0))) | F19: =IF(ISERROR(VLOOKUP(L19,$M$6:$V$612,10,0)),"",(VLOOKUP(L19,$M$6:$V$612,10,0))) | G19: =IF(ISERROR(VLOOKUP(L19,$M$6:$V$612,5,0)),"",(VLOOKUP(L19,$M$6:$V$612,5,0))) | H19: =IF(ISERROR(VLOOKUP(L19,$M$6:$V$612,4,0)),"",(VLOOKUP(L19,$M$6:$V$612,4,0))) | I19: =IF(ISERROR(VLOOKUP(L19,$M$6:$V$612,6,0)),"",(VLOOKUP(L19,$M$6:$V$612,6,0))) | L19: 14 | M19: =IF(P19>0,M18+1,M18) -> 0 | P19: =PIPE!H17 -> 0 | V19: =PIPE!G17 -> 0
B20: =IF(ISERROR(VLOOKUP(L20,$M$6:$V$612,7,0)),"",(VLOOKUP(L20,$M$6:$V626,7,0))) | C20: =IF(ISERROR(VLOOKUP(L20,$M$6:$V$612,2,0)),"",(VLOOKUP(L20,$M$6:$V$612,2,0))) | D20: =IF(ISERROR(VLOOKUP(L20,$M$6:$V$612,8,0)),"",(VLOOKUP(L20,$M$6:$V$612,8,0))) | E20: =IF(ISERROR(VLOOKUP(L20,$M$6:$V$612,9,FALSE)),"",(VLOOKUP(L20,$M$6:$V$612,9,0))) | F20: =IF(ISERROR(VLOOKUP(L20,$M$6:$V$612,10,0)),"",(VLOOKUP(L20,$M$6:$V$612,10,0))) | G20: =IF(ISERROR(VLOOKUP(L20,$M$6:$V$612,5,0)),"",(VLOOKUP(L20,$M$6:$V$612,5,0))) | H20: =IF(ISERROR(VLOOKUP(L20,$M$6:$V$612,4,0)),"",(VLOOKUP(L20,$M$6:$V$612,4,0))) | I20: =IF(ISERROR(VLOOKUP(L20,$M$6:$V$612,6,0)),"",(VLOOKUP(L20,$M$6:$V$612,6,0))) | L20: 15 | M20: =IF(P20>0,M19+1,M19) -> 0 | P20: =PIPE!H18 -> 0 | V20: =PIPE!G18 -> 0
B21: =IF(ISERROR(VLOOKUP(L21,$M$6:$V$612,7,0)),"",(VLOOKUP(L21,$M$6:$V627,7,0))) | C21: =IF(ISERROR(VLOOKUP(L21,$M$6:$V$612,2,0)),"",(VLOOKUP(L21,$M$6:$V$612,2,0))) | D21: =IF(ISERROR(VLOOKUP(L21,$M$6:$V$612,8,0)),"",(VLOOKUP(L21,$M$6:$V$612,8,0))) | E21: =IF(ISERROR(VLOOKUP(L21,$M$6:$V$612,9,FALSE)),"",(VLOOKUP(L21,$M$6:$V$612,9,0))) | F21: =IF(ISERROR(VLOOKUP(L21,$M$6:$V$612,10,0)),"",(VLOOKUP(L21,$M$6:$V$612,10,0))) | G21: =IF(ISERROR(VLOOKUP(L21,$M$6:$V$612,5,0)),"",(VLOOKUP(L21,$M$6:$V$612,5,0))) | H21: =IF(ISERROR(VLOOKUP(L21,$M$6:$V$612,4,0)),"",(VLOOKUP(L21,$M$6:$V$612,4,0))) | I21: =IF(ISERROR(VLOOKUP(L21,$M$6:$V$612,6,0)),"",(VLOOKUP(L21,$M$6:$V$612,6,0))) | L21: 16 | M21: =IF(P21>0,M20+1,M20) -> 0 | P21: =PIPE!H19 -> 0 | V21: =PIPE!G19 -> 0
B22: =IF(ISERROR(VLOOKUP(L22,$M$6:$V$612,7,0)),"",(VLOOKUP(L22,$M$6:$V628,7,0))) | C22: =IF(ISERROR(VLOOKUP(L22,$M$6:$V$612,2,0)),"",(VLOOKUP(L22,$M$6:$V$612,2,0))) | D22: =IF(ISERROR(VLOOKUP(L22,$M$6:$V$612,8,0)),"",(VLOOKUP(L22,$M$6:$V$612,8,0))) | E22: =IF(ISERROR(VLOOKUP(L22,$M$6:$V$612,9,FALSE)),"",(VLOOKUP(L22,$M$6:$V$612,9,0))) | F22: =IF(ISERROR(VLOOKUP(L22,$M$6:$V$612,10,0)),"",(VLOOKUP(L22,$M$6:$V$612,10,0))) | G22: =IF(ISERROR(VLOOKUP(L22,$M$6:$V$612,5,0)),"",(VLOOKUP(L22,$M$6:$V$612,5,0))) | H22: =IF(ISERROR(VLOOKUP(L22,$M$6:$V$612,4,0)),"",(VLOOKUP(L22,$M$6:$V$612,4,0))) | I22: =IF(ISERROR(VLOOKUP(L22,$M$6:$V$612,6,0)),"",(VLOOKUP(L22,$M$6:$V$612,6,0))) | L22: 17 | M22: =IF(P22>0,M21+1,M21) -> 0 | P22: =PIPE!H21 -> 0 | V22: =PIPE!G21 -> 0
B23: =IF(ISERROR(VLOOKUP(L23,$M$6:$V$612,7,0)),"",(VLOOKUP(L23,$M$6:$V629,7,0))) | C23: =IF(ISERROR(VLOOKUP(L23,$M$6:$V$612,2,0)),"",(VLOOKUP(L23,$M$6:$V$612,2,0))) | D23: =IF(ISERROR(VLOOKUP(L23,$M$6:$V$612,8,0)),"",(VLOOKUP(L23,$M$6:$V$612,8,0))) | E23: =IF(ISERROR(VLOOKUP(L23,$M$6:$V$612,9,FALSE)),"",(VLOOKUP(L23,$M$6:$V$612,9,0))) | F23: =IF(ISERROR(VLOOKUP(L23,$M$6:$V$612,10,0)),"",(VLOOKUP(L23,$M$6:$V$612,10,0))) | G23: =IF(ISERROR(VLOOKUP(L23,$M$6:$V$612,5,0)),"",(VLOOKUP(L23,$M$6:$V$612,5,0))) | H23: =IF(ISERROR(VLOOKUP(L23,$M$6:$V$612,4,0)),"",(VLOOKUP(L23,$M$6:$V$612,4,0))) | I23: =IF(ISERROR(VLOOKUP(L23,$M$6:$V$612,6,0)),"",(VLOOKUP(L23,$M$6:$V$612,6,0))) | L23: 18 | M23: =IF(P23>0,M22+1,M22) -> 0 | N23: =PIPE!$C$21 -> S Bend | P23: =PIPE!H22 -> 0 | Q23: =PIPE!I22 -> 74.44 | R23: =PIPE!K22 -> 0 | S23: =PIPE!D22 -> 2811106705 | T23: =PIPE!E22 -> 20 / ¾" | U23: =PIPE!F22 -> Use with Quick Drops to rotate pipe against wall (~6.5" offset) | V23: =PIPE!G22 -> 5
B24: =IF(ISERROR(VLOOKUP(L24,$M$6:$V$612,7,0)),"",(VLOOKUP(L24,$M$6:$V630,7,0))) | C24: =IF(ISERROR(VLOOKUP(L24,$M$6:$V$612,2,0)),"",(VLOOKUP(L24,$M$6:$V$612,2,0))) | D24: =IF(ISERROR(VLOOKUP(L24,$M$6:$V$612,8,0)),"",(VLOOKUP(L24,$M$6:$V$612,8,0))) | E24: =IF(ISERROR(VLOOKUP(L24,$M$6:$V$612,9,FALSE)),"",(VLOOKUP(L24,$M$6:$V$612,9,0))) | F24: =IF(ISERROR(VLOOKUP(L24,$M$6:$V$612,10,0)),"",(VLOOKUP(L24,$M$6:$V$612,10,0))) | G24: =IF(ISERROR(VLOOKUP(L24,$M$6:$V$612,5,0)),"",(VLOOKUP(L24,$M$6:$V$612,5,0))) | H24: =IF(ISERROR(VLOOKUP(L24,$M$6:$V$612,4,0)),"",(VLOOKUP(L24,$M$6:$V$612,4,0))) | I24: =IF(ISERROR(VLOOKUP(L24,$M$6:$V$612,6,0)),"",(VLOOKUP(L24,$M$6:$V$612,6,0))) | L24: 19 | M24: =IF(P24>0,M23+1,M23) -> 0 | N24: =PIPE!$C$21 -> S Bend | P24: =PIPE!H23 -> 0 | Q24: =PIPE!I23 -> 103.06 | R24: =PIPE!K23 -> 0 | S24: =PIPE!D23 -> 2811206705 | T24: =PIPE!E23 -> 25 / 1" | U24: =PIPE!F23 -> Use with Quick Drops to rotate pipe against wall (~6.5" offset) | V24: =PIPE!G23 -> 5
B25: =IF(ISERROR(VLOOKUP(L25,$M$6:$V$612,7,0)),"",(VLOOKUP(L25,$M$6:$V631,7,0))) | C25: =IF(ISERROR(VLOOKUP(L25,$M$6:$V$612,2,0)),"",(VLOOKUP(L25,$M$6:$V$612,2,0))) | D25: =IF(ISERROR(VLOOKUP(L25,$M$6:$V$612,8,0)),"",(VLOOKUP(L25,$M$6:$V$612,8,0))) | E25: =IF(ISERROR(VLOOKUP(L25,$M$6:$V$612,9,FALSE)),"",(VLOOKUP(L25,$M$6:$V$612,9,0))) | F25: =IF(ISERROR(VLOOKUP(L25,$M$6:$V$612,10,0)),"",(VLOOKUP(L25,$M$6:$V$612,10,0))) | G25: =IF(ISERROR(VLOOKUP(L25,$M$6:$V$612,5,0)),"",(VLOOKUP(L25,$M$6:$V$612,5,0))) | H25: =IF(ISERROR(VLOOKUP(L25,$M$6:$V$612,4,0)),"",(VLOOKUP(L25,$M$6:$V$612,4,0))) | I25: =IF(ISERROR(VLOOKUP(L25,$M$6:$V$612,6,0)),"",(VLOOKUP(L25,$M$6:$V$612,6,0))) | L25: 20 | M25: =IF(P25>0,M24+1,M24) -> 0
B26: =IF(ISERROR(VLOOKUP(L26,$M$6:$V$612,7,0)),"",(VLOOKUP(L26,$M$6:$V632,7,0))) | C26: =IF(ISERROR(VLOOKUP(L26,$M$6:$V$612,2,0)),"",(VLOOKUP(L26,$M$6:$V$612,2,0))) | D26: =IF(ISERROR(VLOOKUP(L26,$M$6:$V$612,8,0)),"",(VLOOKUP(L26,$M$6:$V$612,8,0))) | E26: =IF(ISERROR(VLOOKUP(L26,$M$6:$V$612,9,FALSE)),"",(VLOOKUP(L26,$M$6:$V$612,9,0))) | F26: =IF(ISERROR(VLOOKUP(L26,$M$6:$V$612,10,0)),"",(VLOOKUP(L26,$M$6:$V$612,10,0))) | G26: =IF(ISERROR(VLOOKUP(L26,$M$6:$V$612,5,0)),"",(VLOOKUP(L26,$M$6:$V$612,5,0))) | H26: =IF(ISERROR(VLOOKUP(L26,$M$6:$V$612,4,0)),"",(VLOOKUP(L26,$M$6:$V$612,4,0))) | I26: =IF(ISERROR(VLOOKUP(L26,$M$6:$V$612,6,0)),"",(VLOOKUP(L26,$M$6:$V$612,6,0))) | L26: 21 | M26: =IF(P26>0,M25+1,M25) -> 0 | N26: ='Straight Connection'!$C$3 -> Equal Union - PF Series | P26: ='Straight Connection'!H4 -> 0 | Q26: ='Straight Connection'!I4 -> 20.18 | R26: ='Straight Connection'!K4 -> 0 | S26: ='Straight Connection'!D4 -> 2811100280 | T26: ='Straight Connection'!E4 -> 20 / ¾" | U26: ='Straight Connection'!F4 -> Pipe to Pipe connector | V26: ='Straight Connection'!G4 -> 1
B27: =IF(ISERROR(VLOOKUP(L27,$M$6:$V$612,7,0)),"",(VLOOKUP(L27,$M$6:$V633,7,0))) | C27: =IF(ISERROR(VLOOKUP(L27,$M$6:$V$612,2,0)),"",(VLOOKUP(L27,$M$6:$V$612,2,0))) | D27: =IF(ISERROR(VLOOKUP(L27,$M$6:$V$612,8,0)),"",(VLOOKUP(L27,$M$6:$V$612,8,0))) | E27: =IF(ISERROR(VLOOKUP(L27,$M$6:$V$612,9,FALSE)),"",(VLOOKUP(L27,$M$6:$V$612,9,0))) | F27: =IF(ISERROR(VLOOKUP(L27,$M$6:$V$612,10,0)),"",(VLOOKUP(L27,$M$6:$V$612,10,0))) | G27: =IF(ISERROR(VLOOKUP(L27,$M$6:$V$612,5,0)),"",(VLOOKUP(L27,$M$6:$V$612,5,0))) | H27: =IF(ISERROR(VLOOKUP(L27,$M$6:$V$612,4,0)),"",(VLOOKUP(L27,$M$6:$V$612,4,0))) | I27: =IF(ISERROR(VLOOKUP(L27,$M$6:$V$612,6,0)),"",(VLOOKUP(L27,$M$6:$V$612,6,0))) | L27: 22 | M27: =IF(P27>0,M26+1,M26) -> 0 | N27: ='Straight Connection'!$C$3 -> Equal Union - PF Series | P27: ='Straight Connection'!H5 -> 0 | Q27: ='Straight Connection'!I5 -> 30.83 | R27: ='Straight Connection'!K5 -> 0 | S27: ='Straight Connection'!D5 -> 2811200280 | T27: ='Straight Connection'!E5 -> 25 / 1" | U27: ='Straight Connection'!F5 -> Pipe to Pipe connector | V27: ='Straight Connection'!G5 -> 1
B28: =IF(ISERROR(VLOOKUP(L28,$M$6:$V$612,7,0)),"",(VLOOKUP(L28,$M$6:$V634,7,0))) | C28: =IF(ISERROR(VLOOKUP(L28,$M$6:$V$612,2,0)),"",(VLOOKUP(L28,$M$6:$V$612,2,0))) | D28: =IF(ISERROR(VLOOKUP(L28,$M$6:$V$612,8,0)),"",(VLOOKUP(L28,$M$6:$V$612,8,0))) | E28: =IF(ISERROR(VLOOKUP(L28,$M$6:$V$612,9,FALSE)),"",(VLOOKUP(L28,$M$6:$V$612,9,0))) | F28: =IF(ISERROR(VLOOKUP(L28,$M$6:$V$612,10,0)),"",(VLOOKUP(L28,$M$6:$V$612,10,0))) | G28: =IF(ISERROR(VLOOKUP(L28,$M$6:$V$612,5,0)),"",(VLOOKUP(L28,$M$6:$V$612,5,0))) | H28: =IF(ISERROR(VLOOKUP(L28,$M$6:$V$612,4,0)),"",(VLOOKUP(L28,$M$6:$V$612,4,0))) | I28: =IF(ISERROR(VLOOKUP(L28,$M$6:$V$612,6,0)),"",(VLOOKUP(L28,$M$6:$V$612,6,0))) | L28: 23 | M28: =IF(P28>0,M27+1,M27) -> 0 | N28: ='Straight Connection'!$C$3 -> Equal Union - PF Series | P28: ='Straight Connection'!H6 -> 0 | Q28: ='Straight Connection'!I6 -> 53.46 | R28: ='Straight Connection'!K6 -> 0 | S28: ='Straight Connection'!D6 -> 2811400280 | T28: ='Straight Connection'!E6 -> 40 / 1½" | U28: ='Straight Connection'!F6 -> Pipe to Pipe connector | V28: ='Straight Connection'!G6 -> 1
B29: =IF(ISERROR(VLOOKUP(L29,$M$6:$V$612,7,0)),"",(VLOOKUP(L29,$M$6:$V635,7,0))) | C29: =IF(ISERROR(VLOOKUP(L29,$M$6:$V$612,2,0)),"",(VLOOKUP(L29,$M$6:$V$612,2,0))) | D29: =IF(ISERROR(VLOOKUP(L29,$M$6:$V$612,8,0)),"",(VLOOKUP(L29,$M$6:$V$612,8,0))) | E29: =IF(ISERROR(VLOOKUP(L29,$M$6:$V$612,9,FALSE)),"",(VLOOKUP(L29,$M$6:$V$612,9,0))) | F29: =IF(ISERROR(VLOOKUP(L29,$M$6:$V$612,10,0)),"",(VLOOKUP(L29,$M$6:$V$612,10,0))) | G29: =IF(ISERROR(VLOOKUP(L29,$M$6:$V$612,5,0)),"",(VLOOKUP(L29,$M$6:$V$612,5,0))) | H29: =IF(ISERROR(VLOOKUP(L29,$M$6:$V$612,4,0)),"",(VLOOKUP(L29,$M$6:$V$612,4,0))) | I29: =IF(ISERROR(VLOOKUP(L29,$M$6:$V$612,6,0)),"",(VLOOKUP(L29,$M$6:$V$612,6,0))) | L29: 24 | M29: =IF(P29>0,M28+1,M28) -> 0 | N29: ='Straight Connection'!$C$3 -> Equal Union - PF Series | P29: ='Straight Connection'!H7 -> 0 | Q29: ='Straight Connection'!I7 -> 67.22 | R29: ='Straight Connection'!K7 -> 0 | S29: ='Straight Connection'!D7 -> 2811500280 | T29: ='Straight Connection'!E7 -> 50 / 2" | U29: ='Straight Connection'!F7 -> Pipe to Pipe connector | V29: ='Straight Connection'!G7 -> 1
B30: =IF(ISERROR(VLOOKUP(L30,$M$6:$V$612,7,0)),"",(VLOOKUP(L30,$M$6:$V636,7,0))) | C30: =IF(ISERROR(VLOOKUP(L30,$M$6:$V$612,2,0)),"",(VLOOKUP(L30,$M$6:$V$612,2,0))) | D30: =IF(ISERROR(VLOOKUP(L30,$M$6:$V$612,8,0)),"",(VLOOKUP(L30,$M$6:$V$612,8,0))) | E30: =IF(ISERROR(VLOOKUP(L30,$M$6:$V$612,9,FALSE)),"",(VLOOKUP(L30,$M$6:$V$612,9,0))) | F30: =IF(ISERROR(VLOOKUP(L30,$M$6:$V$612,10,0)),"",(VLOOKUP(L30,$M$6:$V$612,10,0))) | G30: =IF(ISERROR(VLOOKUP(L30,$M$6:$V$612,5,0)),"",(VLOOKUP(L30,$M$6:$V$612,5,0))) | H30: =IF(ISERROR(VLOOKUP(L30,$M$6:$V$612,4,0)),"",(VLOOKUP(L30,$M$6:$V$612,4,0))) | I30: =IF(ISERROR(VLOOKUP(L30,$M$6:$V$612,6,0)),"",(VLOOKUP(L30,$M$6:$V$612,6,0))) | L30: 25 | M30: =IF(P30>0,M29+1,M29) -> 0 | P30: ='Straight Connection'!H8 -> 0 | S30: ='Straight Connection'!D8 -> 0 | T30: ='Straight Connection'!E8 -> 0 | U30: ='Straight Connection'!F8 -> 0 | V30: ='Straight Connection'!G8 -> 0
B31: =IF(ISERROR(VLOOKUP(L31,$M$6:$V$612,7,0)),"",(VLOOKUP(L31,$M$6:$V637,7,0))) | C31: =IF(ISERROR(VLOOKUP(L31,$M$6:$V$612,2,0)),"",(VLOOKUP(L31,$M$6:$V$612,2,0))) | D31: =IF(ISERROR(VLOOKUP(L31,$M$6:$V$612,8,0)),"",(VLOOKUP(L31,$M$6:$V$612,8,0))) | E31: =IF(ISERROR(VLOOKUP(L31,$M$6:$V$612,9,FALSE)),"",(VLOOKUP(L31,$M$6:$V$612,9,0))) | F31: =IF(ISERROR(VLOOKUP(L31,$M$6:$V$612,10,0)),"",(VLOOKUP(L31,$M$6:$V$612,10,0))) | G31: =IF(ISERROR(VLOOKUP(L31,$M$6:$V$612,5,0)),"",(VLOOKUP(L31,$M$6:$V$612,5,0))) | H31: =IF(ISERROR(VLOOKUP(L31,$M$6:$V$612,4,0)),"",(VLOOKUP(L31,$M$6:$V$612,4,0))) | I31: =IF(ISERROR(VLOOKUP(L31,$M$6:$V$612,6,0)),"",(VLOOKUP(L31,$M$6:$V$612,6,0))) | L31: 26 | M31: =IF(P31>0,M30+1,M30) -> 0 | P31: ='Straight Connection'!H9 -> 0 | S31: ='Straight Connection'!D9 -> 0 | T31: ='Straight Connection'!E9 -> 0 | U31: ='Straight Connection'!F9 -> 0 | V31: ='Straight Connection'!G9 -> 0
B32: =IF(ISERROR(VLOOKUP(L32,$M$6:$V$612,7,0)),"",(VLOOKUP(L32,$M$6:$V638,7,0))) | C32: =IF(ISERROR(VLOOKUP(L32,$M$6:$V$612,2,0)),"",(VLOOKUP(L32,$M$6:$V$612,2,0))) | D32: =IF(ISERROR(VLOOKUP(L32,$M$6:$V$612,8,0)),"",(VLOOKUP(L32,$M$6:$V$612,8,0))) | E32: =IF(ISERROR(VLOOKUP(L32,$M$6:$V$612,9,FALSE)),"",(VLOOKUP(L32,$M$6:$V$612,9,0))) | F32: =IF(ISERROR(VLOOKUP(L32,$M$6:$V$612,10,0)),"",(VLOOKUP(L32,$M$6:$V$612,10,0))) | G32: =IF(ISERROR(VLOOKUP(L32,$M$6:$V$612,5,0)),"",(VLOOKUP(L32,$M$6:$V$612,5,0))) | H32: =IF(ISERROR(VLOOKUP(L32,$M$6:$V$612,4,0)),"",(VLOOKUP(L32,$M$6:$V$612,4,0))) | I32: =IF(ISERROR(VLOOKUP(L32,$M$6:$V$612,6,0)),"",(VLOOKUP(L32,$M$6:$V$612,6,0))) | L32: 27 | M32: =IF(P32>0,M31+1,M31) -> 0 | N32: ='Straight Connection'!$C$3 -> Equal Union - PF Series | P32: ='Straight Connection'!H10 -> 0 | Q32: ='Straight Connection'!I10 -> 82.08 | R32: ='Straight Connection'!K10 -> 0 | S32: ='Straight Connection'!D10 -> 2811600290 | T32: ='Straight Connection'!E10 -> 63 / 2½" | U32: ='Straight Connection'!F10 -> Pipe to Pipe connector | V32: ='Straight Connection'!G10 -> 1
B33: =IF(ISERROR(VLOOKUP(L33,$M$6:$V$612,7,0)),"",(VLOOKUP(L33,$M$6:$V639,7,0))) | C33: =IF(ISERROR(VLOOKUP(L33,$M$6:$V$612,2,0)),"",(VLOOKUP(L33,$M$6:$V$612,2,0))) | D33: =IF(ISERROR(VLOOKUP(L33,$M$6:$V$612,8,0)),"",(VLOOKUP(L33,$M$6:$V$612,8,0))) | E33: =IF(ISERROR(VLOOKUP(L33,$M$6:$V$612,9,FALSE)),"",(VLOOKUP(L33,$M$6:$V$612,9,0))) | F33: =IF(ISERROR(VLOOKUP(L33,$M$6:$V$612,10,0)),"",(VLOOKUP(L33,$M$6:$V$612,10,0))) | G33: =IF(ISERROR(VLOOKUP(L33,$M$6:$V$612,5,0)),"",(VLOOKUP(L33,$M$6:$V$612,5,0))) | H33: =IF(ISERROR(VLOOKUP(L33,$M$6:$V$612,4,0)),"",(VLOOKUP(L33,$M$6:$V$612,4,0))) | I33: =IF(ISERROR(VLOOKUP(L33,$M$6:$V$612,6,0)),"",(VLOOKUP(L33,$M$6:$V$612,6,0))) | L33: 28 | M33: =IF(P33>0,M32+1,M32) -> 0 | N33: ='Straight Connection'!$C$3 -> Equal Union - PF Series | P33: ='Straight Connection'!H11 -> 0 | Q33: ='Straight Connection'!I11 -> 111.6 | R33: ='Straight Connection'!K11 -> 0 | S33: ='Straight Connection'!D11 -> 2811700290 | T33: ='Straight Connection'!E11 -> 80 / 3" | U33: ='Straight Connection'!F11 -> Pipe to Pipe connector | V33: ='Straight Connection'!G11 -> 1
B34: =IF(ISERROR(VLOOKUP(L34,$M$6:$V$612,7,0)),"",(VLOOKUP(L34,$M$6:$V640,7,0))) | C34: =IF(ISERROR(VLOOKUP(L34,$M$6:$V$612,2,0)),"",(VLOOKUP(L34,$M$6:$V$612,2,0))) | D34: =IF(ISERROR(VLOOKUP(L34,$M$6:$V$612,8,0)),"",(VLOOKUP(L34,$M$6:$V$612,8,0))) | E34: =IF(ISERROR(VLOOKUP(L34,$M$6:$V$612,9,FALSE)),"",(VLOOKUP(L34,$M$6:$V$612,9,0))) | F34: =IF(ISERROR(VLOOKUP(L34,$M$6:$V$612,10,0)),"",(VLOOKUP(L34,$M$6:$V$612,10,0))) | G34: =IF(ISERROR(VLOOKUP(L34,$M$6:$V$612,5,0)),"",(VLOOKUP(L34,$M$6:$V$612,5,0))) | H34: =IF(ISERROR(VLOOKUP(L34,$M$6:$V$612,4,0)),"",(VLOOKUP(L34,$M$6:$V$612,4,0))) | I34: =IF(ISERROR(VLOOKUP(L34,$M$6:$V$612,6,0)),"",(VLOOKUP(L34,$M$6:$V$612,6,0))) | L34: 29 | M34: =IF(P34>0,M33+1,M33) -> 0 | N34: ='Straight Connection'!$C$3 -> Equal Union - PF Series | P34: ='Straight Connection'!H12 -> 0 | Q34: ='Straight Connection'!I12 -> 146.21 | R34: ='Straight Connection'!K12 -> 0 | S34: ='Straight Connection'!D12 -> 2810880200 | T34: ='Straight Connection'!E12 -> 100 / 4" | U34: ='Straight Connection'!F12 -> Pipe to Pipe or Pipe to Fitting | V34: ='Straight Connection'!G12 -> 1
B35: =IF(ISERROR(VLOOKUP(L35,$M$6:$V$612,7,0)),"",(VLOOKUP(L35,$M$6:$V641,7,0))) | C35: =IF(ISERROR(VLOOKUP(L35,$M$6:$V$612,2,0)),"",(VLOOKUP(L35,$M$6:$V$612,2,0))) | D35: =IF(ISERROR(VLOOKUP(L35,$M$6:$V$612,8,0)),"",(VLOOKUP(L35,$M$6:$V$612,8,0))) | E35: =IF(ISERROR(VLOOKUP(L35,$M$6:$V$612,9,FALSE)),"",(VLOOKUP(L35,$M$6:$V$612,9,0))) | F35: =IF(ISERROR(VLOOKUP(L35,$M$6:$V$612,10,0)),"",(VLOOKUP(L35,$M$6:$V$612,10,0))) | G35: =IF(ISERROR(VLOOKUP(L35,$M$6:$V$612,5,0)),"",(VLOOKUP(L35,$M$6:$V$612,5,0))) | H35: =IF(ISERROR(VLOOKUP(L35,$M$6:$V$612,4,0)),"",(VLOOKUP(L35,$M$6:$V$612,4,0))) | I35: =IF(ISERROR(VLOOKUP(L35,$M$6:$V$612,6,0)),"",(VLOOKUP(L35,$M$6:$V$612,6,0))) | L35: 30 | M35: =IF(P35>0,M34+1,M34) -> 0 | N35: ='Straight Connection'!$C$3 -> Equal Union - PF Series | P35: ='Straight Connection'!H13 -> 0 | Q35: ='Straight Connection'!I13 -> 157.84 | R35: ='Straight Connection'!K13 -> 0 | S35: ='Straight Connection'!D13 -> 2810900200 | T35: ='Straight Connection'!E13 -> 158 / 6" | U35: ='Straight Connection'!F13 -> Pipe to Pipe or Pipe to Fitting | V35: ='Straight Connection'!G13 -> 1
B36: =IF(ISERROR(VLOOKUP(L36,$M$6:$V$612,7,0)),"",(VLOOKUP(L36,$M$6:$V642,7,0))) | C36: =IF(ISERROR(VLOOKUP(L36,$M$6:$V$612,2,0)),"",(VLOOKUP(L36,$M$6:$V$612,2,0))) | D36: =IF(ISERROR(VLOOKUP(L36,$M$6:$V$612,8,0)),"",(VLOOKUP(L36,$M$6:$V$612,8,0))) | E36: =IF(ISERROR(VLOOKUP(L36,$M$6:$V$612,9,FALSE)),"",(VLOOKUP(L36,$M$6:$V$612,9,0))) | F36: =IF(ISERROR(VLOOKUP(L36,$M$6:$V$612,10,0)),"",(VLOOKUP(L36,$M$6:$V$612,10,0))) | G36: =IF(ISERROR(VLOOKUP(L36,$M$6:$V$612,5,0)),"",(VLOOKUP(L36,$M$6:$V$612,5,0))) | H36: =IF(ISERROR(VLOOKUP(L36,$M$6:$V$612,4,0)),"",(VLOOKUP(L36,$M$6:$V$612,4,0))) | I36: =IF(ISERROR(VLOOKUP(L36,$M$6:$V$612,6,0)),"",(VLOOKUP(L36,$M$6:$V$612,6,0))) | L36: 31 | M36: =IF(P36>0,M35+1,M35) -> 0
B37: =IF(ISERROR(VLOOKUP(L37,$M$6:$V$612,7,0)),"",(VLOOKUP(L37,$M$6:$V643,7,0))) | C37: =IF(ISERROR(VLOOKUP(L37,$M$6:$V$612,2,0)),"",(VLOOKUP(L37,$M$6:$V$612,2,0))) | D37: =IF(ISERROR(VLOOKUP(L37,$M$6:$V$612,8,0)),"",(VLOOKUP(L37,$M$6:$V$612,8,0))) | E37: =IF(ISERROR(VLOOKUP(L37,$M$6:$V$612,9,FALSE)),"",(VLOOKUP(L37,$M$6:$V$612,9,0))) | F37: =IF(ISERROR(VLOOKUP(L37,$M$6:$V$612,10,0)),"",(VLOOKUP(L37,$M$6:$V$612,10,0))) | G37: =IF(ISERROR(VLOOKUP(L37,$M$6:$V$612,5,0)),"",(VLOOKUP(L37,$M$6:$V$612,5,0))) | H37: =IF(ISERROR(VLOOKUP(L37,$M$6:$V$612,4,0)),"",(VLOOKUP(L37,$M$6:$V$612,4,0))) | I37: =IF(ISERROR(VLOOKUP(L37,$M$6:$V$612,6,0)),"",(VLOOKUP(L37,$M$6:$V$612,6,0))) | L37: 32 | M37: =IF(P37>0,M36+1,M36) -> 0
B38: =IF(ISERROR(VLOOKUP(L38,$M$6:$V$612,7,0)),"",(VLOOKUP(L38,$M$6:$V644,7,0))) | C38: =IF(ISERROR(VLOOKUP(L38,$M$6:$V$612,2,0)),"",(VLOOKUP(L38,$M$6:$V$612,2,0))) | D38: =IF(ISERROR(VLOOKUP(L38,$M$6:$V$612,8,0)),"",(VLOOKUP(L38,$M$6:$V$612,8,0))) | E38: =IF(ISERROR(VLOOKUP(L38,$M$6:$V$612,9,FALSE)),"",(VLOOKUP(L38,$M$6:$V$612,9,0))) | F38: =IF(ISERROR(VLOOKUP(L38,$M$6:$V$612,10,0)),"",(VLOOKUP(L38,$M$6:$V$612,10,0))) | G38: =IF(ISERROR(VLOOKUP(L38,$M$6:$V$612,5,0)),"",(VLOOKUP(L38,$M$6:$V$612,5,0))) | H38: =IF(ISERROR(VLOOKUP(L38,$M$6:$V$612,4,0)),"",(VLOOKUP(L38,$M$6:$V$612,4,0))) | I38: =IF(ISERROR(VLOOKUP(L38,$M$6:$V$612,6,0)),"",(VLOOKUP(L38,$M$6:$V$612,6,0))) | L38: 33 | M38: =IF(P38>0,M37+1,M37) -> 0 | N38: ='Straight Connection'!$C$15 -> 90° Elbows - PF Series | P38: ='Straight Connection'!H16 -> 0 | Q38: ='Straight Connection'!I16 -> 28.87 | R38: ='Straight Connection'!K16 -> 0 | S38: ='Straight Connection'!D16 -> 2811100380 | T38: ='Straight Connection'!E16 -> 20 / ¾" | U38: ='Straight Connection'!F16 -> 0 | V38: ='Straight Connection'!G16 -> 1
B39: =IF(ISERROR(VLOOKUP(L39,$M$6:$V$612,7,0)),"",(VLOOKUP(L39,$M$6:$V645,7,0))) | C39: =IF(ISERROR(VLOOKUP(L39,$M$6:$V$612,2,0)),"",(VLOOKUP(L39,$M$6:$V$612,2,0))) | D39: =IF(ISERROR(VLOOKUP(L39,$M$6:$V$612,8,0)),"",(VLOOKUP(L39,$M$6:$V$612,8,0))) | E39: =IF(ISERROR(VLOOKUP(L39,$M$6:$V$612,9,FALSE)),"",(VLOOKUP(L39,$M$6:$V$612,9,0))) | F39: =IF(ISERROR(VLOOKUP(L39,$M$6:$V$612,10,0)),"",(VLOOKUP(L39,$M$6:$V$612,10,0))) | G39: =IF(ISERROR(VLOOKUP(L39,$M$6:$V$612,5,0)),"",(VLOOKUP(L39,$M$6:$V$612,5,0))) | H39: =IF(ISERROR(VLOOKUP(L39,$M$6:$V$612,4,0)),"",(VLOOKUP(L39,$M$6:$V$612,4,0))) | I39: =IF(ISERROR(VLOOKUP(L39,$M$6:$V$612,6,0)),"",(VLOOKUP(L39,$M$6:$V$612,6,0))) | L39: 34 | M39: =IF(P39>0,M38+1,M38) -> 0 | N39: ='Straight Connection'!$C$15 -> 90° Elbows - PF Series | P39: ='Straight Connection'!H17 -> 0 | Q39: ='Straight Connection'!I17 -> 36.55 | R39: ='Straight Connection'!K17 -> 0 | S39: ='Straight Connection'!D17 -> 2811200380 | T39: ='Straight Connection'!E17 -> 25 / 1" | U39: ='Straight Connection'!F17 -> 0 | V39: ='Straight Connection'!G17 -> 1
B40: =IF(ISERROR(VLOOKUP(L40,$M$6:$V$612,7,0)),"",(VLOOKUP(L40,$M$6:$V646,7,0))) | C40: =IF(ISERROR(VLOOKUP(L40,$M$6:$V$612,2,0)),"",(VLOOKUP(L40,$M$6:$V$612,2,0))) | D40: =IF(ISERROR(VLOOKUP(L40,$M$6:$V$612,8,0)),"",(VLOOKUP(L40,$M$6:$V$612,8,0))) | E40: =IF(ISERROR(VLOOKUP(L40,$M$6:$V$612,9,FALSE)),"",(VLOOKUP(L40,$M$6:$V$612,9,0))) | F40: =IF(ISERROR(VLOOKUP(L40,$M$6:$V$612,10,0)),"",(VLOOKUP(L40,$M$6:$V$612,10,0))) | G40: =IF(ISERROR(VLOOKUP(L40,$M$6:$V$612,5,0)),"",(VLOOKUP(L40,$M$6:$V$612,5,0))) | H40: =IF(ISERROR(VLOOKUP(L40,$M$6:$V$612,4,0)),"",(VLOOKUP(L40,$M$6:$V$612,4,0))) | I40: =IF(ISERROR(VLOOKUP(L40,$M$6:$V$612,6,0)),"",(VLOOKUP(L40,$M$6:$V$612,6,0))) | L40: 35 | M40: =IF(P40>0,M39+1,M39) -> 0 | N40: ='Straight Connection'!$C$15 -> 90° Elbows - PF Series | P40: ='Straight Connection'!H18 -> 0 | Q40: ='Straight Connection'!I18 -> 57.12 | R40: ='Straight Connection'!K18 -> 0 | S40: ='Straight Connection'!D18 -> 2811400380 | T40: ='Straight Connection'!E18 -> 40 / 1½" | U40: ='Straight Connection'!F18 -> 0 | V40: ='Straight Connection'!G18 -> 1
B41: =IF(ISERROR(VLOOKUP(L41,$M$6:$V$612,7,0)),"",(VLOOKUP(L41,$M$6:$V647,7,0))) | C41: =IF(ISERROR(VLOOKUP(L41,$M$6:$V$612,2,0)),"",(VLOOKUP(L41,$M$6:$V$612,2,0))) | D41: =IF(ISERROR(VLOOKUP(L41,$M$6:$V$612,8,0)),"",(VLOOKUP(L41,$M$6:$V$612,8,0))) | E41: =IF(ISERROR(VLOOKUP(L41,$M$6:$V$612,9,FALSE)),"",(VLOOKUP(L41,$M$6:$V$612,9,0))) | F41: =IF(ISERROR(VLOOKUP(L41,$M$6:$V$612,10,0)),"",(VLOOKUP(L41,$M$6:$V$612,10,0))) | G41: =IF(ISERROR(VLOOKUP(L41,$M$6:$V$612,5,0)),"",(VLOOKUP(L41,$M$6:$V$612,5,0))) | H41: =IF(ISERROR(VLOOKUP(L41,$M$6:$V$612,4,0)),"",(VLOOKUP(L41,$M$6:$V$612,4,0))) | I41: =IF(ISERROR(VLOOKUP(L41,$M$6:$V$612,6,0)),"",(VLOOKUP(L41,$M$6:$V$612,6,0))) | L41: 36 | M41: =IF(P41>0,M40+1,M40) -> 0 | N41: ='Straight Connection'!$C$15 -> 90° Elbows - PF Series | P41: ='Straight Connection'!H19 -> 0 | Q41: ='Straight Connection'!I19 -> 76.31 | R41: ='Straight Connection'!K19 -> 0 | S41: ='Straight Connection'!D19 -> 2811500380 | T41: ='Straight Connection'!E19 -> 50 / 2" | U41: ='Straight Connection'!F19 -> 0 | V41: ='Straight Connection'!G19 -> 1
B42: =IF(ISERROR(VLOOKUP(L42,$M$6:$V$612,7,0)),"",(VLOOKUP(L42,$M$6:$V648,7,0))) | C42: =IF(ISERROR(VLOOKUP(L42,$M$6:$V$612,2,0)),"",(VLOOKUP(L42,$M$6:$V$612,2,0))) | D42: =IF(ISERROR(VLOOKUP(L42,$M$6:$V$612,8,0)),"",(VLOOKUP(L42,$M$6:$V$612,8,0))) | E42: =IF(ISERROR(VLOOKUP(L42,$M$6:$V$612,9,FALSE)),"",(VLOOKUP(L42,$M$6:$V$612,9,0))) | F42: =IF(ISERROR(VLOOKUP(L42,$M$6:$V$612,10,0)),"",(VLOOKUP(L42,$M$6:$V$612,10,0))) | G42: =IF(ISERROR(VLOOKUP(L42,$M$6:$V$612,5,0)),"",(VLOOKUP(L42,$M$6:$V$612,5,0))) | H42: =IF(ISERROR(VLOOKUP(L42,$M$6:$V$612,4,0)),"",(VLOOKUP(L42,$M$6:$V$612,4,0))) | I42: =IF(ISERROR(VLOOKUP(L42,$M$6:$V$612,6,0)),"",(VLOOKUP(L42,$M$6:$V$612,6,0))) | L42: 37 | M42: =IF(P42>0,M41+1,M41) -> 0
B43: =IF(ISERROR(VLOOKUP(L43,$M$6:$V$612,7,0)),"",(VLOOKUP(L43,$M$6:$V649,7,0))) | C43: =IF(ISERROR(VLOOKUP(L43,$M$6:$V$612,2,0)),"",(VLOOKUP(L43,$M$6:$V$612,2,0))) | D43: =IF(ISERROR(VLOOKUP(L43,$M$6:$V$612,8,0)),"",(VLOOKUP(L43,$M$6:$V$612,8,0))) | E43: =IF(ISERROR(VLOOKUP(L43,$M$6:$V$612,9,FALSE)),"",(VLOOKUP(L43,$M$6:$V$612,9,0))) | F43: =IF(ISERROR(VLOOKUP(L43,$M$6:$V$612,10,0)),"",(VLOOKUP(L43,$M$6:$V$612,10,0))) | G43: =IF(ISERROR(VLOOKUP(L43,$M$6:$V$612,5,0)),"",(VLOOKUP(L43,$M$6:$V$612,5,0))) | H43: =IF(ISERROR(VLOOKUP(L43,$M$6:$V$612,4,0)),"",(VLOOKUP(L43,$M$6:$V$612,4,0))) | I43: =IF(ISERROR(VLOOKUP(L43,$M$6:$V$612,6,0)),"",(VLOOKUP(L43,$M$6:$V$612,6,0))) | L43: 38 | M43: =IF(P43>0,M42+1,M42) -> 0 | P43: ='Straight Connection'!H20 -> 0 | S43: ='Straight Connection'!D20 -> 0 | T43: ='Straight Connection'!E20 -> 0 | U43: ='Straight Connection'!F20 -> 0 | V43: ='Straight Connection'!G20 -> 0
B44: =IF(ISERROR(VLOOKUP(L44,$M$6:$V$612,7,0)),"",(VLOOKUP(L44,$M$6:$V650,7,0))) | C44: =IF(ISERROR(VLOOKUP(L44,$M$6:$V$612,2,0)),"",(VLOOKUP(L44,$M$6:$V$612,2,0))) | D44: =IF(ISERROR(VLOOKUP(L44,$M$6:$V$612,8,0)),"",(VLOOKUP(L44,$M$6:$V$612,8,0))) | E44: =IF(ISERROR(VLOOKUP(L44,$M$6:$V$612,9,FALSE)),"",(VLOOKUP(L44,$M$6:$V$612,9,0))) | F44: =IF(ISERROR(VLOOKUP(L44,$M$6:$V$612,10,0)),"",(VLOOKUP(L44,$M$6:$V$612,10,0))) | G44: =IF(ISERROR(VLOOKUP(L44,$M$6:$V$612,5,0)),"",(VLOOKUP(L44,$M$6:$V$612,5,0))) | H44: =IF(ISERROR(VLOOKUP(L44,$M$6:$V$612,4,0)),"",(VLOOKUP(L44,$M$6:$V$612,4,0))) | I44: =IF(ISERROR(VLOOKUP(L44,$M$6:$V$612,6,0)),"",(VLOOKUP(L44,$M$6:$V$612,6,0))) | L44: 39 | M44: =IF(P44>0,M43+1,M43) -> 0 | P44: ='Straight Connection'!H21 -> 0 | S44: ='Straight Connection'!D21 -> 0 | T44: ='Straight Connection'!E21 -> 0 | U44: ='Straight Connection'!F21 -> 0 | V44: ='Straight Connection'!G21 -> 0
B45: =IF(ISERROR(VLOOKUP(L45,$M$6:$V$612,7,0)),"",(VLOOKUP(L45,$M$6:$V651,7,0))) | C45: =IF(ISERROR(VLOOKUP(L45,$M$6:$V$612,2,0)),"",(VLOOKUP(L45,$M$6:$V$612,2,0))) | D45: =IF(ISERROR(VLOOKUP(L45,$M$6:$V$612,8,0)),"",(VLOOKUP(L45,$M$6:$V$612,8,0))) | E45: =IF(ISERROR(VLOOKUP(L45,$M$6:$V$612,9,FALSE)),"",(VLOOKUP(L45,$M$6:$V$612,9,0))) | F45: =IF(ISERROR(VLOOKUP(L45,$M$6:$V$612,10,0)),"",(VLOOKUP(L45,$M$6:$V$612,10,0))) | G45: =IF(ISERROR(VLOOKUP(L45,$M$6:$V$612,5,0)),"",(VLOOKUP(L45,$M$6:$V$612,5,0))) | H45: =IF(ISERROR(VLOOKUP(L45,$M$6:$V$612,4,0)),"",(VLOOKUP(L45,$M$6:$V$612,4,0))) | I45: =IF(ISERROR(VLOOKUP(L45,$M$6:$V$612,6,0)),"",(VLOOKUP(L45,$M$6:$V$612,6,0))) | L45: 40 | M45: =IF(P45>0,M44+1,M44) -> 0 | N45: ='Straight Connection'!$C$21 -> 90° Elbows - PM & Large Series | P45: ='Straight Connection'!H22 -> 0 | Q45: ='Straight Connection'!I22 -> 132.91 | R45: ='Straight Connection'!K22 -> 0 | S45: ='Straight Connection'!D22 -> 2811600390 | T45: ='Straight Connection'!E22 -> 63 / 2½" | U45: ='Straight Connection'!F22 -> 0 | V45: ='Straight Connection'!G22 -> 1
B46: =IF(ISERROR(VLOOKUP(L46,$M$6:$V$612,7,0)),"",(VLOOKUP(L46,$M$6:$V652,7,0))) | C46: =IF(ISERROR(VLOOKUP(L46,$M$6:$V$612,2,0)),"",(VLOOKUP(L46,$M$6:$V$612,2,0))) | D46: =IF(ISERROR(VLOOKUP(L46,$M$6:$V$612,8,0)),"",(VLOOKUP(L46,$M$6:$V$612,8,0))) | E46: =IF(ISERROR(VLOOKUP(L46,$M$6:$V$612,9,FALSE)),"",(VLOOKUP(L46,$M$6:$V$612,9,0))) | F46: =IF(ISERROR(VLOOKUP(L46,$M$6:$V$612,10,0)),"",(VLOOKUP(L46,$M$6:$V$612,10,0))) | G46: =IF(ISERROR(VLOOKUP(L46,$M$6:$V$612,5,0)),"",(VLOOKUP(L46,$M$6:$V$612,5,0))) | H46: =IF(ISERROR(VLOOKUP(L46,$M$6:$V$612,4,0)),"",(VLOOKUP(L46,$M$6:$V$612,4,0))) | I46: =IF(ISERROR(VLOOKUP(L46,$M$6:$V$612,6,0)),"",(VLOOKUP(L46,$M$6:$V$612,6,0))) | L46: 41 | M46: =IF(P46>0,M45+1,M45) -> 0 | N46: ='Straight Connection'!$C$21 -> 90° Elbows - PM & Large Series | P46: ='Straight Connection'!H23 -> 0 | Q46: ='Straight Connection'!I23 -> 155.64 | R46: ='Straight Connection'!K23 -> 0 | S46: ='Straight Connection'!D23 -> 2811700390 | T46: ='Straight Connection'!E23 -> 80 / 3" | U46: ='Straight Connection'!F23 -> 0 | V46: ='Straight Connection'!G23 -> 1
B47: =IF(ISERROR(VLOOKUP(L47,$M$6:$V$612,7,0)),"",(VLOOKUP(L47,$M$6:$V653,7,0))) | C47: =IF(ISERROR(VLOOKUP(L47,$M$6:$V$612,2,0)),"",(VLOOKUP(L47,$M$6:$V$612,2,0))) | D47: =IF(ISERROR(VLOOKUP(L47,$M$6:$V$612,8,0)),"",(VLOOKUP(L47,$M$6:$V$612,8,0))) | E47: =IF(ISERROR(VLOOKUP(L47,$M$6:$V$612,9,FALSE)),"",(VLOOKUP(L47,$M$6:$V$612,9,0))) | F47: =IF(ISERROR(VLOOKUP(L47,$M$6:$V$612,10,0)),"",(VLOOKUP(L47,$M$6:$V$612,10,0))) | G47: =IF(ISERROR(VLOOKUP(L47,$M$6:$V$612,5,0)),"",(VLOOKUP(L47,$M$6:$V$612,5,0))) | H47: =IF(ISERROR(VLOOKUP(L47,$M$6:$V$612,4,0)),"",(VLOOKUP(L47,$M$6:$V$612,4,0))) | I47: =IF(ISERROR(VLOOKUP(L47,$M$6:$V$612,6,0)),"",(VLOOKUP(L47,$M$6:$V$612,6,0))) | L47: 42 | M47: =IF(P47>0,M46+1,M46) -> 0 | N47: ='Straight Connection'!$C$21 -> 90° Elbows - PM & Large Series | P47: ='Straight Connection'!H24 -> 0 | Q47: ='Straight Connection'!I24 -> 188.98 | R47: ='Straight Connection'!K24 -> 0 | S47: ='Straight Connection'!D24 -> 2810800300 | T47: ='Straight Connection'!E24 -> 100 / 4" | U47: ='Straight Connection'!F24 -> Requires 2 Equal Unions | V47: ='Straight Connection'!G24 -> 1
B48: =IF(ISERROR(VLOOKUP(L48,$M$6:$V$612,7,0)),"",(VLOOKUP(L48,$M$6:$V654,7,0))) | C48: =IF(ISERROR(VLOOKUP(L48,$M$6:$V$612,2,0)),"",(VLOOKUP(L48,$M$6:$V$612,2,0))) | D48: =IF(ISERROR(VLOOKUP(L48,$M$6:$V$612,8,0)),"",(VLOOKUP(L48,$M$6:$V$612,8,0))) | E48: =IF(ISERROR(VLOOKUP(L48,$M$6:$V$612,9,FALSE)),"",(VLOOKUP(L48,$M$6:$V$612,9,0))) | F48: =IF(ISERROR(VLOOKUP(L48,$M$6:$V$612,10,0)),"",(VLOOKUP(L48,$M$6:$V$612,10,0))) | G48: =IF(ISERROR(VLOOKUP(L48,$M$6:$V$612,5,0)),"",(VLOOKUP(L48,$M$6:$V$612,5,0))) | H48: =IF(ISERROR(VLOOKUP(L48,$M$6:$V$612,4,0)),"",(VLOOKUP(L48,$M$6:$V$612,4,0))) | I48: =IF(ISERROR(VLOOKUP(L48,$M$6:$V$612,6,0)),"",(VLOOKUP(L48,$M$6:$V$612,6,0))) | L48: 43 | M48: =IF(P48>0,M47+1,M47) -> 0 | N48: ='Straight Connection'!$C$21 -> 90° Elbows - PM & Large Series | P48: ='Straight Connection'!H25 -> 0 | Q48: ='Straight Connection'!I25 -> 269.67 | R48: ='Straight Connection'!K25 -> 0 | S48: ='Straight Connection'!D25 -> 2810900300 | T48: ='Straight Connection'!E25 -> 158 / 6" | U48: ='Straight Connection'!F25 -> Requires 2 Equal Unions | V48: ='Straight Connection'!G25 -> 1
B49: =IF(ISERROR(VLOOKUP(L49,$M$6:$V$612,7,0)),"",(VLOOKUP(L49,$M$6:$V655,7,0))) | C49: =IF(ISERROR(VLOOKUP(L49,$M$6:$V$612,2,0)),"",(VLOOKUP(L49,$M$6:$V$612,2,0))) | D49: =IF(ISERROR(VLOOKUP(L49,$M$6:$V$612,8,0)),"",(VLOOKUP(L49,$M$6:$V$612,8,0))) | E49: =IF(ISERROR(VLOOKUP(L49,$M$6:$V$612,9,FALSE)),"",(VLOOKUP(L49,$M$6:$V$612,9,0))) | F49: =IF(ISERROR(VLOOKUP(L49,$M$6:$V$612,10,0)),"",(VLOOKUP(L49,$M$6:$V$612,10,0))) | G49: =IF(ISERROR(VLOOKUP(L49,$M$6:$V$612,5,0)),"",(VLOOKUP(L49,$M$6:$V$612,5,0))) | H49: =IF(ISERROR(VLOOKUP(L49,$M$6:$V$612,4,0)),"",(VLOOKUP(L49,$M$6:$V$612,4,0))) | I49: =IF(ISERROR(VLOOKUP(L49,$M$6:$V$612,6,0)),"",(VLOOKUP(L49,$M$6:$V$612,6,0))) | L49: 44 | M49: =IF(P49>0,M48+1,M48) -> 0 | P49: ='Straight Connection'!H26 -> 0 | S49: ='Straight Connection'!D26 -> 0 | T49: ='Straight Connection'!E26 -> 0 | U49: ='Straight Connection'!F26 -> 0 | V49: ='Straight Connection'!G26 -> 0
B50: =IF(ISERROR(VLOOKUP(L50,$M$6:$V$612,7,0)),"",(VLOOKUP(L50,$M$6:$V656,7,0))) | C50: =IF(ISERROR(VLOOKUP(L50,$M$6:$V$612,2,0)),"",(VLOOKUP(L50,$M$6:$V$612,2,0))) | D50: =IF(ISERROR(VLOOKUP(L50,$M$6:$V$612,8,0)),"",(VLOOKUP(L50,$M$6:$V$612,8,0))) | E50: =IF(ISERROR(VLOOKUP(L50,$M$6:$V$612,9,FALSE)),"",(VLOOKUP(L50,$M$6:$V$612,9,0))) | F50: =IF(ISERROR(VLOOKUP(L50,$M$6:$V$612,10,0)),"",(VLOOKUP(L50,$M$6:$V$612,10,0))) | G50: =IF(ISERROR(VLOOKUP(L50,$M$6:$V$612,5,0)),"",(VLOOKUP(L50,$M$6:$V$612,5,0))) | H50: =IF(ISERROR(VLOOKUP(L50,$M$6:$V$612,4,0)),"",(VLOOKUP(L50,$M$6:$V$612,4,0))) | I50: =IF(ISERROR(VLOOKUP(L50,$M$6:$V$612,6,0)),"",(VLOOKUP(L50,$M$6:$V$612,6,0))) | L50: 45 | M50: =IF(P50>0,M49+1,M49) -> 0 | P50: ='Straight Connection'!H27 -> 0 | S50: ='Straight Connection'!D27 -> 0 | T50: ='Straight Connection'!E27 -> 0 | U50: ='Straight Connection'!F27 -> 0 | V50: ='Straight Connection'!G27 -> 0
B51: =IF(ISERROR(VLOOKUP(L51,$M$6:$V$612,7,0)),"",(VLOOKUP(L51,$M$6:$V657,7,0))) | C51: =IF(ISERROR(VLOOKUP(L51,$M$6:$V$612,2,0)),"",(VLOOKUP(L51,$M$6:$V$612,2,0))) | D51: =IF(ISERROR(VLOOKUP(L51,$M$6:$V$612,8,0)),"",(VLOOKUP(L51,$M$6:$V$612,8,0))) | E51: =IF(ISERROR(VLOOKUP(L51,$M$6:$V$612,9,FALSE)),"",(VLOOKUP(L51,$M$6:$V$612,9,0))) | F51: =IF(ISERROR(VLOOKUP(L51,$M$6:$V$612,10,0)),"",(VLOOKUP(L51,$M$6:$V$612,10,0))) | G51: =IF(ISERROR(VLOOKUP(L51,$M$6:$V$612,5,0)),"",(VLOOKUP(L51,$M$6:$V$612,5,0))) | H51: =IF(ISERROR(VLOOKUP(L51,$M$6:$V$612,4,0)),"",(VLOOKUP(L51,$M$6:$V$612,4,0))) | I51: =IF(ISERROR(VLOOKUP(L51,$M$6:$V$612,6,0)),"",(VLOOKUP(L51,$M$6:$V$612,6,0))) | L51: 46 | M51: =IF(P51>0,M50+1,M50) -> 0 | P51: ='Straight Connection'!H28 -> 0 | S51: ='Straight Connection'!D28 -> 0 | T51: ='Straight Connection'!E28 -> 0 | U51: ='Straight Connection'!F28 -> 0 | V51: ='Straight Connection'!G28 -> 0
B52: =IF(ISERROR(VLOOKUP(L52,$M$6:$V$612,7,0)),"",(VLOOKUP(L52,$M$6:$V658,7,0))) | C52: =IF(ISERROR(VLOOKUP(L52,$M$6:$V$612,2,0)),"",(VLOOKUP(L52,$M$6:$V$612,2,0))) | D52: =IF(ISERROR(VLOOKUP(L52,$M$6:$V$612,8,0)),"",(VLOOKUP(L52,$M$6:$V$612,8,0))) | E52: =IF(ISERROR(VLOOKUP(L52,$M$6:$V$612,9,FALSE)),"",(VLOOKUP(L52,$M$6:$V$612,9,0))) | F52: =IF(ISERROR(VLOOKUP(L52,$M$6:$V$612,10,0)),"",(VLOOKUP(L52,$M$6:$V$612,10,0))) | G52: =IF(ISERROR(VLOOKUP(L52,$M$6:$V$612,5,0)),"",(VLOOKUP(L52,$M$6:$V$612,5,0))) | H52: =IF(ISERROR(VLOOKUP(L52,$M$6:$V$612,4,0)),"",(VLOOKUP(L52,$M$6:$V$612,4,0))) | I52: =IF(ISERROR(VLOOKUP(L52,$M$6:$V$612,6,0)),"",(VLOOKUP(L52,$M$6:$V$612,6,0))) | L52: 47 | M52: =IF(P52>0,M51+1,M51) -> 0 | N52: ='Straight Connection'!$C$28 -> 45° Elbow - PF Series | P52: ='Straight Connection'!H29 -> 0 | Q52: ='Straight Connection'!I29 -> 32.49 | R52: ='Straight Connection'!K29 -> 0 | S52: ='Straight Connection'!D29 -> 2811100480 | T52: ='Straight Connection'!E29 -> 20 / ¾" | U52: ='Straight Connection'!F29 -> 0 | V52: ='Straight Connection'!G29 -> 1
B53: =IF(ISERROR(VLOOKUP(L53,$M$6:$V$612,7,0)),"",(VLOOKUP(L53,$M$6:$V659,7,0))) | C53: =IF(ISERROR(VLOOKUP(L53,$M$6:$V$612,2,0)),"",(VLOOKUP(L53,$M$6:$V$612,2,0))) | D53: =IF(ISERROR(VLOOKUP(L53,$M$6:$V$612,8,0)),"",(VLOOKUP(L53,$M$6:$V$612,8,0))) | E53: =IF(ISERROR(VLOOKUP(L53,$M$6:$V$612,9,FALSE)),"",(VLOOKUP(L53,$M$6:$V$612,9,0))) | F53: =IF(ISERROR(VLOOKUP(L53,$M$6:$V$612,10,0)),"",(VLOOKUP(L53,$M$6:$V$612,10,0))) | G53: =IF(ISERROR(VLOOKUP(L53,$M$6:$V$612,5,0)),"",(VLOOKUP(L53,$M$6:$V$612,5,0))) | H53: =IF(ISERROR(VLOOKUP(L53,$M$6:$V$612,4,0)),"",(VLOOKUP(L53,$M$6:$V$612,4,0))) | I53: =IF(ISERROR(VLOOKUP(L53,$M$6:$V$612,6,0)),"",(VLOOKUP(L53,$M$6:$V$612,6,0))) | L53: 48 | M53: =IF(P53>0,M52+1,M52) -> 0 | N53: ='Straight Connection'!$C$28 -> 45° Elbow - PF Series | P53: ='Straight Connection'!H30 -> 0 | Q53: ='Straight Connection'!I30 -> 42.82 | R53: ='Straight Connection'!K30 -> 0 | S53: ='Straight Connection'!D30 -> 2811200480 | T53: ='Straight Connection'!E30 -> 25 / 1" | U53: ='Straight Connection'!F30 -> 0 | V53: ='Straight Connection'!G30 -> 1
B54: =IF(ISERROR(VLOOKUP(L54,$M$6:$V$612,7,0)),"",(VLOOKUP(L54,$M$6:$V660,7,0))) | C54: =IF(ISERROR(VLOOKUP(L54,$M$6:$V$612,2,0)),"",(VLOOKUP(L54,$M$6:$V$612,2,0))) | D54: =IF(ISERROR(VLOOKUP(L54,$M$6:$V$612,8,0)),"",(VLOOKUP(L54,$M$6:$V$612,8,0))) | E54: =IF(ISERROR(VLOOKUP(L54,$M$6:$V$612,9,FALSE)),"",(VLOOKUP(L54,$M$6:$V$612,9,0))) | F54: =IF(ISERROR(VLOOKUP(L54,$M$6:$V$612,10,0)),"",(VLOOKUP(L54,$M$6:$V$612,10,0))) | G54: =IF(ISERROR(VLOOKUP(L54,$M$6:$V$612,5,0)),"",(VLOOKUP(L54,$M$6:$V$612,5,0))) | H54: =IF(ISERROR(VLOOKUP(L54,$M$6:$V$612,4,0)),"",(VLOOKUP(L54,$M$6:$V$612,4,0))) | I54: =IF(ISERROR(VLOOKUP(L54,$M$6:$V$612,6,0)),"",(VLOOKUP(L54,$M$6:$V$612,6,0))) | L54: 49 | M54: =IF(P54>0,M53+1,M53) -> 0 | N54: ='Straight Connection'!$C$28 -> 45° Elbow - PF Series | P54: ='Straight Connection'!H31 -> 0 | Q54: ='Straight Connection'!I31 -> 67.1 | R54: ='Straight Connection'!K31 -> 0 | S54: ='Straight Connection'!D31 -> 2811400480 | T54: ='Straight Connection'!E31 -> 40 / 1½" | U54: ='Straight Connection'!F31 -> 0 | V54: ='Straight Connection'!G31 -> 1
B55: =IF(ISERROR(VLOOKUP(L55,$M$6:$V$612,7,0)),"",(VLOOKUP(L55,$M$6:$V661,7,0))) | C55: =IF(ISERROR(VLOOKUP(L55,$M$6:$V$612,2,0)),"",(VLOOKUP(L55,$M$6:$V$612,2,0))) | D55: =IF(ISERROR(VLOOKUP(L55,$M$6:$V$612,8,0)),"",(VLOOKUP(L55,$M$6:$V$612,8,0))) | E55: =IF(ISERROR(VLOOKUP(L55,$M$6:$V$612,9,FALSE)),"",(VLOOKUP(L55,$M$6:$V$612,9,0))) | F55: =IF(ISERROR(VLOOKUP(L55,$M$6:$V$612,10,0)),"",(VLOOKUP(L55,$M$6:$V$612,10,0))) | G55: =IF(ISERROR(VLOOKUP(L55,$M$6:$V$612,5,0)),"",(VLOOKUP(L55,$M$6:$V$612,5,0))) | H55: =IF(ISERROR(VLOOKUP(L55,$M$6:$V$612,4,0)),"",(VLOOKUP(L55,$M$6:$V$612,4,0))) | I55: =IF(ISERROR(VLOOKUP(L55,$M$6:$V$612,6,0)),"",(VLOOKUP(L55,$M$6:$V$612,6,0))) | L55: 50 | M55: =IF(P55>0,M54+1,M54) -> 0 | N55: ='Straight Connection'!$C$28 -> 45° Elbow - PF Series | P55: ='Straight Connection'!H32 -> 0 | Q55: ='Straight Connection'!I32 -> 83.49 | R55: ='Straight Connection'!K32 -> 0 | S55: ='Straight Connection'!D32 -> 2811500480 | T55: ='Straight Connection'!E32 -> 50 / 2" | U55: ='Straight Connection'!F32 -> 0 | V55: ='Straight Connection'!G32 -> 1
B56: =IF(ISERROR(VLOOKUP(L56,$M$6:$V$612,7,0)),"",(VLOOKUP(L56,$M$6:$V662,7,0))) | C56: =IF(ISERROR(VLOOKUP(L56,$M$6:$V$612,2,0)),"",(VLOOKUP(L56,$M$6:$V$612,2,0))) | D56: =IF(ISERROR(VLOOKUP(L56,$M$6:$V$612,8,0)),"",(VLOOKUP(L56,$M$6:$V$612,8,0))) | E56: =IF(ISERROR(VLOOKUP(L56,$M$6:$V$612,9,FALSE)),"",(VLOOKUP(L56,$M$6:$V$612,9,0))) | F56: =IF(ISERROR(VLOOKUP(L56,$M$6:$V$612,10,0)),"",(VLOOKUP(L56,$M$6:$V$612,10,0))) | G56: =IF(ISERROR(VLOOKUP(L56,$M$6:$V$612,5,0)),"",(VLOOKUP(L56,$M$6:$V$612,5,0))) | H56: =IF(ISERROR(VLOOKUP(L56,$M$6:$V$612,4,0)),"",(VLOOKUP(L56,$M$6:$V$612,4,0))) | I56: =IF(ISERROR(VLOOKUP(L56,$M$6:$V$612,6,0)),"",(VLOOKUP(L56,$M$6:$V$612,6,0))) | L56: 51 | M56: =IF(P56>0,M55+1,M55) -> 0 | P56: ='Straight Connection'!H33 -> 0 | S56: ='Straight Connection'!D33 -> 0 | T56: ='Straight Connection'!E33 -> 0 | U56: ='Straight Connection'!F33 -> 0 | V56: ='Straight Connection'!G33 -> 0
B57: =IF(ISERROR(VLOOKUP(L57,$M$6:$V$612,7,0)),"",(VLOOKUP(L57,$M$6:$V663,7,0))) | C57: =IF(ISERROR(VLOOKUP(L57,$M$6:$V$612,2,0)),"",(VLOOKUP(L57,$M$6:$V$612,2,0))) | D57: =IF(ISERROR(VLOOKUP(L57,$M$6:$V$612,8,0)),"",(VLOOKUP(L57,$M$6:$V$612,8,0))) | E57: =IF(ISERROR(VLOOKUP(L57,$M$6:$V$612,9,FALSE)),"",(VLOOKUP(L57,$M$6:$V$612,9,0))) | F57: =IF(ISERROR(VLOOKUP(L57,$M$6:$V$612,10,0)),"",(VLOOKUP(L57,$M$6:$V$612,10,0))) | G57: =IF(ISERROR(VLOOKUP(L57,$M$6:$V$612,5,0)),"",(VLOOKUP(L57,$M$6:$V$612,5,0))) | H57: =IF(ISERROR(VLOOKUP(L57,$M$6:$V$612,4,0)),"",(VLOOKUP(L57,$M$6:$V$612,4,0))) | I57: =IF(ISERROR(VLOOKUP(L57,$M$6:$V$612,6,0)),"",(VLOOKUP(L57,$M$6:$V$612,6,0))) | L57: 52 | M57: =IF(P57>0,M56+1,M56) -> 0 | N57: ='Straight Connection'!$C$33 -> 45° Elbow - PM & Large Series | P57: ='Straight Connection'!H34 -> 0 | Q57: ='Straight Connection'!I34 -> 137.45 | R57: ='Straight Connection'!K34 -> 0 | S57: ='Straight Connection'!D34 -> 2811600490 | T57: ='Straight Connection'!E34 -> 63 / 2½" | U57: ='Straight Connection'!F34 -> 0 | V57: ='Straight Connection'!G34 -> 1
B58: =IF(ISERROR(VLOOKUP(L58,$M$6:$V$612,7,0)),"",(VLOOKUP(L58,$M$6:$V664,7,0))) | C58: =IF(ISERROR(VLOOKUP(L58,$M$6:$V$612,2,0)),"",(VLOOKUP(L58,$M$6:$V$612,2,0))) | D58: =IF(ISERROR(VLOOKUP(L58,$M$6:$V$612,8,0)),"",(VLOOKUP(L58,$M$6:$V$612,8,0))) | E58: =IF(ISERROR(VLOOKUP(L58,$M$6:$V$612,9,FALSE)),"",(VLOOKUP(L58,$M$6:$V$612,9,0))) | F58: =IF(ISERROR(VLOOKUP(L58,$M$6:$V$612,10,0)),"",(VLOOKUP(L58,$M$6:$V$612,10,0))) | G58: =IF(ISERROR(VLOOKUP(L58,$M$6:$V$612,5,0)),"",(VLOOKUP(L58,$M$6:$V$612,5,0))) | H58: =IF(ISERROR(VLOOKUP(L58,$M$6:$V$612,4,0)),"",(VLOOKUP(L58,$M$6:$V$612,4,0))) | I58: =IF(ISERROR(VLOOKUP(L58,$M$6:$V$612,6,0)),"",(VLOOKUP(L58,$M$6:$V$612,6,0))) | L58: 53 | M58: =IF(P58>0,M57+1,M57) -> 0 | N58: ='Straight Connection'!$C$33 -> 45° Elbow - PM & Large Series | P58: ='Straight Connection'!H35 -> 0 | Q58: ='Straight Connection'!I35 -> 170.58 | R58: ='Straight Connection'!K35 -> 0 | S58: ='Straight Connection'!D35 -> 2811700490 | T58: ='Straight Connection'!E35 -> 80 / 3" | U58: ='Straight Connection'!F35 -> 0 | V58: ='Straight Connection'!G35 -> 1
B59: =IF(ISERROR(VLOOKUP(L59,$M$6:$V$612,7,0)),"",(VLOOKUP(L59,$M$6:$V665,7,0))) | C59: =IF(ISERROR(VLOOKUP(L59,$M$6:$V$612,2,0)),"",(VLOOKUP(L59,$M$6:$V$612,2,0))) | D59: =IF(ISERROR(VLOOKUP(L59,$M$6:$V$612,8,0)),"",(VLOOKUP(L59,$M$6:$V$612,8,0))) | E59: =IF(ISERROR(VLOOKUP(L59,$M$6:$V$612,9,FALSE)),"",(VLOOKUP(L59,$M$6:$V$612,9,0))) | F59: =IF(ISERROR(VLOOKUP(L59,$M$6:$V$612,10,0)),"",(VLOOKUP(L59,$M$6:$V$612,10,0))) | G59: =IF(ISERROR(VLOOKUP(L59,$M$6:$V$612,5,0)),"",(VLOOKUP(L59,$M$6:$V$612,5,0))) | H59: =IF(ISERROR(VLOOKUP(L59,$M$6:$V$612,4,0)),"",(VLOOKUP(L59,$M$6:$V$612,4,0))) | I59: =IF(ISERROR(VLOOKUP(L59,$M$6:$V$612,6,0)),"",(VLOOKUP(L59,$M$6:$V$612,6,0))) | L59: 54 | M59: =IF(P59>0,M58+1,M58) -> 0 | N59: ='Straight Connection'!$C$33 -> 45° Elbow - PM & Large Series | P59: ='Straight Connection'!H36 -> 0 | Q59: ='Straight Connection'!I36 -> 198.53 | R59: ='Straight Connection'!K36 -> 0 | S59: ='Straight Connection'!D36 -> 2810800400 | T59: ='Straight Connection'!E36 -> 100 / 4" | U59: ='Straight Connection'!F36 -> Requires 2 Equal Unions | V59: ='Straight Connection'!G36 -> 1
B60: =IF(ISERROR(VLOOKUP(L60,$M$6:$V$612,7,0)),"",(VLOOKUP(L60,$M$6:$V666,7,0))) | C60: =IF(ISERROR(VLOOKUP(L60,$M$6:$V$612,2,0)),"",(VLOOKUP(L60,$M$6:$V$612,2,0))) | D60: =IF(ISERROR(VLOOKUP(L60,$M$6:$V$612,8,0)),"",(VLOOKUP(L60,$M$6:$V$612,8,0))) | E60: =IF(ISERROR(VLOOKUP(L60,$M$6:$V$612,9,FALSE)),"",(VLOOKUP(L60,$M$6:$V$612,9,0))) | F60: =IF(ISERROR(VLOOKUP(L60,$M$6:$V$612,10,0)),"",(VLOOKUP(L60,$M$6:$V$612,10,0))) | G60: =IF(ISERROR(VLOOKUP(L60,$M$6:$V$612,5,0)),"",(VLOOKUP(L60,$M$6:$V$612,5,0))) | H60: =IF(ISERROR(VLOOKUP(L60,$M$6:$V$612,4,0)),"",(VLOOKUP(L60,$M$6:$V$612,4,0))) | I60: =IF(ISERROR(VLOOKUP(L60,$M$6:$V$612,6,0)),"",(VLOOKUP(L60,$M$6:$V$612,6,0))) | L60: 55 | M60: =IF(P60>0,M59+1,M59) -> 0 | N60: ='Straight Connection'!$C$33 -> 45° Elbow - PM & Large Series | P60: ='Straight Connection'!H37 -> 0 | Q60: ='Straight Connection'!I37 -> 274.17 | R60: ='Straight Connection'!K37 -> 0 | S60: ='Straight Connection'!D37 -> 2810900400 | T60: ='Straight Connection'!E37 -> 158 / 6" | U60: ='Straight Connection'!F37 -> Requires 2 Equal Unions | V60: ='Straight Connection'!G37 -> 1
B61: =IF(ISERROR(VLOOKUP(L61,$M$6:$V$612,7,0)),"",(VLOOKUP(L61,$M$6:$V667,7,0))) | C61: =IF(ISERROR(VLOOKUP(L61,$M$6:$V$612,2,0)),"",(VLOOKUP(L61,$M$6:$V$612,2,0))) | D61: =IF(ISERROR(VLOOKUP(L61,$M$6:$V$612,8,0)),"",(VLOOKUP(L61,$M$6:$V$612,8,0))) | E61: =IF(ISERROR(VLOOKUP(L61,$M$6:$V$612,9,FALSE)),"",(VLOOKUP(L61,$M$6:$V$612,9,0))) | F61: =IF(ISERROR(VLOOKUP(L61,$M$6:$V$612,10,0)),"",(VLOOKUP(L61,$M$6:$V$612,10,0))) | G61: =IF(ISERROR(VLOOKUP(L61,$M$6:$V$612,5,0)),"",(VLOOKUP(L61,$M$6:$V$612,5,0))) | H61: =IF(ISERROR(VLOOKUP(L61,$M$6:$V$612,4,0)),"",(VLOOKUP(L61,$M$6:$V$612,4,0))) | I61: =IF(ISERROR(VLOOKUP(L61,$M$6:$V$612,6,0)),"",(VLOOKUP(L61,$M$6:$V$612,6,0))) | L61: 56 | M61: =IF(P61>0,M60+1,M60) -> 0 | P61: ='Straight Connection'!H40 -> 0 | S61: ='Straight Connection'!D40 -> 0 | T61: ='Straight Connection'!E40 -> 0 | U61: ='Straight Connection'!F40 -> 0 | V61: ='Straight Connection'!G40 -> 0
B62: =IF(ISERROR(VLOOKUP(L62,$M$6:$V$612,7,0)),"",(VLOOKUP(L62,$M$6:$V668,7,0))) | C62: =IF(ISERROR(VLOOKUP(L62,$M$6:$V$612,2,0)),"",(VLOOKUP(L62,$M$6:$V$612,2,0))) | D62: =IF(ISERROR(VLOOKUP(L62,$M$6:$V$612,8,0)),"",(VLOOKUP(L62,$M$6:$V$612,8,0))) | E62: =IF(ISERROR(VLOOKUP(L62,$M$6:$V$612,9,FALSE)),"",(VLOOKUP(L62,$M$6:$V$612,9,0))) | F62: =IF(ISERROR(VLOOKUP(L62,$M$6:$V$612,10,0)),"",(VLOOKUP(L62,$M$6:$V$612,10,0))) | G62: =IF(ISERROR(VLOOKUP(L62,$M$6:$V$612,5,0)),"",(VLOOKUP(L62,$M$6:$V$612,5,0))) | H62: =IF(ISERROR(VLOOKUP(L62,$M$6:$V$612,4,0)),"",(VLOOKUP(L62,$M$6:$V$612,4,0))) | I62: =IF(ISERROR(VLOOKUP(L62,$M$6:$V$612,6,0)),"",(VLOOKUP(L62,$M$6:$V$612,6,0))) | L62: 57 | M62: =IF(P62>0,M61+1,M61) -> 0 | N62: ='Straight Connection'!$C$40 -> Equal Tee - PF Series | P62: ='Straight Connection'!H41 -> 0 | Q62: ='Straight Connection'!I41 -> 33.74 | R62: ='Straight Connection'!K41 -> 0 | S62: ='Straight Connection'!D41 -> 2811100580 | T62: ='Straight Connection'!E41 -> 20 / ¾" | U62: ='Straight Connection'!F41 -> 0 | V62: ='Straight Connection'!G41 -> 1
B63: =IF(ISERROR(VLOOKUP(L63,$M$6:$V$612,7,0)),"",(VLOOKUP(L63,$M$6:$V669,7,0))) | C63: =IF(ISERROR(VLOOKUP(L63,$M$6:$V$612,2,0)),"",(VLOOKUP(L63,$M$6:$V$612,2,0))) | D63: =IF(ISERROR(VLOOKUP(L63,$M$6:$V$612,8,0)),"",(VLOOKUP(L63,$M$6:$V$612,8,0))) | E63: =IF(ISERROR(VLOOKUP(L63,$M$6:$V$612,9,FALSE)),"",(VLOOKUP(L63,$M$6:$V$612,9,0))) | F63: =IF(ISERROR(VLOOKUP(L63,$M$6:$V$612,10,0)),"",(VLOOKUP(L63,$M$6:$V$612,10,0))) | G63: =IF(ISERROR(VLOOKUP(L63,$M$6:$V$612,5,0)),"",(VLOOKUP(L63,$M$6:$V$612,5,0))) | H63: =IF(ISERROR(VLOOKUP(L63,$M$6:$V$612,4,0)),"",(VLOOKUP(L63,$M$6:$V$612,4,0))) | I63: =IF(ISERROR(VLOOKUP(L63,$M$6:$V$612,6,0)),"",(VLOOKUP(L63,$M$6:$V$612,6,0))) | L63: 58 | M63: =IF(P63>0,M62+1,M62) -> 0 | N63: ='Straight Connection'!$C$40 -> Equal Tee - PF Series | P63: ='Straight Connection'!H42 -> 0 | Q63: ='Straight Connection'!I42 -> 44.2 | R63: ='Straight Connection'!K42 -> 0 | S63: ='Straight Connection'!D42 -> 2811200580 | T63: ='Straight Connection'!E42 -> 25 / 1" | U63: ='Straight Connection'!F42 -> 0 | V63: ='Straight Connection'!G42 -> 1
B64: =IF(ISERROR(VLOOKUP(L64,$M$6:$V$612,7,0)),"",(VLOOKUP(L64,$M$6:$V670,7,0))) | C64: =IF(ISERROR(VLOOKUP(L64,$M$6:$V$612,2,0)),"",(VLOOKUP(L64,$M$6:$V$612,2,0))) | D64: =IF(ISERROR(VLOOKUP(L64,$M$6:$V$612,8,0)),"",(VLOOKUP(L64,$M$6:$V$612,8,0))) | E64: =IF(ISERROR(VLOOKUP(L64,$M$6:$V$612,9,FALSE)),"",(VLOOKUP(L64,$M$6:$V$612,9,0))) | F64: =IF(ISERROR(VLOOKUP(L64,$M$6:$V$612,10,0)),"",(VLOOKUP(L64,$M$6:$V$612,10,0))) | G64: =IF(ISERROR(VLOOKUP(L64,$M$6:$V$612,5,0)),"",(VLOOKUP(L64,$M$6:$V$612,5,0))) | H64: =IF(ISERROR(VLOOKUP(L64,$M$6:$V$612,4,0)),"",(VLOOKUP(L64,$M$6:$V$612,4,0))) | I64: =IF(ISERROR(VLOOKUP(L64,$M$6:$V$612,6,0)),"",(VLOOKUP(L64,$M$6:$V$612,6,0))) | L64: 59 | M64: =IF(P64>0,M63+1,M63) -> 0 | N64: ='Straight Connection'!$C$40 -> Equal Tee - PF Series | P64: ='Straight Connection'!H43 -> 0 | Q64: ='Straight Connection'!I43 -> 61.17 | R64: ='Straight Connection'!K43 -> 0 | S64: ='Straight Connection'!D43 -> 2811400580 | T64: ='Straight Connection'!E43 -> 40 / 1½" | U64: ='Straight Connection'!F43 -> 0 | V64: ='Straight Connection'!G43 -> 1
B65: =IF(ISERROR(VLOOKUP(L65,$M$6:$V$612,7,0)),"",(VLOOKUP(L65,$M$6:$V671,7,0))) | C65: =IF(ISERROR(VLOOKUP(L65,$M$6:$V$612,2,0)),"",(VLOOKUP(L65,$M$6:$V$612,2,0))) | D65: =IF(ISERROR(VLOOKUP(L65,$M$6:$V$612,8,0)),"",(VLOOKUP(L65,$M$6:$V$612,8,0))) | E65: =IF(ISERROR(VLOOKUP(L65,$M$6:$V$612,9,FALSE)),"",(VLOOKUP(L65,$M$6:$V$612,9,0))) | F65: =IF(ISERROR(VLOOKUP(L65,$M$6:$V$612,10,0)),"",(VLOOKUP(L65,$M$6:$V$612,10,0))) | G65: =IF(ISERROR(VLOOKUP(L65,$M$6:$V$612,5,0)),"",(VLOOKUP(L65,$M$6:$V$612,5,0))) | H65: =IF(ISERROR(VLOOKUP(L65,$M$6:$V$612,4,0)),"",(VLOOKUP(L65,$M$6:$V$612,4,0))) | I65: =IF(ISERROR(VLOOKUP(L65,$M$6:$V$612,6,0)),"",(VLOOKUP(L65,$M$6:$V$612,6,0))) | L65: 60 | M65: =IF(P65>0,M64+1,M64) -> 0 | N65: ='Straight Connection'!$C$40 -> Equal Tee - PF Series | P65: ='Straight Connection'!H44 -> 0 | Q65: ='Straight Connection'!I44 -> 85.76 | R65: ='Straight Connection'!K44 -> 0 | S65: ='Straight Connection'!D44 -> 2811500580 | T65: ='Straight Connection'!E44 -> 50 / 2" | U65: ='Straight Connection'!F44 -> 0 | V65: ='Straight Connection'!G44 -> 1
B66: =IF(ISERROR(VLOOKUP(L66,$M$6:$V$612,7,0)),"",(VLOOKUP(L66,$M$6:$V672,7,0))) | C66: =IF(ISERROR(VLOOKUP(L66,$M$6:$V$612,2,0)),"",(VLOOKUP(L66,$M$6:$V$612,2,0))) | D66: =IF(ISERROR(VLOOKUP(L66,$M$6:$V$612,8,0)),"",(VLOOKUP(L66,$M$6:$V$612,8,0))) | E66: =IF(ISERROR(VLOOKUP(L66,$M$6:$V$612,9,FALSE)),"",(VLOOKUP(L66,$M$6:$V$612,9,0))) | F66: =IF(ISERROR(VLOOKUP(L66,$M$6:$V$612,10,0)),"",(VLOOKUP(L66,$M$6:$V$612,10,0))) | G66: =IF(ISERROR(VLOOKUP(L66,$M$6:$V$612,5,0)),"",(VLOOKUP(L66,$M$6:$V$612,5,0))) | H66: =IF(ISERROR(VLOOKUP(L66,$M$6:$V$612,4,0)),"",(VLOOKUP(L66,$M$6:$V$612,4,0))) | I66: =IF(ISERROR(VLOOKUP(L66,$M$6:$V$612,6,0)),"",(VLOOKUP(L66,$M$6:$V$612,6,0))) | L66: 61 | M66: =IF(P66>0,M65+1,M65) -> 0 | P66: ='Straight Connection'!H45 -> 0 | S66: ='Straight Connection'!D45 -> 0 | T66: ='Straight Connection'!E45 -> 0 | U66: ='Straight Connection'!F45 -> 0 | V66: ='Straight Connection'!G45 -> 0
B67: =IF(ISERROR(VLOOKUP(L67,$M$6:$V$612,7,0)),"",(VLOOKUP(L67,$M$6:$V673,7,0))) | C67: =IF(ISERROR(VLOOKUP(L67,$M$6:$V$612,2,0)),"",(VLOOKUP(L67,$M$6:$V$612,2,0))) | D67: =IF(ISERROR(VLOOKUP(L67,$M$6:$V$612,8,0)),"",(VLOOKUP(L67,$M$6:$V$612,8,0))) | E67: =IF(ISERROR(VLOOKUP(L67,$M$6:$V$612,9,FALSE)),"",(VLOOKUP(L67,$M$6:$V$612,9,0))) | F67: =IF(ISERROR(VLOOKUP(L67,$M$6:$V$612,10,0)),"",(VLOOKUP(L67,$M$6:$V$612,10,0))) | G67: =IF(ISERROR(VLOOKUP(L67,$M$6:$V$612,5,0)),"",(VLOOKUP(L67,$M$6:$V$612,5,0))) | H67: =IF(ISERROR(VLOOKUP(L67,$M$6:$V$612,4,0)),"",(VLOOKUP(L67,$M$6:$V$612,4,0))) | I67: =IF(ISERROR(VLOOKUP(L67,$M$6:$V$612,6,0)),"",(VLOOKUP(L67,$M$6:$V$612,6,0))) | L67: 62 | M67: =IF(P67>0,M66+1,M66) -> 0 | N67: ='Straight Connection'!$C$45 -> Equal Tee - PM & Large Series | P67: ='Straight Connection'!H46 -> 0 | Q67: ='Straight Connection'!I46 -> 153.65 | R67: ='Straight Connection'!K46 -> 0 | S67: ='Straight Connection'!D46 -> 2811600590 | T67: ='Straight Connection'!E46 -> 63 / 2½" | U67: ='Straight Connection'!F46 -> 0 | V67: ='Straight Connection'!G46 -> 1
B68: =IF(ISERROR(VLOOKUP(L68,$M$6:$V$612,7,0)),"",(VLOOKUP(L68,$M$6:$V674,7,0))) | C68: =IF(ISERROR(VLOOKUP(L68,$M$6:$V$612,2,0)),"",(VLOOKUP(L68,$M$6:$V$612,2,0))) | D68: =IF(ISERROR(VLOOKUP(L68,$M$6:$V$612,8,0)),"",(VLOOKUP(L68,$M$6:$V$612,8,0))) | E68: =IF(ISERROR(VLOOKUP(L68,$M$6:$V$612,9,FALSE)),"",(VLOOKUP(L68,$M$6:$V$612,9,0))) | F68: =IF(ISERROR(VLOOKUP(L68,$M$6:$V$612,10,0)),"",(VLOOKUP(L68,$M$6:$V$612,10,0))) | G68: =IF(ISERROR(VLOOKUP(L68,$M$6:$V$612,5,0)),"",(VLOOKUP(L68,$M$6:$V$612,5,0))) | H68: =IF(ISERROR(VLOOKUP(L68,$M$6:$V$612,4,0)),"",(VLOOKUP(L68,$M$6:$V$612,4,0))) | I68: =IF(ISERROR(VLOOKUP(L68,$M$6:$V$612,6,0)),"",(VLOOKUP(L68,$M$6:$V$612,6,0))) | L68: 63 | M68: =IF(P68>0,M67+1,M67) -> 0 | N68: ='Straight Connection'!$C$45 -> Equal Tee - PM & Large Series | P68: ='Straight Connection'!H47 -> 0 | Q68: ='Straight Connection'!I47 -> 200.46 | R68: ='Straight Connection'!K47 -> 0 | S68: ='Straight Connection'!D47 -> 2811700590 | T68: ='Straight Connection'!E47 -> 80 / 3" | U68: ='Straight Connection'!F47 -> 0 | V68: ='Straight Connection'!G47 -> 1
B69: =IF(ISERROR(VLOOKUP(L69,$M$6:$V$612,7,0)),"",(VLOOKUP(L69,$M$6:$V675,7,0))) | C69: =IF(ISERROR(VLOOKUP(L69,$M$6:$V$612,2,0)),"",(VLOOKUP(L69,$M$6:$V$612,2,0))) | D69: =IF(ISERROR(VLOOKUP(L69,$M$6:$V$612,8,0)),"",(VLOOKUP(L69,$M$6:$V$612,8,0))) | E69: =IF(ISERROR(VLOOKUP(L69,$M$6:$V$612,9,FALSE)),"",(VLOOKUP(L69,$M$6:$V$612,9,0))) | F69: =IF(ISERROR(VLOOKUP(L69,$M$6:$V$612,10,0)),"",(VLOOKUP(L69,$M$6:$V$612,10,0))) | G69: =IF(ISERROR(VLOOKUP(L69,$M$6:$V$612,5,0)),"",(VLOOKUP(L69,$M$6:$V$612,5,0))) | H69: =IF(ISERROR(VLOOKUP(L69,$M$6:$V$612,4,0)),"",(VLOOKUP(L69,$M$6:$V$612,4,0))) | I69: =IF(ISERROR(VLOOKUP(L69,$M$6:$V$612,6,0)),"",(VLOOKUP(L69,$M$6:$V$612,6,0))) | L69: 64 | M69: =IF(P69>0,M68+1,M68) -> 0 | N69: ='Straight Connection'!$C$45 -> Equal Tee - PM & Large Series | P69: ='Straight Connection'!H48 -> 0 | Q69: ='Straight Connection'!I48 -> 221.57 | R69: ='Straight Connection'!K48 -> 0 | S69: ='Straight Connection'!D48 -> 2810800500 | T69: ='Straight Connection'!E48 -> 100 / 4" | U69: ='Straight Connection'!F48 -> Requires 2 Equal Unions | V69: ='Straight Connection'!G48 -> 1
B70: =IF(ISERROR(VLOOKUP(L70,$M$6:$V$612,7,0)),"",(VLOOKUP(L70,$M$6:$V676,7,0))) | C70: =IF(ISERROR(VLOOKUP(L70,$M$6:$V$612,2,0)),"",(VLOOKUP(L70,$M$6:$V$612,2,0))) | D70: =IF(ISERROR(VLOOKUP(L70,$M$6:$V$612,8,0)),"",(VLOOKUP(L70,$M$6:$V$612,8,0))) | E70: =IF(ISERROR(VLOOKUP(L70,$M$6:$V$612,9,FALSE)),"",(VLOOKUP(L70,$M$6:$V$612,9,0))) | F70: =IF(ISERROR(VLOOKUP(L70,$M$6:$V$612,10,0)),"",(VLOOKUP(L70,$M$6:$V$612,10,0))) | G70: =IF(ISERROR(VLOOKUP(L70,$M$6:$V$612,5,0)),"",(VLOOKUP(L70,$M$6:$V$612,5,0))) | H70: =IF(ISERROR(VLOOKUP(L70,$M$6:$V$612,4,0)),"",(VLOOKUP(L70,$M$6:$V$612,4,0))) | I70: =IF(ISERROR(VLOOKUP(L70,$M$6:$V$612,6,0)),"",(VLOOKUP(L70,$M$6:$V$612,6,0))) | L70: 65 | M70: =IF(P70>0,M69+1,M69) -> 0 | N70: ='Straight Connection'!$C$45 -> Equal Tee - PM & Large Series | P70: ='Straight Connection'!H49 -> 0 | Q70: ='Straight Connection'!I49 -> 303.7 | R70: ='Straight Connection'!K49 -> 0 | S70: ='Straight Connection'!D49 -> 2810900500 | T70: ='Straight Connection'!E49 -> 158 / 6" | U70: ='Straight Connection'!F49 -> Requires 2 Equal Unions | V70: ='Straight Connection'!G49 -> 1
B71: =IF(ISERROR(VLOOKUP(L71,$M$6:$V$612,7,0)),"",(VLOOKUP(L71,$M$6:$V677,7,0))) | C71: =IF(ISERROR(VLOOKUP(L71,$M$6:$V$612,2,0)),"",(VLOOKUP(L71,$M$6:$V$612,2,0))) | D71: =IF(ISERROR(VLOOKUP(L71,$M$6:$V$612,8,0)),"",(VLOOKUP(L71,$M$6:$V$612,8,0))) | E71: =IF(ISERROR(VLOOKUP(L71,$M$6:$V$612,9,FALSE)),"",(VLOOKUP(L71,$M$6:$V$612,9,0))) | F71: =IF(ISERROR(VLOOKUP(L71,$M$6:$V$612,10,0)),"",(VLOOKUP(L71,$M$6:$V$612,10,0))) | G71: =IF(ISERROR(VLOOKUP(L71,$M$6:$V$612,5,0)),"",(VLOOKUP(L71,$M$6:$V$612,5,0))) | H71: =IF(ISERROR(VLOOKUP(L71,$M$6:$V$612,4,0)),"",(VLOOKUP(L71,$M$6:$V$612,4,0))) | I71: =IF(ISERROR(VLOOKUP(L71,$M$6:$V$612,6,0)),"",(VLOOKUP(L71,$M$6:$V$612,6,0))) | L71: 66 | M71: =IF(P71>0,M70+1,M70) -> 0 | P71: ='Straight Connection'!H50 -> 0 | S71: ='Straight Connection'!D50 -> 0 | T71: ='Straight Connection'!E50 -> 0 | U71: ='Straight Connection'!F50 -> 0 | V71: ='Straight Connection'!G50 -> 0
B72: =IF(ISERROR(VLOOKUP(L72,$M$6:$V$612,7,0)),"",(VLOOKUP(L72,$M$6:$V678,7,0))) | C72: =IF(ISERROR(VLOOKUP(L72,$M$6:$V$612,2,0)),"",(VLOOKUP(L72,$M$6:$V$612,2,0))) | D72: =IF(ISERROR(VLOOKUP(L72,$M$6:$V$612,8,0)),"",(VLOOKUP(L72,$M$6:$V$612,8,0))) | E72: =IF(ISERROR(VLOOKUP(L72,$M$6:$V$612,9,FALSE)),"",(VLOOKUP(L72,$M$6:$V$612,9,0))) | F72: =IF(ISERROR(VLOOKUP(L72,$M$6:$V$612,10,0)),"",(VLOOKUP(L72,$M$6:$V$612,10,0))) | G72: =IF(ISERROR(VLOOKUP(L72,$M$6:$V$612,5,0)),"",(VLOOKUP(L72,$M$6:$V$612,5,0))) | H72: =IF(ISERROR(VLOOKUP(L72,$M$6:$V$612,4,0)),"",(VLOOKUP(L72,$M$6:$V$612,4,0))) | I72: =IF(ISERROR(VLOOKUP(L72,$M$6:$V$612,6,0)),"",(VLOOKUP(L72,$M$6:$V$612,6,0))) | L72: 67 | M72: =IF(P72>0,M71+1,M71) -> 0 | N72: ='Straight Connection'!$B$50 -> End Cap | P72: ='Straight Connection'!H51 -> 0 | Q72: ='Straight Connection'!I51 -> 21.78 | R72: ='Straight Connection'!K51 -> 0 | S72: ='Straight Connection'!D51 -> 2811100680 | T72: ='Straight Connection'!E51 -> 20 / ¾" | U72: ='Straight Connection'!F51 -> 0 | V72: ='Straight Connection'!G51 -> 1
B73: =IF(ISERROR(VLOOKUP(L73,$M$6:$V$612,7,0)),"",(VLOOKUP(L73,$M$6:$V679,7,0))) | C73: =IF(ISERROR(VLOOKUP(L73,$M$6:$V$612,2,0)),"",(VLOOKUP(L73,$M$6:$V$612,2,0))) | D73: =IF(ISERROR(VLOOKUP(L73,$M$6:$V$612,8,0)),"",(VLOOKUP(L73,$M$6:$V$612,8,0))) | E73: =IF(ISERROR(VLOOKUP(L73,$M$6:$V$612,9,FALSE)),"",(VLOOKUP(L73,$M$6:$V$612,9,0))) | F73: =IF(ISERROR(VLOOKUP(L73,$M$6:$V$612,10,0)),"",(VLOOKUP(L73,$M$6:$V$612,10,0))) | G73: =IF(ISERROR(VLOOKUP(L73,$M$6:$V$612,5,0)),"",(VLOOKUP(L73,$M$6:$V$612,5,0))) | H73: =IF(ISERROR(VLOOKUP(L73,$M$6:$V$612,4,0)),"",(VLOOKUP(L73,$M$6:$V$612,4,0))) | I73: =IF(ISERROR(VLOOKUP(L73,$M$6:$V$612,6,0)),"",(VLOOKUP(L73,$M$6:$V$612,6,0))) | L73: 68 | M73: =IF(P73>0,M72+1,M72) -> 0 | N73: ='Straight Connection'!$B$50 -> End Cap | P73: ='Straight Connection'!H52 -> 0 | Q73: ='Straight Connection'!I52 -> 27.71 | R73: ='Straight Connection'!K52 -> 0 | S73: ='Straight Connection'!D52 -> 2811200680 | T73: ='Straight Connection'!E52 -> 25 / 1" | U73: ='Straight Connection'!F52 -> 0 | V73: ='Straight Connection'!G52 -> 1
B74: =IF(ISERROR(VLOOKUP(L74,$M$6:$V$612,7,0)),"",(VLOOKUP(L74,$M$6:$V680,7,0))) | C74: =IF(ISERROR(VLOOKUP(L74,$M$6:$V$612,2,0)),"",(VLOOKUP(L74,$M$6:$V$612,2,0))) | D74: =IF(ISERROR(VLOOKUP(L74,$M$6:$V$612,8,0)),"",(VLOOKUP(L74,$M$6:$V$612,8,0))) | E74: =IF(ISERROR(VLOOKUP(L74,$M$6:$V$612,9,FALSE)),"",(VLOOKUP(L74,$M$6:$V$612,9,0))) | F74: =IF(ISERROR(VLOOKUP(L74,$M$6:$V$612,10,0)),"",(VLOOKUP(L74,$M$6:$V$612,10,0))) | G74: =IF(ISERROR(VLOOKUP(L74,$M$6:$V$612,5,0)),"",(VLOOKUP(L74,$M$6:$V$612,5,0))) | H74: =IF(ISERROR(VLOOKUP(L74,$M$6:$V$612,4,0)),"",(VLOOKUP(L74,$M$6:$V$612,4,0))) | I74: =IF(ISERROR(VLOOKUP(L74,$M$6:$V$612,6,0)),"",(VLOOKUP(L74,$M$6:$V$612,6,0))) | L74: 69 | M74: =IF(P74>0,M73+1,M73) -> 0 | N74: ='Straight Connection'!$B$50 -> End Cap | P74: ='Straight Connection'!H53 -> 0 | Q74: ='Straight Connection'!I53 -> 35.88 | R74: ='Straight Connection'!K53 -> 0 | S74: ='Straight Connection'!D53 -> 2811400680 | T74: ='Straight Connection'!E53 -> 40 / 1½" | U74: ='Straight Connection'!F53 -> 0 | V74: ='Straight Connection'!G53 -> 1
B75: =IF(ISERROR(VLOOKUP(L75,$M$6:$V$612,7,0)),"",(VLOOKUP(L75,$M$6:$V681,7,0))) | C75: =IF(ISERROR(VLOOKUP(L75,$M$6:$V$612,2,0)),"",(VLOOKUP(L75,$M$6:$V$612,2,0))) | D75: =IF(ISERROR(VLOOKUP(L75,$M$6:$V$612,8,0)),"",(VLOOKUP(L75,$M$6:$V$612,8,0))) | E75: =IF(ISERROR(VLOOKUP(L75,$M$6:$V$612,9,FALSE)),"",(VLOOKUP(L75,$M$6:$V$612,9,0))) | F75: =IF(ISERROR(VLOOKUP(L75,$M$6:$V$612,10,0)),"",(VLOOKUP(L75,$M$6:$V$612,10,0))) | G75: =IF(ISERROR(VLOOKUP(L75,$M$6:$V$612,5,0)),"",(VLOOKUP(L75,$M$6:$V$612,5,0))) | H75: =IF(ISERROR(VLOOKUP(L75,$M$6:$V$612,4,0)),"",(VLOOKUP(L75,$M$6:$V$612,4,0))) | I75: =IF(ISERROR(VLOOKUP(L75,$M$6:$V$612,6,0)),"",(VLOOKUP(L75,$M$6:$V$612,6,0))) | L75: 70 | M75: =IF(P75>0,M74+1,M74) -> 0 | N75: ='Straight Connection'!$B$50 -> End Cap | P75: ='Straight Connection'!H54 -> 0 | Q75: ='Straight Connection'!I54 -> 50.69 | R75: ='Straight Connection'!K54 -> 0 | S75: ='Straight Connection'!D54 -> 2811500680 | T75: ='Straight Connection'!E54 -> 50 / 2" | U75: ='Straight Connection'!F54 -> 0 | V75: ='Straight Connection'!G54 -> 1
B76: =IF(ISERROR(VLOOKUP(L76,$M$6:$V$612,7,0)),"",(VLOOKUP(L76,$M$6:$V682,7,0))) | C76: =IF(ISERROR(VLOOKUP(L76,$M$6:$V$612,2,0)),"",(VLOOKUP(L76,$M$6:$V$612,2,0))) | D76: =IF(ISERROR(VLOOKUP(L76,$M$6:$V$612,8,0)),"",(VLOOKUP(L76,$M$6:$V$612,8,0))) | E76: =IF(ISERROR(VLOOKUP(L76,$M$6:$V$612,9,FALSE)),"",(VLOOKUP(L76,$M$6:$V$612,9,0))) | F76: =IF(ISERROR(VLOOKUP(L76,$M$6:$V$612,10,0)),"",(VLOOKUP(L76,$M$6:$V$612,10,0))) | G76: =IF(ISERROR(VLOOKUP(L76,$M$6:$V$612,5,0)),"",(VLOOKUP(L76,$M$6:$V$612,5,0))) | H76: =IF(ISERROR(VLOOKUP(L76,$M$6:$V$612,4,0)),"",(VLOOKUP(L76,$M$6:$V$612,4,0))) | I76: =IF(ISERROR(VLOOKUP(L76,$M$6:$V$612,6,0)),"",(VLOOKUP(L76,$M$6:$V$612,6,0))) | L76: 71 | M76: =IF(P76>0,M75+1,M75) -> 0 | P76: ='Straight Connection'!H55 -> 0 | S76: ='Straight Connection'!D55 -> 0 | T76: ='Straight Connection'!E55 -> 0 | U76: ='Straight Connection'!F55 -> 0 | V76: ='Straight Connection'!G55 -> 0
B77: =IF(ISERROR(VLOOKUP(L77,$M$6:$V$612,7,0)),"",(VLOOKUP(L77,$M$6:$V683,7,0))) | C77: =IF(ISERROR(VLOOKUP(L77,$M$6:$V$612,2,0)),"",(VLOOKUP(L77,$M$6:$V$612,2,0))) | D77: =IF(ISERROR(VLOOKUP(L77,$M$6:$V$612,8,0)),"",(VLOOKUP(L77,$M$6:$V$612,8,0))) | E77: =IF(ISERROR(VLOOKUP(L77,$M$6:$V$612,9,FALSE)),"",(VLOOKUP(L77,$M$6:$V$612,9,0))) | F77: =IF(ISERROR(VLOOKUP(L77,$M$6:$V$612,10,0)),"",(VLOOKUP(L77,$M$6:$V$612,10,0))) | G77: =IF(ISERROR(VLOOKUP(L77,$M$6:$V$612,5,0)),"",(VLOOKUP(L77,$M$6:$V$612,5,0))) | H77: =IF(ISERROR(VLOOKUP(L77,$M$6:$V$612,4,0)),"",(VLOOKUP(L77,$M$6:$V$612,4,0))) | I77: =IF(ISERROR(VLOOKUP(L77,$M$6:$V$612,6,0)),"",(VLOOKUP(L77,$M$6:$V$612,6,0))) | L77: 72 | M77: =IF(P77>0,M76+1,M76) -> 0 | N77: ='Straight Connection'!$B$50 -> End Cap | P77: ='Straight Connection'!H56 -> 0 | Q77: ='Straight Connection'!I56 -> 75.15 | R77: ='Straight Connection'!K56 -> 0 | S77: ='Straight Connection'!D56 -> 2811600690 | T77: ='Straight Connection'!E56 -> 63 / 2½" | U77: ='Straight Connection'!F56 -> 0 | V77: ='Straight Connection'!G56 -> 1
B78: =IF(ISERROR(VLOOKUP(L78,$M$6:$V$612,7,0)),"",(VLOOKUP(L78,$M$6:$V684,7,0))) | C78: =IF(ISERROR(VLOOKUP(L78,$M$6:$V$612,2,0)),"",(VLOOKUP(L78,$M$6:$V$612,2,0))) | D78: =IF(ISERROR(VLOOKUP(L78,$M$6:$V$612,8,0)),"",(VLOOKUP(L78,$M$6:$V$612,8,0))) | E78: =IF(ISERROR(VLOOKUP(L78,$M$6:$V$612,9,FALSE)),"",(VLOOKUP(L78,$M$6:$V$612,9,0))) | F78: =IF(ISERROR(VLOOKUP(L78,$M$6:$V$612,10,0)),"",(VLOOKUP(L78,$M$6:$V$612,10,0))) | G78: =IF(ISERROR(VLOOKUP(L78,$M$6:$V$612,5,0)),"",(VLOOKUP(L78,$M$6:$V$612,5,0))) | H78: =IF(ISERROR(VLOOKUP(L78,$M$6:$V$612,4,0)),"",(VLOOKUP(L78,$M$6:$V$612,4,0))) | I78: =IF(ISERROR(VLOOKUP(L78,$M$6:$V$612,6,0)),"",(VLOOKUP(L78,$M$6:$V$612,6,0))) | L78: 73 | M78: =IF(P78>0,M77+1,M77) -> 0 | N78: ='Straight Connection'!$B$50 -> End Cap | P78: ='Straight Connection'!H57 -> 0 | Q78: ='Straight Connection'!I57 -> 89.77 | R78: ='Straight Connection'!K57 -> 0 | S78: ='Straight Connection'!D57 -> 2811700690 | T78: ='Straight Connection'!E57 -> 80 / 3" | U78: ='Straight Connection'!F57 -> 0 | V78: ='Straight Connection'!G57 -> 1
B79: =IF(ISERROR(VLOOKUP(L79,$M$6:$V$612,7,0)),"",(VLOOKUP(L79,$M$6:$V685,7,0))) | C79: =IF(ISERROR(VLOOKUP(L79,$M$6:$V$612,2,0)),"",(VLOOKUP(L79,$M$6:$V$612,2,0))) | D79: =IF(ISERROR(VLOOKUP(L79,$M$6:$V$612,8,0)),"",(VLOOKUP(L79,$M$6:$V$612,8,0))) | E79: =IF(ISERROR(VLOOKUP(L79,$M$6:$V$612,9,FALSE)),"",(VLOOKUP(L79,$M$6:$V$612,9,0))) | F79: =IF(ISERROR(VLOOKUP(L79,$M$6:$V$612,10,0)),"",(VLOOKUP(L79,$M$6:$V$612,10,0))) | G79: =IF(ISERROR(VLOOKUP(L79,$M$6:$V$612,5,0)),"",(VLOOKUP(L79,$M$6:$V$612,5,0))) | H79: =IF(ISERROR(VLOOKUP(L79,$M$6:$V$612,4,0)),"",(VLOOKUP(L79,$M$6:$V$612,4,0))) | I79: =IF(ISERROR(VLOOKUP(L79,$M$6:$V$612,6,0)),"",(VLOOKUP(L79,$M$6:$V$612,6,0))) | L79: 74 | M79: =IF(P79>0,M78+1,M78) -> 0 | N79: ='Straight Connection'!$B$50 -> End Cap | P79: ='Straight Connection'!H58 -> 0 | Q79: ='Straight Connection'!I58 -> 164.46 | R79: ='Straight Connection'!K58 -> 0 | S79: ='Straight Connection'!D58 -> 2810981600 | T79: ='Straight Connection'!E58 -> 100 / 4" & 158 / 6" | U79: ='Straight Connection'!F58 -> Same End Cap for 4" & 6" pipe | V79: ='Straight Connection'!G58 -> 1
B80: =IF(ISERROR(VLOOKUP(L80,$M$6:$V$612,7,0)),"",(VLOOKUP(L80,$M$6:$V686,7,0))) | C80: =IF(ISERROR(VLOOKUP(L80,$M$6:$V$612,2,0)),"",(VLOOKUP(L80,$M$6:$V$612,2,0))) | D80: =IF(ISERROR(VLOOKUP(L80,$M$6:$V$612,8,0)),"",(VLOOKUP(L80,$M$6:$V$612,8,0))) | E80: =IF(ISERROR(VLOOKUP(L80,$M$6:$V$612,9,FALSE)),"",(VLOOKUP(L80,$M$6:$V$612,9,0))) | F80: =IF(ISERROR(VLOOKUP(L80,$M$6:$V$612,10,0)),"",(VLOOKUP(L80,$M$6:$V$612,10,0))) | G80: =IF(ISERROR(VLOOKUP(L80,$M$6:$V$612,5,0)),"",(VLOOKUP(L80,$M$6:$V$612,5,0))) | H80: =IF(ISERROR(VLOOKUP(L80,$M$6:$V$612,4,0)),"",(VLOOKUP(L80,$M$6:$V$612,4,0))) | I80: =IF(ISERROR(VLOOKUP(L80,$M$6:$V$612,6,0)),"",(VLOOKUP(L80,$M$6:$V$612,6,0))) | L80: 75 | M80: =IF(P80>0,M79+1,M79) -> 0 | P80: ='Straight Connection'!H61 -> 0 | Q80: ='Straight Connection'!I61 -> 0 | R80: ='Straight Connection'!K61 -> 0 | S80: ='Straight Connection'!D61 -> 0 | T80: ='Straight Connection'!E61 -> 0 | U80: ='Straight Connection'!F44 -> 0 | V80: ='Straight Connection'!G61 -> 0
B81: =IF(ISERROR(VLOOKUP(L81,$M$6:$V$612,7,0)),"",(VLOOKUP(L81,$M$6:$V687,7,0))) | C81: =IF(ISERROR(VLOOKUP(L81,$M$6:$V$612,2,0)),"",(VLOOKUP(L81,$M$6:$V$612,2,0))) | D81: =IF(ISERROR(VLOOKUP(L81,$M$6:$V$612,8,0)),"",(VLOOKUP(L81,$M$6:$V$612,8,0))) | E81: =IF(ISERROR(VLOOKUP(L81,$M$6:$V$612,9,FALSE)),"",(VLOOKUP(L81,$M$6:$V$612,9,0))) | F81: =IF(ISERROR(VLOOKUP(L81,$M$6:$V$612,10,0)),"",(VLOOKUP(L81,$M$6:$V$612,10,0))) | G81: =IF(ISERROR(VLOOKUP(L81,$M$6:$V$612,5,0)),"",(VLOOKUP(L81,$M$6:$V$612,5,0))) | H81: =IF(ISERROR(VLOOKUP(L81,$M$6:$V$612,4,0)),"",(VLOOKUP(L81,$M$6:$V$612,4,0))) | I81: =IF(ISERROR(VLOOKUP(L81,$M$6:$V$612,6,0)),"",(VLOOKUP(L81,$M$6:$V$612,6,0))) | L81: 76 | M81: =IF(P81>0,M80+1,M80) -> 0 | N81: Reducing Union PF Series | P81: ='Reducing Fittings'!H4 -> 0 | Q81: ='Reducing Fittings'!I4 -> 35.88 | R81: ='Reducing Fittings'!K4 -> 0 | S81: ='Reducing Fittings'!D4 -> 2811212180 | T81: ='Reducing Fittings'!E4 -> 25 / 1" | U81: ='Reducing Fittings'!F4 -> 20 / ¾" | V81: 1
B82: =IF(ISERROR(VLOOKUP(L82,$M$6:$V$612,7,0)),"",(VLOOKUP(L82,$M$6:$V688,7,0))) | C82: =IF(ISERROR(VLOOKUP(L82,$M$6:$V$612,2,0)),"",(VLOOKUP(L82,$M$6:$V$612,2,0))) | D82: =IF(ISERROR(VLOOKUP(L82,$M$6:$V$612,8,0)),"",(VLOOKUP(L82,$M$6:$V$612,8,0))) | E82: =IF(ISERROR(VLOOKUP(L82,$M$6:$V$612,9,FALSE)),"",(VLOOKUP(L82,$M$6:$V$612,9,0))) | F82: =IF(ISERROR(VLOOKUP(L82,$M$6:$V$612,10,0)),"",(VLOOKUP(L82,$M$6:$V$612,10,0))) | G82: =IF(ISERROR(VLOOKUP(L82,$M$6:$V$612,5,0)),"",(VLOOKUP(L82,$M$6:$V$612,5,0))) | H82: =IF(ISERROR(VLOOKUP(L82,$M$6:$V$612,4,0)),"",(VLOOKUP(L82,$M$6:$V$612,4,0))) | I82: =IF(ISERROR(VLOOKUP(L82,$M$6:$V$612,6,0)),"",(VLOOKUP(L82,$M$6:$V$612,6,0))) | L82: 77 | M82: =IF(P82>0,M81+1,M81) -> 0 | N82: Reducing Union PF Series | P82: ='Reducing Fittings'!H5 -> 0 | Q82: ='Reducing Fittings'!I5 -> 61.68 | R82: ='Reducing Fittings'!K5 -> 0 | S82: ='Reducing Fittings'!D5 -> 2811422180 | T82: ='Reducing Fittings'!E5 -> 40 / 1½" | U82: ='Reducing Fittings'!F5 -> 25 / 1" | V82: 1
B83: =IF(ISERROR(VLOOKUP(L83,$M$6:$V$612,7,0)),"",(VLOOKUP(L83,$M$6:$V689,7,0))) | C83: =IF(ISERROR(VLOOKUP(L83,$M$6:$V$612,2,0)),"",(VLOOKUP(L83,$M$6:$V$612,2,0))) | D83: =IF(ISERROR(VLOOKUP(L83,$M$6:$V$612,8,0)),"",(VLOOKUP(L83,$M$6:$V$612,8,0))) | E83: =IF(ISERROR(VLOOKUP(L83,$M$6:$V$612,9,FALSE)),"",(VLOOKUP(L83,$M$6:$V$612,9,0))) | F83: =IF(ISERROR(VLOOKUP(L83,$M$6:$V$612,10,0)),"",(VLOOKUP(L83,$M$6:$V$612,10,0))) | G83: =IF(ISERROR(VLOOKUP(L83,$M$6:$V$612,5,0)),"",(VLOOKUP(L83,$M$6:$V$612,5,0))) | H83: =IF(ISERROR(VLOOKUP(L83,$M$6:$V$612,4,0)),"",(VLOOKUP(L83,$M$6:$V$612,4,0))) | I83: =IF(ISERROR(VLOOKUP(L83,$M$6:$V$612,6,0)),"",(VLOOKUP(L83,$M$6:$V$612,6,0))) | L83: 78 | M83: =IF(P83>0,M82+1,M82) -> 0 | N83: Reducing Union PF Series | P83: ='Reducing Fittings'!H6 -> 0 | Q83: ='Reducing Fittings'!I6 -> 61.62 | R83: ='Reducing Fittings'!K6 -> 0 | S83: ='Reducing Fittings'!D6 -> 2811542180 | T83: ='Reducing Fittings'!E6 -> 50 / 2" | U83: ='Reducing Fittings'!F6 -> 40 / 1½" | V83: 1
B84: =IF(ISERROR(VLOOKUP(L84,$M$6:$V$612,7,0)),"",(VLOOKUP(L84,$M$6:$V690,7,0))) | C84: =IF(ISERROR(VLOOKUP(L84,$M$6:$V$612,2,0)),"",(VLOOKUP(L84,$M$6:$V$612,2,0))) | D84: =IF(ISERROR(VLOOKUP(L84,$M$6:$V$612,8,0)),"",(VLOOKUP(L84,$M$6:$V$612,8,0))) | E84: =IF(ISERROR(VLOOKUP(L84,$M$6:$V$612,9,FALSE)),"",(VLOOKUP(L84,$M$6:$V$612,9,0))) | F84: =IF(ISERROR(VLOOKUP(L84,$M$6:$V$612,10,0)),"",(VLOOKUP(L84,$M$6:$V$612,10,0))) | G84: =IF(ISERROR(VLOOKUP(L84,$M$6:$V$612,5,0)),"",(VLOOKUP(L84,$M$6:$V$612,5,0))) | H84: =IF(ISERROR(VLOOKUP(L84,$M$6:$V$612,4,0)),"",(VLOOKUP(L84,$M$6:$V$612,4,0))) | I84: =IF(ISERROR(VLOOKUP(L84,$M$6:$V$612,6,0)),"",(VLOOKUP(L84,$M$6:$V$612,6,0))) | L84: 79 | M84: =IF(P84>0,M83+1,M83) -> 0
B85: =IF(ISERROR(VLOOKUP(L85,$M$6:$V$612,7,0)),"",(VLOOKUP(L85,$M$6:$V691,7,0))) | C85: =IF(ISERROR(VLOOKUP(L85,$M$6:$V$612,2,0)),"",(VLOOKUP(L85,$M$6:$V$612,2,0))) | D85: =IF(ISERROR(VLOOKUP(L85,$M$6:$V$612,8,0)),"",(VLOOKUP(L85,$M$6:$V$612,8,0))) | E85: =IF(ISERROR(VLOOKUP(L85,$M$6:$V$612,9,FALSE)),"",(VLOOKUP(L85,$M$6:$V$612,9,0))) | F85: =IF(ISERROR(VLOOKUP(L85,$M$6:$V$612,10,0)),"",(VLOOKUP(L85,$M$6:$V$612,10,0))) | G85: =IF(ISERROR(VLOOKUP(L85,$M$6:$V$612,5,0)),"",(VLOOKUP(L85,$M$6:$V$612,5,0))) | H85: =IF(ISERROR(VLOOKUP(L85,$M$6:$V$612,4,0)),"",(VLOOKUP(L85,$M$6:$V$612,4,0))) | I85: =IF(ISERROR(VLOOKUP(L85,$M$6:$V$612,6,0)),"",(VLOOKUP(L85,$M$6:$V$612,6,0))) | L85: 80 | M85: =IF(P85>0,M84+1,M84) -> 0 | N85: Reducing Union | P85: ='Reducing Fittings'!H8 -> 0 | Q85: ='Reducing Fittings'!I8 -> 180.13 | R85: ='Reducing Fittings'!K8 -> 0 | S85: ='Reducing Fittings'!D8 -> 2811652190 | T85: ='Reducing Fittings'!E8 -> 63 / 2½" | U85: ='Reducing Fittings'!F8 -> 50 / 2" | V85: 1
B86: =IF(ISERROR(VLOOKUP(L86,$M$6:$V$612,7,0)),"",(VLOOKUP(L86,$M$6:$V692,7,0))) | C86: =IF(ISERROR(VLOOKUP(L86,$M$6:$V$612,2,0)),"",(VLOOKUP(L86,$M$6:$V$612,2,0))) | D86: =IF(ISERROR(VLOOKUP(L86,$M$6:$V$612,8,0)),"",(VLOOKUP(L86,$M$6:$V$612,8,0))) | E86: =IF(ISERROR(VLOOKUP(L86,$M$6:$V$612,9,FALSE)),"",(VLOOKUP(L86,$M$6:$V$612,9,0))) | F86: =IF(ISERROR(VLOOKUP(L86,$M$6:$V$612,10,0)),"",(VLOOKUP(L86,$M$6:$V$612,10,0))) | G86: =IF(ISERROR(VLOOKUP(L86,$M$6:$V$612,5,0)),"",(VLOOKUP(L86,$M$6:$V$612,5,0))) | H86: =IF(ISERROR(VLOOKUP(L86,$M$6:$V$612,4,0)),"",(VLOOKUP(L86,$M$6:$V$612,4,0))) | I86: =IF(ISERROR(VLOOKUP(L86,$M$6:$V$612,6,0)),"",(VLOOKUP(L86,$M$6:$V$612,6,0))) | L86: 81 | M86: =IF(P86>0,M85+1,M85) -> 0 | N86: Reducing Union | P86: ='Reducing Fittings'!H9 -> 0 | Q86: ='Reducing Fittings'!I9 -> 222.99 | R86: ='Reducing Fittings'!K9 -> 0 | S86: ='Reducing Fittings'!D9 -> 2811762190 | T86: ='Reducing Fittings'!E9 -> 80 / 3" | U86: ='Reducing Fittings'!F9 -> 63 / 2½" | V86: 1
B87: =IF(ISERROR(VLOOKUP(L87,$M$6:$V$612,7,0)),"",(VLOOKUP(L87,$M$6:$V693,7,0))) | C87: =IF(ISERROR(VLOOKUP(L87,$M$6:$V$612,2,0)),"",(VLOOKUP(L87,$M$6:$V$612,2,0))) | D87: =IF(ISERROR(VLOOKUP(L87,$M$6:$V$612,8,0)),"",(VLOOKUP(L87,$M$6:$V$612,8,0))) | E87: =IF(ISERROR(VLOOKUP(L87,$M$6:$V$612,9,FALSE)),"",(VLOOKUP(L87,$M$6:$V$612,9,0))) | F87: =IF(ISERROR(VLOOKUP(L87,$M$6:$V$612,10,0)),"",(VLOOKUP(L87,$M$6:$V$612,10,0))) | G87: =IF(ISERROR(VLOOKUP(L87,$M$6:$V$612,5,0)),"",(VLOOKUP(L87,$M$6:$V$612,5,0))) | H87: =IF(ISERROR(VLOOKUP(L87,$M$6:$V$612,4,0)),"",(VLOOKUP(L87,$M$6:$V$612,4,0))) | I87: =IF(ISERROR(VLOOKUP(L87,$M$6:$V$612,6,0)),"",(VLOOKUP(L87,$M$6:$V$612,6,0))) | L87: 82 | M87: =IF(P87>0,M86+1,M86) -> 0 | N87: Reducing Union | P87: ='Reducing Fittings'!H10 -> 0 | Q87: ='Reducing Fittings'!I10 -> 201.32 | R87: ='Reducing Fittings'!K10 -> 0 | S87: ='Reducing Fittings'!D10 -> 2810872100 | T87: ='Reducing Fittings'!E10 -> 100 / 4" | U87: ='Reducing Fittings'!F10 -> 80 / 3" | V87: 1
B88: =IF(ISERROR(VLOOKUP(L88,$M$6:$V$612,7,0)),"",(VLOOKUP(L88,$M$6:$V694,7,0))) | C88: =IF(ISERROR(VLOOKUP(L88,$M$6:$V$612,2,0)),"",(VLOOKUP(L88,$M$6:$V$612,2,0))) | D88: =IF(ISERROR(VLOOKUP(L88,$M$6:$V$612,8,0)),"",(VLOOKUP(L88,$M$6:$V$612,8,0))) | E88: =IF(ISERROR(VLOOKUP(L88,$M$6:$V$612,9,FALSE)),"",(VLOOKUP(L88,$M$6:$V$612,9,0))) | F88: =IF(ISERROR(VLOOKUP(L88,$M$6:$V$612,10,0)),"",(VLOOKUP(L88,$M$6:$V$612,10,0))) | G88: =IF(ISERROR(VLOOKUP(L88,$M$6:$V$612,5,0)),"",(VLOOKUP(L88,$M$6:$V$612,5,0))) | H88: =IF(ISERROR(VLOOKUP(L88,$M$6:$V$612,4,0)),"",(VLOOKUP(L88,$M$6:$V$612,4,0))) | I88: =IF(ISERROR(VLOOKUP(L88,$M$6:$V$612,6,0)),"",(VLOOKUP(L88,$M$6:$V$612,6,0))) | L88: 83 | M88: =IF(P88>0,M87+1,M87) -> 0 | N88: Reducing Union | P88: ='Reducing Fittings'!H11 -> 0 | Q88: ='Reducing Fittings'!I11 -> 195.14 | R88: ='Reducing Fittings'!K11 -> 0 | S88: ='Reducing Fittings'!D11 -> 2810982100 | T88: ='Reducing Fittings'!E11 -> 158 / 6" | U88: ='Reducing Fittings'!F11 -> 4 / 100" | V88: 1
B89: =IF(ISERROR(VLOOKUP(L89,$M$6:$V$612,7,0)),"",(VLOOKUP(L89,$M$6:$V695,7,0))) | C89: =IF(ISERROR(VLOOKUP(L89,$M$6:$V$612,2,0)),"",(VLOOKUP(L89,$M$6:$V$612,2,0))) | D89: =IF(ISERROR(VLOOKUP(L89,$M$6:$V$612,8,0)),"",(VLOOKUP(L89,$M$6:$V$612,8,0))) | E89: =IF(ISERROR(VLOOKUP(L89,$M$6:$V$612,9,FALSE)),"",(VLOOKUP(L89,$M$6:$V$612,9,0))) | F89: =IF(ISERROR(VLOOKUP(L89,$M$6:$V$612,10,0)),"",(VLOOKUP(L89,$M$6:$V$612,10,0))) | G89: =IF(ISERROR(VLOOKUP(L89,$M$6:$V$612,5,0)),"",(VLOOKUP(L89,$M$6:$V$612,5,0))) | H89: =IF(ISERROR(VLOOKUP(L89,$M$6:$V$612,4,0)),"",(VLOOKUP(L89,$M$6:$V$612,4,0))) | I89: =IF(ISERROR(VLOOKUP(L89,$M$6:$V$612,6,0)),"",(VLOOKUP(L89,$M$6:$V$612,6,0))) | L89: 84 | M89: =IF(P89>0,M88+1,M88) -> 0 | S89: ='Reducing Fittings'!D12 -> 0 | T89: ='Reducing Fittings'!E12 -> 0 | U89: ='Reducing Fittings'!F12 -> 0
B90: =IF(ISERROR(VLOOKUP(L90,$M$6:$V$612,7,0)),"",(VLOOKUP(L90,$M$6:$V696,7,0))) | C90: =IF(ISERROR(VLOOKUP(L90,$M$6:$V$612,2,0)),"",(VLOOKUP(L90,$M$6:$V$612,2,0))) | D90: =IF(ISERROR(VLOOKUP(L90,$M$6:$V$612,8,0)),"",(VLOOKUP(L90,$M$6:$V$612,8,0))) | E90: =IF(ISERROR(VLOOKUP(L90,$M$6:$V$612,9,FALSE)),"",(VLOOKUP(L90,$M$6:$V$612,9,0))) | F90: =IF(ISERROR(VLOOKUP(L90,$M$6:$V$612,10,0)),"",(VLOOKUP(L90,$M$6:$V$612,10,0))) | G90: =IF(ISERROR(VLOOKUP(L90,$M$6:$V$612,5,0)),"",(VLOOKUP(L90,$M$6:$V$612,5,0))) | H90: =IF(ISERROR(VLOOKUP(L90,$M$6:$V$612,4,0)),"",(VLOOKUP(L90,$M$6:$V$612,4,0))) | I90: =IF(ISERROR(VLOOKUP(L90,$M$6:$V$612,6,0)),"",(VLOOKUP(L90,$M$6:$V$612,6,0))) | L90: 85 | M90: =IF(P90>0,M89+1,M89) -> 0 | P90: ='Reducing Fittings'!H13 -> 0 | S90: ='Reducing Fittings'!D13 -> 0 | T90: ='Reducing Fittings'!E13 -> 0 | U90: ='Reducing Fittings'!F13 -> 0
B91: =IF(ISERROR(VLOOKUP(L91,$M$6:$V$612,7,0)),"",(VLOOKUP(L91,$M$6:$V697,7,0))) | C91: =IF(ISERROR(VLOOKUP(L91,$M$6:$V$612,2,0)),"",(VLOOKUP(L91,$M$6:$V$612,2,0))) | D91: =IF(ISERROR(VLOOKUP(L91,$M$6:$V$612,8,0)),"",(VLOOKUP(L91,$M$6:$V$612,8,0))) | E91: =IF(ISERROR(VLOOKUP(L91,$M$6:$V$612,9,FALSE)),"",(VLOOKUP(L91,$M$6:$V$612,9,0))) | F91: =IF(ISERROR(VLOOKUP(L91,$M$6:$V$612,10,0)),"",(VLOOKUP(L91,$M$6:$V$612,10,0))) | G91: =IF(ISERROR(VLOOKUP(L91,$M$6:$V$612,5,0)),"",(VLOOKUP(L91,$M$6:$V$612,5,0))) | H91: =IF(ISERROR(VLOOKUP(L91,$M$6:$V$612,4,0)),"",(VLOOKUP(L91,$M$6:$V$612,4,0))) | I91: =IF(ISERROR(VLOOKUP(L91,$M$6:$V$612,6,0)),"",(VLOOKUP(L91,$M$6:$V$612,6,0))) | L91: 86 | M91: =IF(P91>0,M90+1,M90) -> 0 | P91: ='Reducing Fittings'!H14 -> 0 | S91: ='Reducing Fittings'!D14 -> 0 | T91: ='Reducing Fittings'!E14 -> Main Size | U91: ='Reducing Fittings'!F14 -> Reduced Size
B92: =IF(ISERROR(VLOOKUP(L92,$M$6:$V$612,7,0)),"",(VLOOKUP(L92,$M$6:$V698,7,0))) | C92: =IF(ISERROR(VLOOKUP(L92,$M$6:$V$612,2,0)),"",(VLOOKUP(L92,$M$6:$V$612,2,0))) | D92: =IF(ISERROR(VLOOKUP(L92,$M$6:$V$612,8,0)),"",(VLOOKUP(L92,$M$6:$V$612,8,0))) | E92: =IF(ISERROR(VLOOKUP(L92,$M$6:$V$612,9,FALSE)),"",(VLOOKUP(L92,$M$6:$V$612,9,0))) | F92: =IF(ISERROR(VLOOKUP(L92,$M$6:$V$612,10,0)),"",(VLOOKUP(L92,$M$6:$V$612,10,0))) | G92: =IF(ISERROR(VLOOKUP(L92,$M$6:$V$612,5,0)),"",(VLOOKUP(L92,$M$6:$V$612,5,0))) | H92: =IF(ISERROR(VLOOKUP(L92,$M$6:$V$612,4,0)),"",(VLOOKUP(L92,$M$6:$V$612,4,0))) | I92: =IF(ISERROR(VLOOKUP(L92,$M$6:$V$612,6,0)),"",(VLOOKUP(L92,$M$6:$V$612,6,0))) | L92: 87 | M92: =IF(P92>0,M91+1,M91) -> 0 | N92: Reducing Tee PF Series | P92: ='Reducing Fittings'!H15 -> 0 | Q92: ='Reducing Fittings'!I15 -> 43.55 | R92: ='Reducing Fittings'!K15 -> 0 | S92: ='Reducing Fittings'!D15 -> 2811210780 | T92: ='Reducing Fittings'!E15 -> 25 / 1" | U92: ='Reducing Fittings'!F15 -> 20 / ¾" | V92: 1
B93: =IF(ISERROR(VLOOKUP(L93,$M$6:$V$612,7,0)),"",(VLOOKUP(L93,$M$6:$V699,7,0))) | C93: =IF(ISERROR(VLOOKUP(L93,$M$6:$V$612,2,0)),"",(VLOOKUP(L93,$M$6:$V$612,2,0))) | D93: =IF(ISERROR(VLOOKUP(L93,$M$6:$V$612,8,0)),"",(VLOOKUP(L93,$M$6:$V$612,8,0))) | E93: =IF(ISERROR(VLOOKUP(L93,$M$6:$V$612,9,FALSE)),"",(VLOOKUP(L93,$M$6:$V$612,9,0))) | F93: =IF(ISERROR(VLOOKUP(L93,$M$6:$V$612,10,0)),"",(VLOOKUP(L93,$M$6:$V$612,10,0))) | G93: =IF(ISERROR(VLOOKUP(L93,$M$6:$V$612,5,0)),"",(VLOOKUP(L93,$M$6:$V$612,5,0))) | H93: =IF(ISERROR(VLOOKUP(L93,$M$6:$V$612,4,0)),"",(VLOOKUP(L93,$M$6:$V$612,4,0))) | I93: =IF(ISERROR(VLOOKUP(L93,$M$6:$V$612,6,0)),"",(VLOOKUP(L93,$M$6:$V$612,6,0))) | L93: 88 | M93: =IF(P93>0,M92+1,M92) -> 0 | N93: Reducing Tee PF Series | P93: ='Reducing Fittings'!H16 -> 0 | Q93: ='Reducing Fittings'!I16 -> 66.87 | R93: ='Reducing Fittings'!K16 -> 0 | S93: ='Reducing Fittings'!D16 -> 2811410780 | T93: ='Reducing Fittings'!E16 -> 40 / 1½" | U93: ='Reducing Fittings'!F16 -> 20 / ¾" | V93: 1
B94: =IF(ISERROR(VLOOKUP(L94,$M$6:$V$612,7,0)),"",(VLOOKUP(L94,$M$6:$V700,7,0))) | C94: =IF(ISERROR(VLOOKUP(L94,$M$6:$V$612,2,0)),"",(VLOOKUP(L94,$M$6:$V$612,2,0))) | D94: =IF(ISERROR(VLOOKUP(L94,$M$6:$V$612,8,0)),"",(VLOOKUP(L94,$M$6:$V$612,8,0))) | E94: =IF(ISERROR(VLOOKUP(L94,$M$6:$V$612,9,FALSE)),"",(VLOOKUP(L94,$M$6:$V$612,9,0))) | F94: =IF(ISERROR(VLOOKUP(L94,$M$6:$V$612,10,0)),"",(VLOOKUP(L94,$M$6:$V$612,10,0))) | G94: =IF(ISERROR(VLOOKUP(L94,$M$6:$V$612,5,0)),"",(VLOOKUP(L94,$M$6:$V$612,5,0))) | H94: =IF(ISERROR(VLOOKUP(L94,$M$6:$V$612,4,0)),"",(VLOOKUP(L94,$M$6:$V$612,4,0))) | I94: =IF(ISERROR(VLOOKUP(L94,$M$6:$V$612,6,0)),"",(VLOOKUP(L94,$M$6:$V$612,6,0))) | L94: 89 | M94: =IF(P94>0,M93+1,M93) -> 0 | N94: Reducing Tee PF Series | P94: ='Reducing Fittings'!H17 -> 0 | Q94: ='Reducing Fittings'!I17 -> 68.77 | R94: ='Reducing Fittings'!K17 -> 0 | S94: ='Reducing Fittings'!D17 -> 2811420780 | T94: ='Reducing Fittings'!E17 -> 40 / 1½" | U94: ='Reducing Fittings'!F17 -> 25 / 1" | V94: 1
B95: =IF(ISERROR(VLOOKUP(L95,$M$6:$V$612,7,0)),"",(VLOOKUP(L95,$M$6:$V701,7,0))) | C95: =IF(ISERROR(VLOOKUP(L95,$M$6:$V$612,2,0)),"",(VLOOKUP(L95,$M$6:$V$612,2,0))) | D95: =IF(ISERROR(VLOOKUP(L95,$M$6:$V$612,8,0)),"",(VLOOKUP(L95,$M$6:$V$612,8,0))) | E95: =IF(ISERROR(VLOOKUP(L95,$M$6:$V$612,9,FALSE)),"",(VLOOKUP(L95,$M$6:$V$612,9,0))) | F95: =IF(ISERROR(VLOOKUP(L95,$M$6:$V$612,10,0)),"",(VLOOKUP(L95,$M$6:$V$612,10,0))) | G95: =IF(ISERROR(VLOOKUP(L95,$M$6:$V$612,5,0)),"",(VLOOKUP(L95,$M$6:$V$612,5,0))) | H95: =IF(ISERROR(VLOOKUP(L95,$M$6:$V$612,4,0)),"",(VLOOKUP(L95,$M$6:$V$612,4,0))) | I95: =IF(ISERROR(VLOOKUP(L95,$M$6:$V$612,6,0)),"",(VLOOKUP(L95,$M$6:$V$612,6,0))) | L95: 90 | M95: =IF(P95>0,M94+1,M94) -> 0 | N95: Reducing Tee PF Series | P95: ='Reducing Fittings'!H18 -> 0 | Q95: ='Reducing Fittings'!I18 -> 93.97 | R95: ='Reducing Fittings'!K18 -> 0 | S95: ='Reducing Fittings'!D18 -> 2811510780 | T95: ='Reducing Fittings'!E18 -> 50 / 2" | U95: ='Reducing Fittings'!F18 -> 20 / ¾" | V95: 1
B96: =IF(ISERROR(VLOOKUP(L96,$M$6:$V$612,7,0)),"",(VLOOKUP(L96,$M$6:$V702,7,0))) | C96: =IF(ISERROR(VLOOKUP(L96,$M$6:$V$612,2,0)),"",(VLOOKUP(L96,$M$6:$V$612,2,0))) | D96: =IF(ISERROR(VLOOKUP(L96,$M$6:$V$612,8,0)),"",(VLOOKUP(L96,$M$6:$V$612,8,0))) | E96: =IF(ISERROR(VLOOKUP(L96,$M$6:$V$612,9,FALSE)),"",(VLOOKUP(L96,$M$6:$V$612,9,0))) | F96: =IF(ISERROR(VLOOKUP(L96,$M$6:$V$612,10,0)),"",(VLOOKUP(L96,$M$6:$V$612,10,0))) | G96: =IF(ISERROR(VLOOKUP(L96,$M$6:$V$612,5,0)),"",(VLOOKUP(L96,$M$6:$V$612,5,0))) | H96: =IF(ISERROR(VLOOKUP(L96,$M$6:$V$612,4,0)),"",(VLOOKUP(L96,$M$6:$V$612,4,0))) | I96: =IF(ISERROR(VLOOKUP(L96,$M$6:$V$612,6,0)),"",(VLOOKUP(L96,$M$6:$V$612,6,0))) | L96: 91 | M96: =IF(P96>0,M95+1,M95) -> 0 | N96: Reducing Tee PF Series | P96: ='Reducing Fittings'!H19 -> 0 | Q96: ='Reducing Fittings'!I19 -> 111.76 | R96: ='Reducing Fittings'!K19 -> 0 | S96: ='Reducing Fittings'!D19 -> 2811520780 | T96: ='Reducing Fittings'!E19 -> 50 / 2" | U96: ='Reducing Fittings'!F19 -> 25 / 1" | V96: 1
B97: =IF(ISERROR(VLOOKUP(L97,$M$6:$V$612,7,0)),"",(VLOOKUP(L97,$M$6:$V703,7,0))) | C97: =IF(ISERROR(VLOOKUP(L97,$M$6:$V$612,2,0)),"",(VLOOKUP(L97,$M$6:$V$612,2,0))) | D97: =IF(ISERROR(VLOOKUP(L97,$M$6:$V$612,8,0)),"",(VLOOKUP(L97,$M$6:$V$612,8,0))) | E97: =IF(ISERROR(VLOOKUP(L97,$M$6:$V$612,9,FALSE)),"",(VLOOKUP(L97,$M$6:$V$612,9,0))) | F97: =IF(ISERROR(VLOOKUP(L97,$M$6:$V$612,10,0)),"",(VLOOKUP(L97,$M$6:$V$612,10,0))) | G97: =IF(ISERROR(VLOOKUP(L97,$M$6:$V$612,5,0)),"",(VLOOKUP(L97,$M$6:$V$612,5,0))) | H97: =IF(ISERROR(VLOOKUP(L97,$M$6:$V$612,4,0)),"",(VLOOKUP(L97,$M$6:$V$612,4,0))) | I97: =IF(ISERROR(VLOOKUP(L97,$M$6:$V$612,6,0)),"",(VLOOKUP(L97,$M$6:$V$612,6,0))) | L97: 92 | M97: =IF(P97>0,M96+1,M96) -> 0 | N97: Reducing Tee PF Series | P97: ='Reducing Fittings'!H20 -> 0 | Q97: ='Reducing Fittings'!I20 -> 145.51 | R97: ='Reducing Fittings'!K20 -> 0 | S97: ='Reducing Fittings'!D20 -> 2811540780 | T97: ='Reducing Fittings'!E20 -> 50 / 2" | U97: ='Reducing Fittings'!F20 -> 40 / 1½" | V97: 1
B98: =IF(ISERROR(VLOOKUP(L98,$M$6:$V$612,7,0)),"",(VLOOKUP(L98,$M$6:$V704,7,0))) | C98: =IF(ISERROR(VLOOKUP(L98,$M$6:$V$612,2,0)),"",(VLOOKUP(L98,$M$6:$V$612,2,0))) | D98: =IF(ISERROR(VLOOKUP(L98,$M$6:$V$612,8,0)),"",(VLOOKUP(L98,$M$6:$V$612,8,0))) | E98: =IF(ISERROR(VLOOKUP(L98,$M$6:$V$612,9,FALSE)),"",(VLOOKUP(L98,$M$6:$V$612,9,0))) | F98: =IF(ISERROR(VLOOKUP(L98,$M$6:$V$612,10,0)),"",(VLOOKUP(L98,$M$6:$V$612,10,0))) | G98: =IF(ISERROR(VLOOKUP(L98,$M$6:$V$612,5,0)),"",(VLOOKUP(L98,$M$6:$V$612,5,0))) | H98: =IF(ISERROR(VLOOKUP(L98,$M$6:$V$612,4,0)),"",(VLOOKUP(L98,$M$6:$V$612,4,0))) | I98: =IF(ISERROR(VLOOKUP(L98,$M$6:$V$612,6,0)),"",(VLOOKUP(L98,$M$6:$V$612,6,0))) | L98: 93 | M98: =IF(P98>0,M97+1,M97) -> 0 | P98: ='Reducing Fittings'!H21 -> 0 | Q98: ='Reducing Fittings'!I21 -> 0 | R98: ='Reducing Fittings'!K21 -> 0 | S98: ='Reducing Fittings'!D21 -> 0 | T98: ='Reducing Fittings'!E21 -> Main Size | U98: ='Reducing Fittings'!F21 -> Reduced Size
B99: =IF(ISERROR(VLOOKUP(L99,$M$6:$V$612,7,0)),"",(VLOOKUP(L99,$M$6:$V705,7,0))) | C99: =IF(ISERROR(VLOOKUP(L99,$M$6:$V$612,2,0)),"",(VLOOKUP(L99,$M$6:$V$612,2,0))) | D99: =IF(ISERROR(VLOOKUP(L99,$M$6:$V$612,8,0)),"",(VLOOKUP(L99,$M$6:$V$612,8,0))) | E99: =IF(ISERROR(VLOOKUP(L99,$M$6:$V$612,9,FALSE)),"",(VLOOKUP(L99,$M$6:$V$612,9,0))) | F99: =IF(ISERROR(VLOOKUP(L99,$M$6:$V$612,10,0)),"",(VLOOKUP(L99,$M$6:$V$612,10,0))) | G99: =IF(ISERROR(VLOOKUP(L99,$M$6:$V$612,5,0)),"",(VLOOKUP(L99,$M$6:$V$612,5,0))) | H99: =IF(ISERROR(VLOOKUP(L99,$M$6:$V$612,4,0)),"",(VLOOKUP(L99,$M$6:$V$612,4,0))) | I99: =IF(ISERROR(VLOOKUP(L99,$M$6:$V$612,6,0)),"",(VLOOKUP(L99,$M$6:$V$612,6,0))) | L99: 94 | M99: =IF(P99>0,M98+1,M98) -> 0 | N99: Reducing Tee PF Series | P99: ='Reducing Fittings'!H22 -> 0 | Q99: ='Reducing Fittings'!I22 -> 171.67 | R99: ='Reducing Fittings'!K22 -> 0 | S99: ='Reducing Fittings'!D22 -> 2811640790 | T99: ='Reducing Fittings'!E22 -> 63 / 2½" | U99: ='Reducing Fittings'!F22 -> 40 / 1½" | V99: 1
B100: =IF(ISERROR(VLOOKUP(L100,$M$6:$V$612,7,0)),"",(VLOOKUP(L100,$M$6:$V706,7,0))) | C100: =IF(ISERROR(VLOOKUP(L100,$M$6:$V$612,2,0)),"",(VLOOKUP(L100,$M$6:$V$612,2,0))) | D100: =IF(ISERROR(VLOOKUP(L100,$M$6:$V$612,8,0)),"",(VLOOKUP(L100,$M$6:$V$612,8,0))) | E100: =IF(ISERROR(VLOOKUP(L100,$M$6:$V$612,9,FALSE)),"",(VLOOKUP(L100,$M$6:$V$612,9,0))) | F100: =IF(ISERROR(VLOOKUP(L100,$M$6:$V$612,10,0)),"",(VLOOKUP(L100,$M$6:$V$612,10,0))) | G100: =IF(ISERROR(VLOOKUP(L100,$M$6:$V$612,5,0)),"",(VLOOKUP(L100,$M$6:$V$612,5,0))) | H100: =IF(ISERROR(VLOOKUP(L100,$M$6:$V$612,4,0)),"",(VLOOKUP(L100,$M$6:$V$612,4,0))) | I100: =IF(ISERROR(VLOOKUP(L100,$M$6:$V$612,6,0)),"",(VLOOKUP(L100,$M$6:$V$612,6,0))) | L100: 95 | M100: =IF(P100>0,M99+1,M99) -> 0 | N100: Reducing Tee PF Series | P100: ='Reducing Fittings'!H23 -> 0 | Q100: ='Reducing Fittings'!I23 -> 183.98 | R100: ='Reducing Fittings'!K23 -> 0 | S100: ='Reducing Fittings'!D23 -> 2811650790 | T100: ='Reducing Fittings'!E23 -> 63 / 2½" | U100: ='Reducing Fittings'!F23 -> 50 / 2" | V100: 1
B101: =IF(ISERROR(VLOOKUP(L101,$M$6:$V$612,7,0)),"",(VLOOKUP(L101,$M$6:$V707,7,0))) | C101: =IF(ISERROR(VLOOKUP(L101,$M$6:$V$612,2,0)),"",(VLOOKUP(L101,$M$6:$V$612,2,0))) | D101: =IF(ISERROR(VLOOKUP(L101,$M$6:$V$612,8,0)),"",(VLOOKUP(L101,$M$6:$V$612,8,0))) | E101: =IF(ISERROR(VLOOKUP(L101,$M$6:$V$612,9,FALSE)),"",(VLOOKUP(L101,$M$6:$V$612,9,0))) | F101: =IF(ISERROR(VLOOKUP(L101,$M$6:$V$612,10,0)),"",(VLOOKUP(L101,$M$6:$V$612,10,0))) | G101: =IF(ISERROR(VLOOKUP(L101,$M$6:$V$612,5,0)),"",(VLOOKUP(L101,$M$6:$V$612,5,0))) | H101: =IF(ISERROR(VLOOKUP(L101,$M$6:$V$612,4,0)),"",(VLOOKUP(L101,$M$6:$V$612,4,0))) | I101: =IF(ISERROR(VLOOKUP(L101,$M$6:$V$612,6,0)),"",(VLOOKUP(L101,$M$6:$V$612,6,0))) | L101: 96 | M101: =IF(P101>0,M100+1,M100) -> 0 | N101: Reducing Tee PF Series | P101: ='Reducing Fittings'!H24 -> 0 | Q101: ='Reducing Fittings'!I24 -> 210.82 | R101: ='Reducing Fittings'!K24 -> 0 | S101: ='Reducing Fittings'!D24 -> 2811740790 | T101: ='Reducing Fittings'!E24 -> 80 / 3" | U101: ='Reducing Fittings'!F24 -> 40 / 1½" | V101: 1
B102: =IF(ISERROR(VLOOKUP(L102,$M$6:$V$612,7,0)),"",(VLOOKUP(L102,$M$6:$V708,7,0))) | C102: =IF(ISERROR(VLOOKUP(L102,$M$6:$V$612,2,0)),"",(VLOOKUP(L102,$M$6:$V$612,2,0))) | D102: =IF(ISERROR(VLOOKUP(L102,$M$6:$V$612,8,0)),"",(VLOOKUP(L102,$M$6:$V$612,8,0))) | E102: =IF(ISERROR(VLOOKUP(L102,$M$6:$V$612,9,FALSE)),"",(VLOOKUP(L102,$M$6:$V$612,9,0))) | F102: =IF(ISERROR(VLOOKUP(L102,$M$6:$V$612,10,0)),"",(VLOOKUP(L102,$M$6:$V$612,10,0))) | G102: =IF(ISERROR(VLOOKUP(L102,$M$6:$V$612,5,0)),"",(VLOOKUP(L102,$M$6:$V$612,5,0))) | H102: =IF(ISERROR(VLOOKUP(L102,$M$6:$V$612,4,0)),"",(VLOOKUP(L102,$M$6:$V$612,4,0))) | I102: =IF(ISERROR(VLOOKUP(L102,$M$6:$V$612,6,0)),"",(VLOOKUP(L102,$M$6:$V$612,6,0))) | L102: 97 | M102: =IF(P102>0,M101+1,M101) -> 0 | N102: Reducing Tee PF Series | P102: ='Reducing Fittings'!H25 -> 0 | Q102: ='Reducing Fittings'!I25 -> 219.29 | R102: ='Reducing Fittings'!K25 -> 0 | S102: ='Reducing Fittings'!D25 -> 2811750790 | T102: ='Reducing Fittings'!E25 -> 80 / 3" | U102: ='Reducing Fittings'!F25 -> 50 / 2" | V102: 1
...

Sheet PIPE
D1: Pipes & Pipe Clips | H1: Enter Qty Here
B2: Category | C2: Sub Category | D2: Part Number | E2: Size mm / in | F2: Additonal Info | G2: Lot Size | H2: Qty | I2: Your Price | J2: List Price | K2: Total
B3: Pipe | C3: Compressed Air | E3: AIRnet Φ
D4: 2811100000 | E4: 20 / ¾" | F4: 18 ft 8 inch | G4: 1 | I4: =VLOOKUP(Table32[[#This Row],[Part Number]],'2026 Pricing Rework'!$B$32:$F$740,5,FALSE) -> 63.67 | J4: =VLOOKUP(Table32[[#This Row],[Part Number]],'2025 Pricing Rework'!$B$31:$F$737,4,FALSE) -> 63.79 | K4: =Table32[[#This Row],[Your Price]]*Table32[[#This Row],[Qty]] -> 0
D5: 2811200000 | E5: 25 / 1" | F5: 18 ft 8 inch | G5: 1 | I5: =VLOOKUP(Table32[[#This Row],[Part Number]],'2026 Pricing Rework'!$B$32:$F$740,5,FALSE) -> 79.58 | J5: =VLOOKUP(Table32[[#This Row],[Part Number]],'2025 Pricing Rework'!$B$31:$F$737,4,FALSE) -> 79.73 | K5: =Table32[[#This Row],[Your Price]]*Table32[[#This Row],[Qty]] -> 0
D6: 2811400000 | E6: 40 / 1½" | F6: 18 ft 8 inch | G6: 1 | I6: =VLOOKUP(Table32[[#This Row],[Part Number]],'2026 Pricing Rework'!$B$32:$F$740,5,FALSE) -> 130.04 | J6: =VLOOKUP(Table32[[#This Row],[Part Number]],'2025 Pricing Rework'!$B$31:$F$737,4,FALSE) -> 130.29 | K6: =Table32[[#This Row],[Your Price]]*Table32[[#This Row],[Qty]] -> 0
D7: 2811500000 | E7: 50 / 2" | F7: 18 ft 8 inch | G7: 1 | I7: =VLOOKUP(Table32[[#This Row],[Part Number]],'2026 Pricing Rework'!$B$32:$F$740,5,FALSE) -> 175.81 | J7: =VLOOKUP(Table32[[#This Row],[Part Number]],'2025 Pricing Rework'!$B$31:$F$737,4,FALSE) -> 176.14 | K7: =Table32[[#This Row],[Your Price]]*Table32[[#This Row],[Qty]] -> 0
D8: 2811600000 | E8: 63 / 2½" | F8: 18 ft 8 inch | G8: 1 | I8: =VLOOKUP(Table32[[#This Row],[Part Number]],'2026 Pricing Rework'!$B$32:$F$740,5,FALSE) -> 225.22 | J8: =VLOOKUP(Table32[[#This Row],[Part Number]],'2025 Pricing Rework'!$B$31:$F$737,4,FALSE) -> 225.66 | K8: =Table32[[#This Row],[Your Price]]*Table32[[#This Row],[Qty]] -> 0
D9: 2811700000 | E9: 80 / 3" | F9: 18 ft 8 inch | G9: 1 | I9: =VLOOKUP(Table32[[#This Row],[Part Number]],'2026 Pricing Rework'!$B$32:$F$740,5,FALSE) -> 314.96 | J9: =VLOOKUP(Table32[[#This Row],[Part Number]],'2025 Pricing Rework'!$B$31:$F$737,4,FALSE) -> 315.56 | K9: =Table32[[#This Row],[Your Price]]*Table32[[#This Row],[Qty]] -> 0
D10: 2811800000 | E10: 100 / 4" | F10: 18 ft 8 inch | G10: 1 | I10: =VLOOKUP(Table32[[#This Row],[Part Number]],'2026 Pricing Rework'!$B$32:$F$740,5,FALSE) -> 439.13 | J10: =VLOOKUP(Table32[[#This Row],[Part Number]],'2025 Pricing Rework'!$B$31:$F$737,4,FALSE) -> 439.97 | K10: =Table32[[#This Row],[Your Price]]*Table32[[#This Row],[Qty]] -> 0
D11: 2811900000 | E11: 158 / 6" | F11: 18 ft 8 inch | G11: 1 | I11: =VLOOKUP(Table32[[#This Row],[Part Number]],'2026 Pricing Rework'!$B$32:$F$740,5,FALSE) -> 901.34 | J11: =VLOOKUP(Table32[[#This Row],[Part Number]],'2025 Pricing Rework'!$B$31:$F$737,4,FALSE) -> 903.08 | K11: =Table32[[#This Row],[Your Price]]*Table32[[#This Row],[Qty]] -> 0
C13: Inert Gas (green pipe)
D14: 2811106100 | E14: 20 / ¾" | F14: 18 ft 8 inch | G14: 1 | I14: =VLOOKUP(Table32[[#This Row],[Part Number]],'2026 Pricing Rework'!$B$32:$F$740,5,FALSE) -> 74.16 | J14: =VLOOKUP(Table32[[#This Row],[Part Number]],'2025 Pricing Rework'!$B$31:$F$737,4,FALSE) -> 74.3 | K14: =Table32[[#This Row],[Your Price]]*Table32[[#This Row],[Qty]] -> 0
D15: 2811206100 | E15: 25 / 1" | F15: 18 ft 8 inch | G15: 1 | I15: =VLOOKUP(Table32[[#This Row],[Part Number]],'2026 Pricing Rework'!$B$32:$F$740,5,FALSE) -> 120.17 | J15: =VLOOKUP(Table32[[#This Row],[Part Number]],'2025 Pricing Rework'!$B$31:$F$737,4,FALSE) -> 120.4 | K15: =Table32[[#This Row],[Your Price]]*Table32[[#This Row],[Qty]] -> 0
F16: Additonal Sizes available - Special order
C17: Vacuum (gray pipe) | F17: Available by Special Order
C21: S Bend | F21: Comment
D22: 2811106705 | E22: 20 / ¾" | F22: Use with Quick Drops to rotate pipe against wall (~6.5" offset) | G22: 5 | I22: =VLOOKUP(Table32[[#This Row],[Part Number]],'2026 Pricing Rework'!$B$32:$F$740,5,FALSE) -> 74.44 | J22: =VLOOKUP(Table32[[#This Row],[Part Number]],'2025 Pricing Rework'!$B$31:$F$737,4,FALSE) -> 74.58 | K22: =Table32[[#This Row],[Your Price]]*Table32[[#This Row],[Qty]] -> 0
D23: 2811206705 | E23: 25 / 1" | F23: Use with Quick Drops to rotate pipe against wall (~6.5" offset) | G23: 5 | I23: =VLOOKUP(Table32[[#This Row],[Part Number]],'2026 Pricing Rework'!$B$32:$F$740,5,FALSE) -> 103.06 | J23: =VLOOKUP(Table32[[#This Row],[Part Number]],'2025 Pricing Rework'!$B$31:$F$737,4,FALSE) -> 103.25 | K23: =Table32[[#This Row],[Your Price]]*Table32[[#This Row],[Qty]] -> 0

Sheet Straight Connection
A1: 4 | D1: Straight Connections, Elbows, Tees, & End Caps | H1: Enter Qty Here
B2: Category | C2: Sub Category | D2: Part Number | E2: Size mm / in | F2: Additonal Info | G2: Lot Size | H2: Qty | I2: Your Price | J2: List Price | K2: Total
B3: Straight Connection | C3: Equal Union - PF Series
D4: 2811100280 | E4: 20 / ¾" | F4: Pipe to Pipe connector | G4: 1 | I4: =VLOOKUP(Table33[[#This Row],[Part Number]],'2026 Pricing Rework'!$B$32:$F$740,5,FALSE) -> 20.18 | J4: =VLOOKUP(Table33[[#This Row],[Part Number]],'2025 Pricing Rework'!$B$31:$F$737,4,FALSE) -> 20.21 | K4: =Table33[[#This Row],[Your Price]]*Table33[[#This Row],[Qty]] -> 0
D5: 2811200280 | E5: 25 / 1" | F5: Pipe to Pipe connector | G5: 1 | I5: =VLOOKUP(Table33[[#This Row],[Part Number]],'2026 Pricing Rework'!$B$32:$F$740,5,FALSE) -> 30.83 | J5: =VLOOKUP(Table33[[#This Row],[Part Number]],'2025 Pricing Rework'!$B$31:$F$737,4,FALSE) -> 30.89 | K5: =Table33[[#This Row],[Your Price]]*Table33[[#This Row],[Qty]] -> 0
D6: 2811400280 | E6: 40 / 1½" | F6: Pipe to Pipe connector | G6: 1 | I6: =VLOOKUP(Table33[[#This Row],[Part Number]],'2026 Pricing Rework'!$B$32:$F$740,5,FALSE) -> 53.46 | J6: =VLOOKUP(Table33[[#This Row],[Part Number]],'2025 Pricing Rework'!$B$31:$F$737,4,FALSE) -> 53.55 | K6: =Table33[[#This Row],[Your Price]]*Table33[[#This Row],[Qty]] -> 0
D7: 2811500280 | E7: 50 / 2" | F7: Pipe to Pipe connector | G7: 1 | I7: =VLOOKUP(Table33[[#This Row],[Part Number]],'2026 Pricing Rework'!$B$32:$F$740,5,FALSE) -> 67.22 | J7: =VLOOKUP(Table33[[#This Row],[Part Number]],'2025 Pricing Rework'!$B$31:$F$737,4,FALSE) -> 67.34 | K7: =Table33[[#This Row],[Your Price]]*Table33[[#This Row],[Qty]] -> 0
C9: Equal Union - PM & Large Series
D10: 2811600290 | E10: 63 / 2½" | F10: Pipe to Pipe connector | G10: 1 | I10: =VLOOKUP(Table33[[#This Row],[Part Number]],'2026 Pricing Rework'!$B$32:$F$740,5,FALSE) -> 82.08 | J10: =VLOOKUP(Table33[[#This Row],[Part Number]],'2025 Pricing Rework'!$B$31:$F$737,4,FALSE) -> 82.24 | K10: =Table33[[#This Row],[Your Price]]*Table33[[#This Row],[Qty]] -> 0
D11: 2811700290 | E11: 80 / 3" | F11: Pipe to Pipe connector | G11: 1 | I11: =VLOOKUP(Table33[[#This Row],[Part Number]],'2026 Pricing Rework'!$B$32:$F$740,5,FALSE) -> 111.6 | J11: =VLOOKUP(Table33[[#This Row],[Part Number]],'2025 Pricing Rework'!$B$31:$F$737,4,FALSE) -> 111.81 | K11: =Table33[[#This Row],[Your Price]]*Table33[[#This Row],[Qty]] -> 0
D12: 2810880200 | E12: 100 / 4" | F12: Pipe to Pipe or Pipe to Fitting | G12: 1 | I12: =VLOOKUP(Table33[[#This Row],[Part Number]],'2026 Pricing Rework'!$B$32:$F$740,5,FALSE) -> 146.21 | J12: =VLOOKUP(Table33[[#This Row],[Part Number]],'2025 Pricing Rework'!$B$31:$F$737,4,FALSE) -> 146.49 | K12: =Table33[[#This Row],[Your Price]]*Table33[[#This Row],[Qty]] -> 0
D13: 2810900200 | E13: 158 / 6" | F13: Pipe to Pipe or Pipe to Fitting | G13: 1 | I13: =VLOOKUP(Table33[[#This Row],[Part Number]],'2026 Pricing Rework'!$B$32:$F$740,5,FALSE) -> 157.84 | J13: =VLOOKUP(Table33[[#This Row],[Part Number]],'2025 Pricing Rework'!$B$31:$F$737,4,FALSE) -> 158.14 | K13: =Table33[[#This Row],[Your Price]]*Table33[[#This Row],[Qty]] -> 0
B15: Elbow | C15: 90° Elbows - PF Series
D16: 2811100380 | E16: 20 / ¾" | G16: 1 | I16: =VLOOKUP(Table33[[#This Row],[Part Number]],'2026 Pricing Rework'!$B$32:$F$740,5,FALSE) -> 28.87 | J16: =VLOOKUP(Table33[[#This Row],[Part Number]],'2025 Pricing Rework'!$B$31:$F$737,4,FALSE) -> 28.92 | K16: =Table33[[#This Row],[Your Price]]*Table33[[#This Row],[Qty]] -> 0
D17: 2811200380 | E17: 25 / 1" | G17: 1 | I17: =VLOOKUP(Table33[[#This Row],[Part Number]],'2026 Pricing Rework'!$B$32:$F$740,5,FALSE) -> 36.55 | J17: =VLOOKUP(Table33[[#This Row],[Part Number]],'2025 Pricing Rework'!$B$31:$F$737,4,FALSE) -> 36.61 | K17: =Table33[[#This Row],[Your Price]]*Table33[[#This Row],[Qty]] -> 0
D18: 2811400380 | E18: 40 / 1½" | G18: 1 | I18: =VLOOKUP(Table33[[#This Row],[Part Number]],'2026 Pricing Rework'!$B$32:$F$740,5,FALSE) -> 57.12 | J18: =VLOOKUP(Table33[[#This Row],[Part Number]],'2025 Pricing Rework'!$B$31:$F$737,4,FALSE) -> 57.23 | K18: =Table33[[#This Row],[Your Price]]*Table33[[#This Row],[Qty]] -> 0
D19: 2811500380 | E19: 50 / 2" | G19: 1 | I19: =VLOOKUP(Table33[[#This Row],[Part Number]],'2026 Pricing Rework'!$B$32:$F$740,5,FALSE) -> 76.31 | J19: =VLOOKUP(Table33[[#This Row],[Part Number]],'2025 Pricing Rework'!$B$31:$F$737,4,FALSE) -> 76.46 | K19: =Table33[[#This Row],[Your Price]]*Table33[[#This Row],[Qty]] -> 0
C21: 90° Elbows - PM & Large Series
D22: 2811600390 | E22: 63 / 2½" | G22: 1 | I22: =VLOOKUP(Table33[[#This Row],[Part Number]],'2026 Pricing Rework'!$B$32:$F$740,5,FALSE) -> 132.91 | J22: =VLOOKUP(Table33[[#This Row],[Part Number]],'2025 Pricing Rework'!$B$31:$F$737,4,FALSE) -> 133.16 | K22: =Table33[[#This Row],[Your Price]]*Table33[[#This Row],[Qty]] -> 0
D23: 2811700390 | E23: 80 / 3" | G23: 1 | I23: =VLOOKUP(Table33[[#This Row],[Part Number]],'2026 Pricing Rework'!$B$32:$F$740,5,FALSE) -> 155.64 | J23: =VLOOKUP(Table33[[#This Row],[Part Number]],'2025 Pricing Rework'!$B$31:$F$737,4,FALSE) -> 155.93 | K23: =Table33[[#This Row],[Your Price]]*Table33[[#This Row],[Qty]] -> 0
D24: 2810800300 | E24: 100 / 4" | F24: Requires 2 Equal Unions | G24: 1 | I24: =VLOOKUP(Table33[[#This Row],[Part Number]],'2026 Pricing Rework'!$B$32:$F$740,5,FALSE) -> 188.98 | J24: =VLOOKUP(Table33[[#This Row],[Part Number]],'2025 Pricing Rework'!$B$31:$F$737,4,FALSE) -> 189.34 | K24: =Table33[[#This Row],[Your Price]]*Table33[[#This Row],[Qty]] -> 0
D25: 2810900300 | E25: 158 / 6" | F25: Requires 2 Equal Unions | G25: 1 | I25: =VLOOKUP(Table33[[#This Row],[Part Number]],'2026 Pricing Rework'!$B$32:$F$740,5,FALSE) -> 269.67 | J25: =VLOOKUP(Table33[[#This Row],[Part Number]],'2025 Pricing Rework'!$B$31:$F$737,4,FALSE) -> 270.18 | K25: =Table33[[#This Row],[Your Price]]*Table33[[#This Row],[Qty]] -> 0
C28: 45° Elbow - PF Series
D29: 2811100480 | E29: 20 / ¾" | G29: 1 | I29: =VLOOKUP(Table33[[#This Row],[Part Number]],'2026 Pricing Rework'!$B$32:$F$740,5,FALSE) -> 32.49 | J29: =VLOOKUP(Table33[[#This Row],[Part Number]],'2025 Pricing Rework'!$B$31:$F$737,4,FALSE) -> 32.54 | K29: =Table33[[#This Row],[Your Price]]*Table33[[#This Row],[Qty]] -> 0
D30: 2811200480 | E30: 25 / 1" | G30: 1 | I30: =VLOOKUP(Table33[[#This Row],[Part Number]],'2026 Pricing Rework'!$B$32:$F$740,5,FALSE) -> 42.82 | J30: =VLOOKUP(Table33[[#This Row],[Part Number]],'2025 Pricing Rework'!$B$31:$F$737,4,FALSE) -> 42.9 | K30: =Table33[[#This Row],[Your Price]]*Table33[[#This Row],[Qty]] -> 0
D31: 2811400480 | E31: 40 / 1½" | G31: 1 | I31: =VLOOKUP(Table33[[#This Row],[Part Number]],'2026 Pricing Rework'!$B$32:$F$740,5,FALSE) -> 67.1 | J31: =VLOOKUP(Table33[[#This Row],[Part Number]],'2025 Pricing Rework'!$B$31:$F$737,4,FALSE) -> 67.23 | K31: =Table33[[#This Row],[Your Price]]*Table33[[#This Row],[Qty]] -> 0
D32: 2811500480 | E32: 50 / 2" | G32: 1 | I32: =VLOOKUP(Table33[[#This Row],[Part Number]],'2026 Pricing Rework'!$B$32:$F$740,5,FALSE) -> 83.49 | J32: =VLOOKUP(Table33[[#This Row],[Part Number]],'2025 Pricing Rework'!$B$31:$F$737,4,FALSE) -> 83.64 | K32: =Table33[[#This Row],[Your Price]]*Table33[[#This Row],[Qty]] -> 0
C33: 45° Elbow - PM & Large Series
D34: 2811600490 | E34: 63 / 2½" | G34: 1 | I34: =VLOOKUP(Table33[[#This Row],[Part Number]],'2026 Pricing Rework'!$B$32:$F$740,5,FALSE) -> 137.45 | J34: =VLOOKUP(Table33[[#This Row],[Part Number]],'2025 Pricing Rework'!$B$31:$F$737,4,FALSE) -> 137.71 | K34: =Table33[[#This Row],[Your Price]]*Table33[[#This Row],[Qty]] -> 0
D35: 2811700490 | E35: 80 / 3" | G35: 1 | I35: =VLOOKUP(Table33[[#This Row],[Part Number]],'2026 Pricing Rework'!$B$32:$F$740,5,FALSE) -> 170.58 | J35: =VLOOKUP(Table33[[#This Row],[Part Number]],'2025 Pricing Rework'!$B$31:$F$737,4,FALSE) -> 170.9 | K35: =Table33[[#This Row],[Your Price]]*Table33[[#This Row],[Qty]] -> 0
D36: 2810800400 | E36: 100 / 4" | F36: Requires 2 Equal Unions | G36: 1 | I36: =VLOOKUP(Table33[[#This Row],[Part Number]],'2026 Pricing Rework'!$B$32:$F$740,5,FALSE) -> 198.53 | J36: =VLOOKUP(Table33[[#This Row],[Part Number]],'2025 Pricing Rework'!$B$31:$F$737,4,FALSE) -> 198.9 | K36: =Table33[[#This Row],[Your Price]]*Table33[[#This Row],[Qty]] -> 0
D37: 2810900400 | E37: 158 / 6" | F37: Requires 2 Equal Unions | G37: 1 | I37: =VLOOKUP(Table33[[#This Row],[Part Number]],'2026 Pricing Rework'!$B$32:$F$740,5,FALSE) -> 274.17 | J37: =VLOOKUP(Table33[[#This Row],[Part Number]],'2025 Pricing Rework'!$B$31:$F$737,4,FALSE) -> 274.69 | K37: =Table33[[#This Row],[Your Price]]*Table33[[#This Row],[Qty]] -> 0
B40: Tee | C40: Equal Tee - PF Series
D41: 2811100580 | E41: 20 / ¾" | G41: 1 | I41: =VLOOKUP(Table33[[#This Row],[Part Number]],'2026 Pricing Rework'!$B$32:$F$740,5,FALSE) -> 33.74 | J41: =VLOOKUP(Table33[[#This Row],[Part Number]],'2025 Pricing Rework'!$B$31:$F$737,4,FALSE) -> 33.8 | K41: =Table33[[#This Row],[Your Price]]*Table33[[#This Row],[Qty]] -> 0
D42: 2811200580 | E42: 25 / 1" | G42: 1 | I42: =VLOOKUP(Table33[[#This Row],[Part Number]],'2026 Pricing Rework'!$B$32:$F$740,5,FALSE) -> 44.2 | J42: =VLOOKUP(Table33[[#This Row],[Part Number]],'2025 Pricing Rework'!$B$31:$F$737,4,FALSE) -> 44.28 | K42: =Table33[[#This Row],[Your Price]]*Table33[[#This Row],[Qty]] -> 0
D43: 2811400580 | E43: 40 / 1½" | G43: 1 | I43: =VLOOKUP(Table33[[#This Row],[Part Number]],'2026 Pricing Rework'!$B$32:$F$740,5,FALSE) -> 61.17 | J43: =VLOOKUP(Table33[[#This Row],[Part Number]],'2025 Pricing Rework'!$B$31:$F$737,4,FALSE) -> 61.29 | K43: =Table33[[#This Row],[Your Price]]*Table33[[#This Row],[Qty]] -> 0
D44: 2811500580 | E44: 50 / 2" | G44: 1 | I44: =VLOOKUP(Table33[[#This Row],[Part Number]],'2026 Pricing Rework'!$B$32:$F$740,5,FALSE) -> 85.76 | J44: =VLOOKUP(Table33[[#This Row],[Part Number]],'2025 Pricing Rework'!$B$31:$F$737,4,FALSE) -> 85.92 | K44: =Table33[[#This Row],[Your Price]]*Table33[[#This Row],[Qty]] -> 0
C45: Equal Tee - PM & Large Series
D46: 2811600590 | E46: 63 / 2½" | G46: 1 | I46: =VLOOKUP(Table33[[#This Row],[Part Number]],'2026 Pricing Rework'!$B$32:$F$740,5,FALSE) -> 153.65 | J46: =VLOOKUP(Table33[[#This Row],[Part Number]],'2025 Pricing Rework'!$B$31:$F$737,4,FALSE) -> 153.94 | K46: =Table33[[#This Row],[Your Price]]*Table33[[#This Row],[Qty]] -> 0
D47: 2811700590 | E47: 80 / 3" | G47: 1 | I47: =VLOOKUP(Table33[[#This Row],[Part Number]],'2026 Pricing Rework'!$B$32:$F$740,5,FALSE) -> 200.46 | J47: =VLOOKUP(Table33[[#This Row],[Part Number]],'2025 Pricing Rework'!$B$31:$F$737,4,FALSE) -> 200.85 | K47: =Table33[[#This Row],[Your Price]]*Table33[[#This Row],[Qty]] -> 0
D48: 2810800500 | E48: 100 / 4" | F48: Requires 2 Equal Unions | G48: 1 | I48: =VLOOKUP(Table33[[#This Row],[Part Number]],'2026 Pricing Rework'!$B$32:$F$740,5,FALSE) -> 221.57 | J48: =VLOOKUP(Table33[[#This Row],[Part Number]],'2025 Pricing Rework'!$B$31:$F$737,4,FALSE) -> 221.99 | K48: =Table33[[#This Row],[Your Price]]*Table33[[#This Row],[Qty]] -> 0
D49: 2810900500 | E49: 158 / 6" | F49: Requires 2 Equal Unions | G49: 1 | I49: =VLOOKUP(Table33[[#This Row],[Part Number]],'2026 Pricing Rework'!$B$32:$F$740,5,FALSE) -> 303.7 | J49: =VLOOKUP(Table33[[#This Row],[Part Number]],'2025 Pricing Rework'!$B$31:$F$737,4,FALSE) -> 304.28 | K49: =Table33[[#This Row],[Your Price]]*Table33[[#This Row],[Qty]] -> 0
B50: End Cap | C50: End Cap - PF Series
D51: 2811100680 | E51: 20 / ¾" | G51: 1 | I51: =VLOOKUP(Table33[[#This Row],[Part Number]],'2026 Pricing Rework'!$B$32:$F$740,5,FALSE) -> 21.78 | J51: =VLOOKUP(Table33[[#This Row],[Part Number]],'2025 Pricing Rework'!$B$31:$F$737,4,FALSE) -> 21.82 | K51: =Table33[[#This Row],[Your Price]]*Table33[[#This Row],[Qty]] -> 0
D52: 2811200680 | E52: 25 / 1" | G52: 1 | I52: =VLOOKUP(Table33[[#This Row],[Part Number]],'2026 Pricing Rework'!$B$32:$F$740,5,FALSE) -> 27.71 | J52: =VLOOKUP(Table33[[#This Row],[Part Number]],'2025 Pricing Rework'!$B$31:$F$737,4,FALSE) -> 27.76 | K52: =Table33[[#This Row],[Your Price]]*Table33[[#This Row],[Qty]] -> 0
D53: 2811400680 | E53: 40 / 1½" | G53: 1 | I53: =VLOOKUP(Table33[[#This Row],[Part Number]],'2026 Pricing Rework'!$B$32:$F$740,5,FALSE) -> 35.88 | J53: =VLOOKUP(Table33[[#This Row],[Part Number]],'2025 Pricing Rework'!$B$31:$F$737,4,FALSE) -> 35.95 | K53: =Table33[[#This Row],[Your Price]]*Table33[[#This Row],[Qty]] -> 0
D54: 2811500680 | E54: 50 / 2" | G54: 1 | I54: =VLOOKUP(Table33[[#This Row],[Part Number]],'2026 Pricing Rework'!$B$32:$F$740,5,FALSE) -> 50.69 | J54: =VLOOKUP(Table33[[#This Row],[Part Number]],'2025 Pricing Rework'!$B$31:$F$737,4,FALSE) -> 50.78 | K54: =Table33[[#This Row],[Your Price]]*Table33[[#This Row],[Qty]] -> 0
C55: End Cap - PM & Large Series
D56: 2811600690 | E56: 63 / 2½" | G56: 1 | I56: =VLOOKUP(Table33[[#This Row],[Part Number]],'2026 Pricing Rework'!$B$32:$F$740,5,FALSE) -> 75.15 | J56: =VLOOKUP(Table33[[#This Row],[Part Number]],'2025 Pricing Rework'!$B$31:$F$737,4,FALSE) -> 75.29 | K56: =Table33[[#This Row],[Your Price]]*Table33[[#This Row],[Qty]] -> 0
D57: 2811700690 | E57: 80 / 3" | G57: 1 | I57: =VLOOKUP(Table33[[#This Row],[Part Number]],'2026 Pricing Rework'!$B$32:$F$740,5,FALSE) -> 89.77 | J57: =VLOOKUP(Table33[[#This Row],[Part Number]],'2025 Pricing Rework'!$B$31:$F$737,4,FALSE) -> 89.94 | K57: =Table33[[#This Row],[Your Price]]*Table33[[#This Row],[Qty]] -> 0
D58: 2810981600 | E58: 100 / 4" & 158 / 6" | F58: Same End Cap for 4" & 6" pipe | G58: 1 | I58: =VLOOKUP(Table33[[#This Row],[Part Number]],'2026 Pricing Rework'!$B$32:$F$740,5,FALSE) -> 164.46 | J58: =VLOOKUP(Table33[[#This Row],[Part Number]],'2025 Pricing Rework'!$B$31:$F$737,4,FALSE) -> 164.77 | K58: =Table33[[#This Row],[Your Price]]*Table33[[#This Row],[Qty]] -> 0

Sheet Reducing Fittings
D1: Reducing Connections | H1: Enter Qty Here
B2: Category | C2: Sub Category | D2: Part Number | E2: Size mm / in | F2: Size mm / in | G2: Lot Size | H2: Qty | I2: Your Price | J2: List Price | K2: Total
B3: Reduction connections | C3: Reducing Union PF Series | E3: Main Size | F3: Reduced Size
D4: 2811212180 | E4: 25 / 1" | F4: 20 / ¾" | G4: 1 | I4: =VLOOKUP(Table339[[#This Row],[Part Number]],'2026 Pricing Rework'!$B$32:$F$740,5,FALSE) -> 35.88 | J4: =VLOOKUP(Table339[[#This Row],[Part Number]],'2025 Pricing Rework'!$B$31:$F$737,4,FALSE) -> 35.95 | K4: =Table339[[#This Row],[Your Price]]*Table339[[#This Row],[Qty]] -> 0
D5: 2811422180 | E5: 40 / 1½" | F5: 25 / 1" | G5: 1 | I5: =VLOOKUP(Table339[[#This Row],[Part Number]],'2026 Pricing Rework'!$B$32:$F$740,5,FALSE) -> 61.68 | J5: =VLOOKUP(Table339[[#This Row],[Part Number]],'2025 Pricing Rework'!$B$31:$F$737,4,FALSE) -> 61.8 | K5: =Table339[[#This Row],[Your Price]]*Table339[[#This Row],[Qty]] -> 0
D6: 2811542180 | E6: 50 / 2" | F6: 40 / 1½" | G6: 1 | I6: =VLOOKUP(Table339[[#This Row],[Part Number]],'2026 Pricing Rework'!$B$32:$F$740,5,FALSE) -> 61.62 | J6: =VLOOKUP(Table339[[#This Row],[Part Number]],'2025 Pricing Rework'!$B$31:$F$737,4,FALSE) -> 61.73 | K6: =Table339[[#This Row],[Your Price]]*Table339[[#This Row],[Qty]] -> 0
C8: Reducing Union PM & Large Series | D8: 2811652190 | E8: 63 / 2½" | F8: 50 / 2" | G8: 1 | I8: =VLOOKUP(Table339[[#This Row],[Part Number]],'2026 Pricing Rework'!$B$32:$F$740,5,FALSE) -> 180.13 | J8: =VLOOKUP(Table339[[#This Row],[Part Number]],'2025 Pricing Rework'!$B$31:$F$737,4,FALSE) -> 180.47 | K8: =Table339[[#This Row],[Your Price]]*Table339[[#This Row],[Qty]] -> 0
D9: 2811762190 | E9: 80 / 3" | F9: 63 / 2½" | G9: 1 | I9: =VLOOKUP(Table339[[#This Row],[Part Number]],'2026 Pricing Rework'!$B$32:$F$740,5,FALSE) -> 222.99 | J9: =VLOOKUP(Table339[[#This Row],[Part Number]],'2025 Pricing Rework'!$B$31:$F$737,4,FALSE) -> 223.41 | K9: =Table339[[#This Row],[Your Price]]*Table339[[#This Row],[Qty]] -> 0
D10: 2810872100 | E10: 100 / 4" | F10: 80 / 3" | G10: 1 | I10: =VLOOKUP(Table339[[#This Row],[Part Number]],'2026 Pricing Rework'!$B$32:$F$740,5,FALSE) -> 201.32 | J10: =VLOOKUP(Table339[[#This Row],[Part Number]],'2025 Pricing Rework'!$B$31:$F$737,4,FALSE) -> 201.71 | K10: =Table339[[#This Row],[Your Price]]*Table339[[#This Row],[Qty]] -> 0
D11: 2810982100 | E11: 158 / 6" | F11: 4 / 100" | G11: 1 | I11: =VLOOKUP(Table339[[#This Row],[Part Number]],'2026 Pricing Rework'!$B$32:$F$740,5,FALSE) -> 195.14 | J11: =VLOOKUP(Table339[[#This Row],[Part Number]],'2025 Pricing Rework'!$B$31:$F$737,4,FALSE) -> 195.52 | K11: =Table339[[#This Row],[Your Price]]*Table339[[#This Row],[Qty]] -> 0
B14: Reducing Tees | C14: Reducing Tee PF Series | E14: Main Size | F14: Reduced Size
B15: See "Quick Drop" Fittings when creating drops | D15: 2811210780 | E15: 25 / 1" | F15: 20 / ¾" | G15: 1 | I15: =VLOOKUP(Table339[[#This Row],[Part Number]],'2026 Pricing Rework'!$B$32:$F$740,5,FALSE) -> 43.55 | J15: =VLOOKUP(Table339[[#This Row],[Part Number]],'2025 Pricing Rework'!$B$31:$F$737,4,FALSE) -> 43.62 | K15: =Table339[[#This Row],[Your Price]]*Table339[[#This Row],[Qty]] -> 0
D16: 2811410780 | E16: 40 / 1½" | F16: 20 / ¾" | G16: 1 | I16: =VLOOKUP(Table339[[#This Row],[Part Number]],'2026 Pricing Rework'!$B$32:$F$740,5,FALSE) -> 66.87 | J16: =VLOOKUP(Table339[[#This Row],[Part Number]],'2025 Pricing Rework'!$B$31:$F$737,4,FALSE) -> 66.99 | K16: =Table339[[#This Row],[Your Price]]*Table339[[#This Row],[Qty]] -> 0
D17: 2811420780 | E17: 40 / 1½" | F17: 25 / 1" | G17: 1 | I17: =VLOOKUP(Table339[[#This Row],[Part Number]],'2026 Pricing Rework'!$B$32:$F$740,5,FALSE) -> 68.77 | J17: =VLOOKUP(Table339[[#This Row],[Part Number]],'2025 Pricing Rework'!$B$31:$F$737,4,FALSE) -> 68.9 | K17: =Table339[[#This Row],[Your Price]]*Table339[[#This Row],[Qty]] -> 0
D18: 2811510780 | E18: 50 / 2" | F18: 20 / ¾" | G18: 1 | I18: =VLOOKUP(Table339[[#This Row],[Part Number]],'2026 Pricing Rework'!$B$32:$F$740,5,FALSE) -> 93.97 | J18: =VLOOKUP(Table339[[#This Row],[Part Number]],'2025 Pricing Rework'!$B$31:$F$737,4,FALSE) -> 94.15 | K18: =Table339[[#This Row],[Your Price]]*Table339[[#This Row],[Qty]] -> 0
D19: 2811520780 | E19: 50 / 2" | F19: 25 / 1" | G19: 1 | I19: =VLOOKUP(Table339[[#This Row],[Part Number]],'2026 Pricing Rework'!$B$32:$F$740,5,FALSE) -> 111.76 | J19: =VLOOKUP(Table339[[#This Row],[Part Number]],'2025 Pricing Rework'!$B$31:$F$737,4,FALSE) -> 111.97 | K19: =Table339[[#This Row],[Your Price]]*Table339[[#This Row],[Qty]] -> 0
D20: 2811540780 | E20: 50 / 2" | F20: 40 / 1½" | G20: 1 | I20: =VLOOKUP(Table339[[#This Row],[Part Number]],'2026 Pricing Rework'!$B$32:$F$740,5,FALSE) -> 145.51 | J20: =VLOOKUP(Table339[[#This Row],[Part Number]],'2025 Pricing Rework'!$B$31:$F$737,4,FALSE) -> 145.79 | K20: =Table339[[#This Row],[Your Price]]*Table339[[#This Row],[Qty]] -> 0
C21: Reducing Tee PM & Large Series | E21: Main Size | F21: Reduced Size
D22: 2811640790 | E22: 63 / 2½" | F22: 40 / 1½" | G22: 1 | I22: =VLOOKUP(Table339[[#This Row],[Part Number]],'2026 Pricing Rework'!$B$32:$F$740,5,FALSE) -> 171.67 | J22: =VLOOKUP(Table339[[#This Row],[Part Number]],'2025 Pricing Rework'!$B$31:$F$737,4,FALSE) -> 171.99 | K22: =Table339[[#This Row],[Your Price]]*Table339[[#This Row],[Qty]] -> 0
D23: 2811650790 | E23: 63 / 2½" | F23: 50 / 2" | G23: 1 | I23: =VLOOKUP(Table339[[#This Row],[Part Number]],'2026 Pricing Rework'!$B$32:$F$740,5,FALSE) -> 183.98 | J23: =VLOOKUP(Table339[[#This Row],[Part Number]],'2025 Pricing Rework'!$B$31:$F$737,4,FALSE) -> 184.33 | K23: =Table339[[#This Row],[Your Price]]*Table339[[#This Row],[Qty]] -> 0
D24: 2811740790 | E24: 80 / 3" | F24: 40 / 1½" | G24: 1 | I24: =VLOOKUP(Table339[[#This Row],[Part Number]],'2026 Pricing Rework'!$B$32:$F$740,5,FALSE) -> 210.82 | J24: =VLOOKUP(Table339[[#This Row],[Part Number]],'2025 Pricing Rework'!$B$31:$F$737,4,FALSE) -> 211.22 | K24: =Table339[[#This Row],[Your Price]]*Table339[[#This Row],[Qty]] -> 0
D25: 2811750790 | E25: 80 / 3" | F25: 50 / 2" | G25: 1 | I25: =VLOOKUP(Table339[[#This Row],[Part Number]],'2026 Pricing Rework'!$B$32:$F$740,5,FALSE) -> 219.29 | J25: =VLOOKUP(Table339[[#This Row],[Part Number]],'2025 Pricing Rework'!$B$31:$F$737,4,FALSE) -> 219.71 | K25: =Table339[[#This Row],[Your Price]]*Table339[[#This Row],[Qty]] -> 0
D26: 2811760790 | E26: 80 / 3" | F26: 63 / 2½" | G26: 1 | I26: =VLOOKUP(Table339[[#This Row],[Part Number]],'2026 Pricing Rework'!$B$32:$F$740,5,FALSE) -> 223 | J26: =VLOOKUP(Table339[[#This Row],[Part Number]],'2025 Pricing Rework'!$B$31:$F$737,4,FALSE) -> 223.42 | K26: =Table339[[#This Row],[Your Price]]*Table339[[#This Row],[Qty]] -> 0
E27: Main Size | F27: Reduced Size
B28: See "Quick Drop" Fittings when creating drops | D28: 2810850700 | E28: 100 / 4" | F28: 50 / 2" | G28: 1 | I28: =VLOOKUP(Table339[[#This Row],[Part Number]],'2026 Pricing Rework'!$B$32:$F$740,5,FALSE) -> 209.71 | J28: =VLOOKUP(Table339[[#This Row],[Part Number]],'2025 Pricing Rework'!$B$31:$F$737,4,FALSE) -> 210.11 | K28: =Table339[[#This Row],[Your Price]]*Table339[[#This Row],[Qty]] -> 0
D29: 2810860700 | E29: 100 / 4" | F29: 63 / 2½" | G29: 1 | I29: =VLOOKUP(Table339[[#This Row],[Part Number]],'2026 Pricing Rework'!$B$32:$F$740,5,FALSE) -> 214.64 | J29: =VLOOKUP(Table339[[#This Row],[Part Number]],'2025 Pricing Rework'!$B$31:$F$737,4,FALSE) -> 215.05 | K29: =Table339[[#This Row],[Your Price]]*Table339[[#This Row],[Qty]] -> 0
D30: 2810870700 | E30: 100 / 4" | F30: 80 / 3" | G30: 1 | I30: =VLOOKUP(Table339[[#This Row],[Part Number]],'2026 Pricing Rework'!$B$32:$F$740,5,FALSE) -> 239.62 | J30: =VLOOKUP(Table339[[#This Row],[Part Number]],'2025 Pricing Rework'!$B$31:$F$737,4,FALSE) -> 240.07 | K30: =Table339[[#This Row],[Your Price]]*Table339[[#This Row],[Qty]] -> 0
D31: 2810970700 | E31: 158 / 6" | F31: 80 / 3" | G31: 1 | I31: =VLOOKUP(Table339[[#This Row],[Part Number]],'2026 Pricing Rework'!$B$32:$F$740,5,FALSE) -> 249.67 | J31: =VLOOKUP(Table339[[#This Row],[Part Number]],'2025 Pricing Rework'!$B$31:$F$737,4,FALSE) -> 250.15 | K31: =Table339[[#This Row],[Your Price]]*Table339[[#This Row],[Qty]] -> 0
D32: 2810980700 | E32: 158 / 6" | F32: 100 / 4" | G32: 1 | I32: =VLOOKUP(Table339[[#This Row],[Part Number]],'2026 Pricing Rework'!$B$32:$F$740,5,FALSE) -> 260.72 | J32: =VLOOKUP(Table339[[#This Row],[Part Number]],'2025 Pricing Rework'!$B$31:$F$737,4,FALSE) -> 261.22 | K32: =Table339[[#This Row],[Your Price]]*Table339[[#This Row],[Qty]] -> 0
B35: Threaded Reducing Tees | C35: Threaded Reducing PF Series (FNPT)
B36: Additional reductions possible - see npt union adpaters | E36: Main Size | F36: Reduced Size
D37: 2811000980 | E37: 20 / ¾" | F37: 3/8" | G37: 1 | I37: =VLOOKUP(Table339[[#This Row],[Part Number]],'2026 Pricing Rework'!$B$32:$F$740,5,FALSE) -> 91.82 | J37: =VLOOKUP(Table339[[#This Row],[Part Number]],'2025 Pricing Rework'!$B$31:$F$737,4,FALSE) -> 91.99 | K37: =Table339[[#This Row],[Your Price]]*Table339[[#This Row],[Qty]] -> 0
D38: 2811100980 | E38: 20 / ¾" | F38: 1/2" | G38: 1 | I38: =VLOOKUP(Table339[[#This Row],[Part Number]],'2026 Pricing Rework'!$B$32:$F$740,5,FALSE) -> 93.25 | J38: =VLOOKUP(Table339[[#This Row],[Part Number]],'2025 Pricing Rework'!$B$31:$F$737,4,FALSE) -> 93.42 | K38: =Table339[[#This Row],[Your Price]]*Table339[[#This Row],[Qty]] -> 0
D39: 2811200980 | E39: 25 / 1" | F39: 1/2" | G39: 1 | I39: =VLOOKUP(Table339[[#This Row],[Part Number]],'2026 Pricing Rework'!$B$32:$F$740,5,FALSE) -> 98.18 | J39: =VLOOKUP(Table339[[#This Row],[Part Number]],'2025 Pricing Rework'!$B$31:$F$737,4,FALSE) -> 98.37 | K39: =Table339[[#This Row],[Your Price]]*Table339[[#This Row],[Qty]] -> 0
D40: 2811210980 | E40: 25 / 1" | F40: 3/4" | G40: 1 | I40: =VLOOKUP(Table339[[#This Row],[Part Number]],'2026 Pricing Rework'!$B$32:$F$740,5,FALSE) -> 100.82 | J40: =VLOOKUP(Table339[[#This Row],[Part Number]],'2025 Pricing Rework'!$B$31:$F$737,4,FALSE) -> 101.01 | K40: =Table339[[#This Row],[Your Price]]*Table339[[#This Row],[Qty]] -> 0
B41: Click On Picture | D41: 2811420980 | E41: 40 / 1½" | F41: 1" | G41: 1 | I41: =VLOOKUP(Table339[[#This Row],[Part Number]],'2026 Pricing Rework'!$B$32:$F$740,5,FALSE) -> 140.51 | J41: =VLOOKUP(Table339[[#This Row],[Part Number]],'2025 Pricing Rework'!$B$31:$F$737,4,FALSE) -> 140.78 | K41: =Table339[[#This Row],[Your Price]]*Table339[[#This Row],[Qty]] -> 0
D42: 2811520980 | E42: 50 / 2" | F42: 1" | G42: 1 | I42: =VLOOKUP(Table339[[#This Row],[Part Number]],'2026 Pricing Rework'!$B$32:$F$740,5,FALSE) -> 156.52 | J42: =VLOOKUP(Table339[[#This Row],[Part Number]],'2025 Pricing Rework'!$B$31:$F$737,4,FALSE) -> 156.82 | K42: =Table339[[#This Row],[Your Price]]*Table339[[#This Row],[Qty]] -> 0
C43: Threaded Reducing Tee (FNPT) PM & Large Series | E43: Main Size | F43: Reduced Size
D44: 2811650990 | E44: 63 / 2½" | F44: 2" | G44: 1 | I44: =VLOOKUP(Table339[[#This Row],[Part Number]],'2026 Pricing Rework'!$B$32:$F$740,5,FALSE) -> 179.49 | J44: =VLOOKUP(Table339[[#This Row],[Part Number]],'2025 Pricing Rework'!$B$31:$F$737,4,FALSE) -> 179.83 | K44: =Table339[[#This Row],[Your Price]]*Table339[[#This Row],[Qty]] -> 0
D45: 2811760990 | E45: 80 / 3" | F45: 2 1/2" | G45: 1 | I45: =VLOOKUP(Table339[[#This Row],[Part Number]],'2026 Pricing Rework'!$B$32:$F$740,5,FALSE) -> 224.66 | J45: =VLOOKUP(Table339[[#This Row],[Part Number]],'2025 Pricing Rework'!$B$31:$F$737,4,FALSE) -> 225.1 | K45: =Table339[[#This Row],[Your Price]]*Table339[[#This Row],[Qty]] -> 0
D46: 2811770990 | E46: 80 / 3" | F46: 3" | G46: 1 | I46: =VLOOKUP(Table339[[#This Row],[Part Number]],'2026 Pricing Rework'!$B$32:$F$740,5,FALSE) -> 217.17 | J46: =VLOOKUP(Table339[[#This Row],[Part Number]],'2025 Pricing Rework'!$B$31:$F$737,4,FALSE) -> 217.58 | K46: =Table339[[#This Row],[Your Price]]*Table339[[#This Row],[Qty]] -> 0
D47: 2810820900 | E47: 100 / 4" | F47: 1" | G47: 1 | I47: =VLOOKUP(Table339[[#This Row],[Part Number]],'2026 Pricing Rework'!$B$32:$F$740,5,FALSE) -> 161.79 | J47: =VLOOKUP(Table339[[#This Row],[Part Number]],'2025 Pricing Rework'!$B$31:$F$737,4,FALSE) -> 162.1 | K47: =Table339[[#This Row],[Your Price]]*Table339[[#This Row],[Qty]] -> 0
D48: 2810920900 | E48: 158 / 6" | F48: 1" | G48: 1 | I48: =VLOOKUP(Table339[[#This Row],[Part Number]],'2026 Pricing Rework'!$B$32:$F$740,5,FALSE) -> 338.23 | J48: =VLOOKUP(Table339[[#This Row],[Part Number]],'2025 Pricing Rework'!$B$31:$F$737,4,FALSE) -> 338.89 | K48: =Table339[[#This Row],[Your Price]]*Table339[[#This Row],[Qty]] -> 0
C49: PM to PF Reduction Pipe Adapters (Reduce 2 sizes with 1 step).
E50: Main Size | F50: Reduced Size
D51: 2811646280 | E51: 63 / 2½" | F51: 40 / 1 1/2" | G51: 1 | I51: =VLOOKUP(Table339[[#This Row],[Part Number]],'2026 Pricing Rework'!$B$7:$F$740,5,FALSE) -> 122.07 | J51: =VLOOKUP(Table339[[#This Row],[Part Number]],'2025 Pricing Rework'!$B$1:$F$737,4,FALSE) -> 143.62 | K51: =Table339[[#This Row],[Your Price]]*Table339[[#This Row],[Qty]] -> 0
D52: 2811746280 | E52: 80 / 3" | F52: 40 / 1 1/2" | G52: 1 | I52: =VLOOKUP(Table339[[#This Row],[Part Number]],'2026 Pricing Rework'!$B$7:$F$740,5,FALSE) -> 179.49 | J52: =VLOOKUP(Table339[[#This Row],[Part Number]],'2025 Pricing Rework'!$B$1:$F$737,4,FALSE) -> 211.17 | K52: =Table339[[#This Row],[Your Price]]*Table339[[#This Row],[Qty]] -> 0
D53: 2811756280 | E53: 80 / 3" | F53: 50 / 2" | G53: 1 | I53: =VLOOKUP(Table339[[#This Row],[Part Number]],'2026 Pricing Rework'!$B$7:$F$740,5,FALSE) -> 211.99 | J53: =VLOOKUP(Table339[[#This Row],[Part Number]],'2025 Pricing Rework'!$B$1:$F$737,4,FALSE) -> 249.41 | K53: =Table339[[#This Row],[Your Price]]*Table339[[#This Row],[Qty]] -> 0

Sheet QDrops
D1: Quick Drops & Manifolds | H1: Enter Qty Here
B2: Category | C2: Sub Category | D2: Part Number | E2: Size mm / in | F2: Size mm / in | G2: Lot Size | H2: Qty | I2: Your Price | J2: List Price | K2: Total
B3: Quick Drops | C3: PF Series | E3: AIRnet Φ | F3: Drop Leg Φ
D4: 2811211080 | E4: 25 / 1" | F4: 20 / ¾" | G4: 1 | I4: =VLOOKUP(Table3310[[#This Row],[Part Number]],'2026 Pricing Rework'!$B$32:$F$740,5,FALSE) -> 24.07 | J4: =VLOOKUP(Table3310[[#This Row],[Part Number]],'2025 Pricing Rework'!$B$31:$F$737,4,FALSE) -> 24.11 | K4: =Table3310[[#This Row],[Your Price]]*Table3310[[#This Row],[Qty]] -> 0
D5: 2811411080 | E5: 40 / 1½" | F5: 20 / ¾" | G5: 1 | I5: =VLOOKUP(Table3310[[#This Row],[Part Number]],'2026 Pricing Rework'!$B$32:$F$740,5,FALSE) -> 33.92 | J5: =VLOOKUP(Table3310[[#This Row],[Part Number]],'2025 Pricing Rework'!$B$31:$F$737,4,FALSE) -> 33.97 | K5: =Table3310[[#This Row],[Your Price]]*Table3310[[#This Row],[Qty]] -> 0
D6: 2811421080 | E6: 40 / 1½" | F6: 25 / 1" | G6: 1 | I6: =VLOOKUP(Table3310[[#This Row],[Part Number]],'2026 Pricing Rework'!$B$32:$F$740,5,FALSE) -> 36.14 | J6: =VLOOKUP(Table3310[[#This Row],[Part Number]],'2025 Pricing Rework'!$B$31:$F$737,4,FALSE) -> 36.21 | K6: =Table3310[[#This Row],[Your Price]]*Table3310[[#This Row],[Qty]] -> 0
D7: 2811511080 | E7: 50 / 2" | F7: 20 / ¾" | G7: 1 | I7: =VLOOKUP(Table3310[[#This Row],[Part Number]],'2026 Pricing Rework'!$B$32:$F$740,5,FALSE) -> 50.47 | J7: =VLOOKUP(Table3310[[#This Row],[Part Number]],'2025 Pricing Rework'!$B$31:$F$737,4,FALSE) -> 50.57 | K7: =Table3310[[#This Row],[Your Price]]*Table3310[[#This Row],[Qty]] -> 0
D8: 2811521080 | E8: 50 / 2" | F8: 25 / 1" | G8: 1 | I8: =VLOOKUP(Table3310[[#This Row],[Part Number]],'2026 Pricing Rework'!$B$32:$F$740,5,FALSE) -> 53.97 | J8: =VLOOKUP(Table3310[[#This Row],[Part Number]],'2025 Pricing Rework'!$B$31:$F$737,4,FALSE) -> 54.07 | K8: =Table3310[[#This Row],[Your Price]]*Table3310[[#This Row],[Qty]] -> 0
D9: 2811611080 | E9: 63 / 2½" | F9: 20 / ¾" | G9: 1 | I9: =VLOOKUP(Table3310[[#This Row],[Part Number]],'2026 Pricing Rework'!$B$32:$F$740,5,FALSE) -> 65.25 | J9: =VLOOKUP(Table3310[[#This Row],[Part Number]],'2025 Pricing Rework'!$B$31:$F$737,4,FALSE) -> 65.37 | K9: =Table3310[[#This Row],[Your Price]]*Table3310[[#This Row],[Qty]] -> 0
D10: 2811621080 | E10: 63 / 2½" | F10: 25 / 1" | G10: 1 | I10: =VLOOKUP(Table3310[[#This Row],[Part Number]],'2026 Pricing Rework'!$B$32:$F$740,5,FALSE) -> 67.5 | J10: =VLOOKUP(Table3310[[#This Row],[Part Number]],'2025 Pricing Rework'!$B$31:$F$737,4,FALSE) -> 67.62 | K10: =Table3310[[#This Row],[Your Price]]*Table3310[[#This Row],[Qty]] -> 0
D11: 2811711080 | E11: 80 / 3" | F11: 20 / ¾" | G11: 1 | I11: =VLOOKUP(Table3310[[#This Row],[Part Number]],'2026 Pricing Rework'!$B$32:$F$740,5,FALSE) -> 86.9 | J11: =VLOOKUP(Table3310[[#This Row],[Part Number]],'2025 Pricing Rework'!$B$31:$F$737,4,FALSE) -> 87.07 | K11: =Table3310[[#This Row],[Your Price]]*Table3310[[#This Row],[Qty]] -> 0
D12: 2811721080 | E12: 80 / 3" | F12: 25 / 1" | G12: 1 | I12: =VLOOKUP(Table3310[[#This Row],[Part Number]],'2026 Pricing Rework'!$B$32:$F$740,5,FALSE) -> 90 | J12: =VLOOKUP(Table3310[[#This Row],[Part Number]],'2025 Pricing Rework'!$B$31:$F$737,4,FALSE) -> 90.17 | K12: =Table3310[[#This Row],[Your Price]]*Table3310[[#This Row],[Qty]] -> 0
C13: Quick Drops - PM & Large Series
D14: 2811811080 | E14: 100 / 4" | F14: 20 / ¾" | G14: 1 | I14: =VLOOKUP(Table3310[[#This Row],[Part Number]],'2026 Pricing Rework'!$B$32:$F$740,5,FALSE) -> 211.54 | J14: =VLOOKUP(Table3310[[#This Row],[Part Number]],'2025 Pricing Rework'!$B$31:$F$737,4,FALSE) -> 211.95 | K14: =Table3310[[#This Row],[Your Price]]*Table3310[[#This Row],[Qty]] -> 0
D15: 2811821080 | E15: 100 / 4" | F15: 25 / 1" | G15: 1 | I15: =VLOOKUP(Table3310[[#This Row],[Part Number]],'2026 Pricing Rework'!$B$32:$F$740,5,FALSE) -> 223.02 | J15: =VLOOKUP(Table3310[[#This Row],[Part Number]],'2025 Pricing Rework'!$B$31:$F$737,4,FALSE) -> 223.45 | K15: =Table3310[[#This Row],[Your Price]]*Table3310[[#This Row],[Qty]] -> 0
D16: 2811841080 | E16: 100 / 4" | F16: 40 /1 1/2" | G16: 1 | I16: =VLOOKUP(Table3310[[#This Row],[Part Number]],'2026 Pricing Rework'!$B$32:$F$740,5,FALSE) -> 231.78 | J16: =VLOOKUP(Table3310[[#This Row],[Part Number]],'2025 Pricing Rework'!$B$31:$F$737,4,FALSE) -> 232.22 | K16: =Table3310[[#This Row],[Your Price]]*Table3310[[#This Row],[Qty]] -> 0
D17: 2811851080 | E17: 100 / 4" | F17: 50 / 2" | G17: 1 | I17: =VLOOKUP(Table3310[[#This Row],[Part Number]],'2026 Pricing Rework'!$B$32:$F$740,5,FALSE) -> 253.82 | J17: =VLOOKUP(Table3310[[#This Row],[Part Number]],'2025 Pricing Rework'!$B$31:$F$737,4,FALSE) -> 254.31 | K17: =Table3310[[#This Row],[Your Price]]*Table3310[[#This Row],[Qty]] -> 0
D18: 2811911080 | E18: 158 / 6" | F18: 20 / ¾" | G18: 1 | I18: =VLOOKUP(Table3310[[#This Row],[Part Number]],'2026 Pricing Rework'!$B$32:$F$740,5,FALSE) -> 319.81 | J18: =VLOOKUP(Table3310[[#This Row],[Part Number]],'2025 Pricing Rework'!$B$31:$F$737,4,FALSE) -> 320.43 | K18: =Table3310[[#This Row],[Your Price]]*Table3310[[#This Row],[Qty]] -> 0
D19: 2811921080 | E19: 158 / 6" | F19: 25 / 1" | G19: 1 | I19: =VLOOKUP(Table3310[[#This Row],[Part Number]],'2026 Pricing Rework'!$B$32:$F$740,5,FALSE) -> 338.29 | J19: =VLOOKUP(Table3310[[#This Row],[Part Number]],'2025 Pricing Rework'!$B$31:$F$737,4,FALSE) -> 338.94 | K19: =Table3310[[#This Row],[Your Price]]*Table3310[[#This Row],[Qty]] -> 0
D20: 2811941080 | E20: 158 / 6" | F20: 40 /1 1/2" | G20: 1 | I20: =VLOOKUP(Table3310[[#This Row],[Part Number]],'2026 Pricing Rework'!$B$32:$F$740,5,FALSE) -> 370.91 | J20: =VLOOKUP(Table3310[[#This Row],[Part Number]],'2025 Pricing Rework'!$B$31:$F$737,4,FALSE) -> 371.63 | K20: =Table3310[[#This Row],[Your Price]]*Table3310[[#This Row],[Qty]] -> 0
D21: 2811951080 | E21: 158 / 6" | F21: 50 / 2" | G21: 1 | I21: =VLOOKUP(Table3310[[#This Row],[Part Number]],'2026 Pricing Rework'!$B$32:$F$740,5,FALSE) -> 406.87 | J21: =VLOOKUP(Table3310[[#This Row],[Part Number]],'2025 Pricing Rework'!$B$31:$F$737,4,FALSE) -> 407.65 | K21: =Table3310[[#This Row],[Your Price]]*Table3310[[#This Row],[Qty]] -> 0
C23: Threaded Quick Drops (NPT) | E23: AIRnet Φ | F23: Drop Leg Φ
D24: 2811201280 | E24: 25 / 1" | F24: 1/2" NPT | G24: 1 | I24: =VLOOKUP(Table3310[[#This Row],[Part Number]],'2026 Pricing Rework'!$B$32:$F$740,5,FALSE) -> 27 | J24: =VLOOKUP(Table3310[[#This Row],[Part Number]],'2025 Pricing Rework'!$B$31:$F$737,4,FALSE) -> 27.04 | K24: =Table3310[[#This Row],[Your Price]]*Table3310[[#This Row],[Qty]] -> 0
D25: 2811401280 | E25: 40 / 1½" | F25: 1/2" NPT | G25: 1 | I25: =VLOOKUP(Table3310[[#This Row],[Part Number]],'2026 Pricing Rework'!$B$32:$F$740,5,FALSE) -> 38.65 | J25: =VLOOKUP(Table3310[[#This Row],[Part Number]],'2025 Pricing Rework'!$B$31:$F$737,4,FALSE) -> 38.72 | K25: =Table3310[[#This Row],[Your Price]]*Table3310[[#This Row],[Qty]] -> 0
D26: 2811411280 | E26: 40 / 1½" | F26: 3/4"NPT | G26: 1 | I26: =VLOOKUP(Table3310[[#This Row],[Part Number]],'2026 Pricing Rework'!$B$32:$F$740,5,FALSE) -> 48.38 | J26: =VLOOKUP(Table3310[[#This Row],[Part Number]],'2025 Pricing Rework'!$B$31:$F$737,4,FALSE) -> 48.47 | K26: =Table3310[[#This Row],[Your Price]]*Table3310[[#This Row],[Qty]] -> 0
D27: 2811501280 | E27: 50 / 2" | F27: 1/2" NPT | G27: 1 | I27: =VLOOKUP(Table3310[[#This Row],[Part Number]],'2026 Pricing Rework'!$B$32:$F$740,5,FALSE) -> 55.52 | J27: =VLOOKUP(Table3310[[#This Row],[Part Number]],'2025 Pricing Rework'!$B$31:$F$737,4,FALSE) -> 55.62 | K27: =Table3310[[#This Row],[Your Price]]*Table3310[[#This Row],[Qty]] -> 0
D28: 2811511280 | E28: 50 / 2" | F28: 3/4"NPT | G28: 1 | I28: =VLOOKUP(Table3310[[#This Row],[Part Number]],'2026 Pricing Rework'!$B$32:$F$740,5,FALSE) -> 57.89 | J28: =VLOOKUP(Table3310[[#This Row],[Part Number]],'2025 Pricing Rework'!$B$31:$F$737,4,FALSE) -> 57.99 | K28: =Table3310[[#This Row],[Your Price]]*Table3310[[#This Row],[Qty]] -> 0
D29: 2811601280 | E29: 63 / 2½" | F29: 1/2" NPT | G29: 1 | I29: =VLOOKUP(Table3310[[#This Row],[Part Number]],'2026 Pricing Rework'!$B$32:$F$740,5,FALSE) -> 73.73 | J29: =VLOOKUP(Table3310[[#This Row],[Part Number]],'2025 Pricing Rework'!$B$31:$F$737,4,FALSE) -> 73.87 | K29: =Table3310[[#This Row],[Your Price]]*Table3310[[#This Row],[Qty]] -> 0
D30: 2811611280 | E30: 63 / 2½" | F30: 3/4"NPT | G30: 1 | I30: =VLOOKUP(Table3310[[#This Row],[Part Number]],'2026 Pricing Rework'!$B$32:$F$740,5,FALSE) -> 77.01 | J30: =VLOOKUP(Table3310[[#This Row],[Part Number]],'2025 Pricing Rework'!$B$31:$F$737,4,FALSE) -> 77.16 | K30: =Table3310[[#This Row],[Your Price]]*Table3310[[#This Row],[Qty]] -> 0
D31: 2811701280 | E31: 80 / 3" | F31: 1/2" NPT | G31: 1 | I31: =VLOOKUP(Table3310[[#This Row],[Part Number]],'2026 Pricing Rework'!$B$32:$F$740,5,FALSE) -> 89.77 | J31: =VLOOKUP(Table3310[[#This Row],[Part Number]],'2025 Pricing Rework'!$B$31:$F$737,4,FALSE) -> 89.94 | K31: =Table3310[[#This Row],[Your Price]]*Table3310[[#This Row],[Qty]] -> 0
D32: 2811711280 | E32: 80 / 3" | F32: 3/4"NPT | G32: 1 | I32: =VLOOKUP(Table3310[[#This Row],[Part Number]],'2026 Pricing Rework'!$B$32:$F$740,5,FALSE) -> 100.46 | J32: =VLOOKUP(Table3310[[#This Row],[Part Number]],'2025 Pricing Rework'!$B$31:$F$737,4,FALSE) -> 100.65 | K32: =Table3310[[#This Row],[Your Price]]*Table3310[[#This Row],[Qty]] -> 0
C33: Quick Drops - PM & Large Series
D34: 2811811280 | E34: 100 / 4" | F34: 3/4"NPT | G34: 1 | I34: =VLOOKUP(Table3310[[#This Row],[Part Number]],'2026 Pricing Rework'!$B$32:$F$740,5,FALSE) -> 211.54 | J34: =VLOOKUP(Table3310[[#This Row],[Part Number]],'2025 Pricing Rework'!$B$31:$F$737,4,FALSE) -> 211.95 | K34: =Table3310[[#This Row],[Your Price]]*Table3310[[#This Row],[Qty]] -> 0
D35: 2811821280 | E35: 100 / 4" | F35: 1" NPT | G35: 1 | I35: =VLOOKUP(Table3310[[#This Row],[Part Number]],'2026 Pricing Rework'!$B$32:$F$740,5,FALSE) -> 225.28 | J35: =VLOOKUP(Table3310[[#This Row],[Part Number]],'2025 Pricing Rework'!$B$31:$F$737,4,FALSE) -> 225.71 | K35: =Table3310[[#This Row],[Your Price]]*Table3310[[#This Row],[Qty]] -> 0
D36: 2811841280 | E36: 100 / 4" | F36: 1 1/2" NPT | G36: 1 | I36: =VLOOKUP(Table3310[[#This Row],[Part Number]],'2026 Pricing Rework'!$B$32:$F$740,5,FALSE) -> 231.78 | J36: =VLOOKUP(Table3310[[#This Row],[Part Number]],'2025 Pricing Rework'!$B$31:$F$737,4,FALSE) -> 232.22 | K36: =Table3310[[#This Row],[Your Price]]*Table3310[[#This Row],[Qty]] -> 0
D37: 2811851280 | E37: 100 / 4" | F37: 2" NPT | G37: 1 | I37: =VLOOKUP(Table3310[[#This Row],[Part Number]],'2026 Pricing Rework'!$B$32:$F$740,5,FALSE) -> 265.11 | J37: =VLOOKUP(Table3310[[#This Row],[Part Number]],'2025 Pricing Rework'!$B$31:$F$737,4,FALSE) -> 265.61 | K37: =Table3310[[#This Row],[Your Price]]*Table3310[[#This Row],[Qty]] -> 0
D38: 2811911280 | E38: 158 / 6" | F38: 3/4"NPT | G38: 1 | I38: =VLOOKUP(Table3310[[#This Row],[Part Number]],'2026 Pricing Rework'!$B$32:$F$740,5,FALSE) -> 322.52 | J38: =VLOOKUP(Table3310[[#This Row],[Part Number]],'2025 Pricing Rework'!$B$31:$F$737,4,FALSE) -> 323.13 | K38: =Table3310[[#This Row],[Your Price]]*Table3310[[#This Row],[Qty]] -> 0
D39: 2811921280 | E39: 158 / 6" | F39: 1" NPT | G39: 1 | I39: =VLOOKUP(Table3310[[#This Row],[Part Number]],'2026 Pricing Rework'!$B$32:$F$740,5,FALSE) -> 341.67 | J39: =VLOOKUP(Table3310[[#This Row],[Part Number]],'2025 Pricing Rework'!$B$31:$F$737,4,FALSE) -> 342.33 | K39: =Table3310[[#This Row],[Your Price]]*Table3310[[#This Row],[Qty]] -> 0
D40: 2811941280 | E40: 158 / 6" | F40: 1 1/2" NPT | G40: 1 | I40: =VLOOKUP(Table3310[[#This Row],[Part Number]],'2026 Pricing Rework'!$B$32:$F$740,5,FALSE) -> 382.19 | J40: =VLOOKUP(Table3310[[#This Row],[Part Number]],'2025 Pricing Rework'!$B$31:$F$737,4,FALSE) -> 382.93 | K40: =Table3310[[#This Row],[Your Price]]*Table3310[[#This Row],[Qty]] -> 0
D41: 2811951280 | E41: 158 / 6" | F41: 2" NPT | G41: 1 | I41: =VLOOKUP(Table3310[[#This Row],[Part Number]],'2026 Pricing Rework'!$B$32:$F$740,5,FALSE) -> 417.01 | J41: =VLOOKUP(Table3310[[#This Row],[Part Number]],'2025 Pricing Rework'!$B$31:$F$737,4,FALSE) -> 417.82 | K41: =Table3310[[#This Row],[Your Price]]*Table3310[[#This Row],[Qty]] -> 0
B43: Saddle Clamps | E43: AIRnet Φ | F43: Drop Leg Φ
D44: 1630020001 | E44: 100/4" | F44: 1" NPT | G44: 1 | I44: =VLOOKUP(D44,#REF!,5,FALSE) -> #REF! | K44: =Table3310[[#This Row],[Your Price]]*Table3310[[#This Row],[Qty]] -> #REF!
D45: 1630020003 | E45: 158/6" | F45: 1" NPT | G45: 1 | I45: =VLOOKUP(D45,#REF!,5,FALSE) -> #REF! | K45: =Table3310[[#This Row],[Your Price]]*Table3310[[#This Row],[Qty]] -> #REF!
B50: Manifold - Wall Mounted | C50: AIRnet Connection | E50: AIRnet Φ | F50: Ports / Outlet Φ
D51: 2811102480 | E51: 20 / ¾" | F51: (3) / 1/2" NPT | G51: 1 | I51: =VLOOKUP(Table3310[[#This Row],[Part Number]],'2026 Pricing Rework'!$B$32:$F$740,5,FALSE) -> 47.12 | J51: =VLOOKUP(Table3310[[#This Row],[Part Number]],'2025 Pricing Rework'!$B$31:$F$737,4,FALSE) -> 47.2 | K51: =Table3310[[#This Row],[Your Price]]*Table3310[[#This Row],[Qty]] -> 0
D52: 2811202480 | E52: 25 / 1" | F52: (3) / 1/2" NPT | G52: 1 | I52: =VLOOKUP(Table3310[[#This Row],[Part Number]],'2026 Pricing Rework'!$B$32:$F$740,5,FALSE) -> 52.67 | J52: =VLOOKUP(Table3310[[#This Row],[Part Number]],'2025 Pricing Rework'!$B$31:$F$737,4,FALSE) -> 52.77 | K52: =Table3310[[#This Row],[Your Price]]*Table3310[[#This Row],[Qty]] -> 0
D53: 2811104180 | E53: 20 / ¾" | F53: (1) / 1/2" NPT (single port) | G53: 1 | I53: =VLOOKUP(Table3310[[#This Row],[Part Number]],'2026 Pricing Rework'!$B$32:$F$740,5,FALSE) -> 39.07 | J53: =VLOOKUP(Table3310[[#This Row],[Part Number]],'2025 Pricing Rework'!$B$31:$F$737,4,FALSE) -> 39.15 | K53: =Table3310[[#This Row],[Your Price]]*Table3310[[#This Row],[Qty]] -> 0
D54: 2811204180 | E54: 25 / 1" | F54: (1) / 1/2" NPT (single port) | G54: 1 | I54: =VLOOKUP(Table3310[[#This Row],[Part Number]],'2026 Pricing Rework'!$B$32:$F$740,5,FALSE) -> 48.07 | J54: =VLOOKUP(Table3310[[#This Row],[Part Number]],'2025 Pricing Rework'!$B$31:$F$737,4,FALSE) -> 48.16 | K54: =Table3310[[#This Row],[Your Price]]*Table3310[[#This Row],[Qty]] -> 0
D55: 2811104380 | E55: 20 / ¾" | F55: (1) / 1/2" NPT (new 6 port) | G55: 1 | I55: =VLOOKUP(Table3310[[#This Row],[Part Number]],'2026 Pricing Rework'!$B$32:$F$740,5,FALSE) -> 120.77 | J55: =VLOOKUP(Table3310[[#This Row],[Part Number]],'2025 Pricing Rework'!$B$31:$F$737,4,FALSE) -> 121 | K55: =Table3310[[#This Row],[Your Price]]*Table3310[[#This Row],[Qty]] -> 0
D56: 2811204380 | E56: 25 / 1" | F56: (1) / 1/2" NPT (new 6 port) | G56: 1 | I56: =VLOOKUP(Table3310[[#This Row],[Part Number]],'2026 Pricing Rework'!$B$32:$F$740,5,FALSE) -> 144.53 | J56: =VLOOKUP(Table3310[[#This Row],[Part Number]],'2025 Pricing Rework'!$B$31:$F$737,4,FALSE) -> 144.8 | K56: =Table3310[[#This Row],[Your Price]]*Table3310[[#This Row],[Qty]] -> 0
C57: Threaded Connection | E57: Threaded Inlet Φ | F57: (3) Port Outlet Φ
D58: 2811002680 | E58: 1/2" NPT | F58: 1/2" NPT | G58: 1 | I58: =VLOOKUP(Table3310[[#This Row],[Part Number]],'2026 Pricing Rework'!$B$32:$F$740,5,FALSE) -> 44.64 | J58: =VLOOKUP(Table3310[[#This Row],[Part Number]],'2025 Pricing Rework'!$B$31:$F$737,4,FALSE) -> 44.73 | K58: =Table3310[[#This Row],[Your Price]]*Table3310[[#This Row],[Qty]] -> 0
D59: 2811102680 | E59: 3/4"NPT | F59: 1/2" NPT | G59: 1 | I59: =VLOOKUP(Table3310[[#This Row],[Part Number]],'2026 Pricing Rework'!$B$32:$F$740,5,FALSE) -> 45.44 | J59: =VLOOKUP(Table3310[[#This Row],[Part Number]],'2025 Pricing Rework'!$B$31:$F$737,4,FALSE) -> 45.53 | K59: =Table3310[[#This Row],[Your Price]]*Table3310[[#This Row],[Qty]] -> 0
C61: Plugs for unused ports | E61: Manifold Plugs
E62: SIZE | F62: Comment
D63: 2811007502 | E63: 1/2" Male NPT | F63: Package quantity-2 | G63: *2* | I63: =VLOOKUP(Table3310[[#This Row],[Part Number]],'2025 Pricing Rework'!$B$31:$F$737,5,FALSE) -> 7.79 | J63: =VLOOKUP(Table3310[[#This Row],[Part Number]],'2025 Pricing Rework'!$B$31:$F$737,4,FALSE) -> 9.16 | K63: =Table3310[[#This Row],[Your Price]]*Table3310[[#This Row],[Qty]] -> 0

Sheet VALVES & FLANGES
D1: Valves & Flanges | H1: Enter Qty Here
B2: Valves & Flanges | C2: Sub Category | D2: Part Number | E2: Size mm / in | F2: Additonal Info | G2: Lot Size | H2: Qty | I2: Your Price | J2: List Price | K2: Total
J3: =VLOOKUP(Table336[[#This Row],[Part Number]],'2025 Pricing Rework'!$B$31:$F$737,4, FALSE) -> #N/A
F4: (Flanges are included) | G4: 1 | I4: =VLOOKUP(Table336[[#This Row],[Part Number]],#REF!,11,FALSE) -> #REF! | J4: =VLOOKUP(Table336[[#This Row],[Part Number]],'2025 Pricing Rework'!$B$31:$F$737,4, FALSE) -> #N/A | K4: =Table336[[#This Row],[Your Price]]*Table336[[#This Row],[Qty]] -> #REF!
F5: (Flanges are included) | G5: 1 | I5: =VLOOKUP(Table336[[#This Row],[Part Number]],#REF!,11,FALSE) -> #REF! | J5: =VLOOKUP(Table336[[#This Row],[Part Number]],'2025 Pricing Rework'!$B$31:$F$737,4, FALSE) -> #N/A | K5: =Table336[[#This Row],[Your Price]]*Table336[[#This Row],[Qty]] -> #REF!
F6: (Valve Only) - requires flange / bolt sets | G6: 1 | I6: =VLOOKUP(Table336[[#This Row],[Part Number]],#REF!,11,FALSE) -> #REF! | J6: =VLOOKUP(Table336[[#This Row],[Part Number]],'2025 Pricing Rework'!$B$31:$F$737,4, FALSE) -> #N/A | K6: =Table336[[#This Row],[Your Price]]*Table336[[#This Row],[Qty]] -> #REF!
F7: (Valve Only) - requires flange / bolt sets | G7: 1 | I7: =VLOOKUP(Table336[[#This Row],[Part Number]],#REF!,11,FALSE) -> #REF! | J7: =VLOOKUP(Table336[[#This Row],[Part Number]],'2025 Pricing Rework'!$B$31:$F$737,4, FALSE) -> #N/A | K7: =Table336[[#This Row],[Your Price]]*Table336[[#This Row],[Qty]] -> #REF!
J8: =VLOOKUP(Table336[[#This Row],[Part Number]],'2025 Pricing Rework'!$B$31:$F$737,4, FALSE) -> #N/A
J9: =VLOOKUP(Table336[[#This Row],[Part Number]],'2025 Pricing Rework'!$B$31:$F$737,4, FALSE) -> #N/A
F10: (Flanges are included) | G10: 1 | I10: =VLOOKUP(Table336[[#This Row],[Part Number]],#REF!,11,FALSE) -> #REF! | J10: =VLOOKUP(Table336[[#This Row],[Part Number]],'2025 Pricing Rework'!$B$31:$F$737,4, FALSE) -> #N/A | K10: =Table336[[#This Row],[Your Price]]*Table336[[#This Row],[Qty]] -> #REF!
F11: (Flanges are included) | G11: 1 | I11: =VLOOKUP(Table336[[#This Row],[Part Number]],#REF!,11,FALSE) -> #REF! | J11: =VLOOKUP(Table336[[#This Row],[Part Number]],'2025 Pricing Rework'!$B$31:$F$737,4, FALSE) -> #N/A | K11: =Table336[[#This Row],[Your Price]]*Table336[[#This Row],[Qty]] -> #REF!
J12: =VLOOKUP(Table336[[#This Row],[Part Number]],'2025 Pricing Rework'!$B$31:$F$737,4, FALSE) -> #N/A
J13: =VLOOKUP(Table336[[#This Row],[Part Number]],'2025 Pricing Rework'!$B$31:$F$737,4, FALSE) -> #N/A
J14: =VLOOKUP(Table336[[#This Row],[Part Number]],'2025 Pricing Rework'!$B$31:$F$737,4, FALSE) -> #N/A
C15: Ball PF Series
D16: 2811105191 | E16: 20 / ¾" | F16: AIRnet x AIRnet Connections | G16: 1 | I16: =VLOOKUP(Table336[[#This Row],[Part Number]],'2026 Pricing Rework'!$B$32:$F$740,5, FALSE) -> 55.02 | J16: =VLOOKUP(Table336[[#This Row],[Part Number]],'2025 Pricing Rework'!$B$31:$F$737,4, FALSE) -> 55.12 | K16: =Table336[[#This Row],[Your Price]]*Table336[[#This Row],[Qty]] -> 0
D17: 2811205191 | E17: 25 / 1" | F17: AIRnet x AIRnet Connections | G17: 1 | I17: =VLOOKUP(Table336[[#This Row],[Part Number]],'2026 Pricing Rework'!$B$32:$F$740,5, FALSE) -> 80.3 | J17: =VLOOKUP(Table336[[#This Row],[Part Number]],'2025 Pricing Rework'!$B$31:$F$737,4, FALSE) -> 80.45 | K17: =Table336[[#This Row],[Your Price]]*Table336[[#This Row],[Qty]] -> 0
D18: 2811405191 | E18: 40 / 1½" | F18: AIRnet x AIRnet Connections | G18: 1 | I18: =VLOOKUP(Table336[[#This Row],[Part Number]],'2026 Pricing Rework'!$B$32:$F$740,5, FALSE) -> 134.31 | J18: =VLOOKUP(Table336[[#This Row],[Part Number]],'2025 Pricing Rework'!$B$31:$F$737,4, FALSE) -> 134.56 | K18: =Table336[[#This Row],[Your Price]]*Table336[[#This Row],[Qty]] -> 0
D19: 2811505191 | E19: 50 / 2" | F19: AIRnet x AIRnet Connections | G19: 1 | I19: =VLOOKUP(Table336[[#This Row],[Part Number]],'2026 Pricing Rework'!$B$32:$F$740,5, FALSE) -> 261.91 | J19: =VLOOKUP(Table336[[#This Row],[Part Number]],'2025 Pricing Rework'!$B$31:$F$737,4, FALSE) -> 262.41 | K19: =Table336[[#This Row],[Your Price]]*Table336[[#This Row],[Qty]] -> 0
C20: Threaded Ball Valve PF Series
D21: 2811115391 | E21: 3/4" / 3/4" NPT | F21: AIRnet x NPT Connections | G21: 1 | I21: =VLOOKUP(Table336[[#This Row],[Part Number]],'2026 Pricing Rework'!$B$32:$F$740,5, FALSE) -> 72.84 | J21: =VLOOKUP(Table336[[#This Row],[Part Number]],'2025 Pricing Rework'!$B$31:$F$737,4, FALSE) -> 72.97 | K21: =Table336[[#This Row],[Your Price]]*Table336[[#This Row],[Qty]] -> 0
D22: 2811225391 | E22: 1" / 1" NPT | F22: AIRnet x NPT Connections | G22: 1 | I22: =VLOOKUP(Table336[[#This Row],[Part Number]],'2026 Pricing Rework'!$B$32:$F$740,5, FALSE) -> 84.05 | J22: =VLOOKUP(Table336[[#This Row],[Part Number]],'2025 Pricing Rework'!$B$31:$F$737,4, FALSE) -> 84.21 | K22: =Table336[[#This Row],[Your Price]]*Table336[[#This Row],[Qty]] -> 0
D23: 2811445391 | E23: 1 1/2" / 1 1/2" NPT | F23: AIRnet x NPT Connections | G23: 1 | I23: =VLOOKUP(Table336[[#This Row],[Part Number]],'2026 Pricing Rework'!$B$32:$F$740,5, FALSE) -> 156.29 | J23: =VLOOKUP(Table336[[#This Row],[Part Number]],'2025 Pricing Rework'!$B$31:$F$737,4, FALSE) -> 156.59 | K23: =Table336[[#This Row],[Your Price]]*Table336[[#This Row],[Qty]] -> 0
D24: 2811555391 | E24: 2" / 2" NPT | F24: AIRnet x NPT Connections | G24: 1 | I24: =VLOOKUP(Table336[[#This Row],[Part Number]],'2026 Pricing Rework'!$B$32:$F$740,5, FALSE) -> 195.13 | J24: =VLOOKUP(Table336[[#This Row],[Part Number]],'2025 Pricing Rework'!$B$31:$F$737,4, FALSE) -> 195.5 | K24: =Table336[[#This Row],[Your Price]]*Table336[[#This Row],[Qty]] -> 0
C26: PF Series - Lock Out / Tag Out (Handles Only)
D27: 2811125100 | E27: 20-25mm / 3/4" - 1" | F27: Locking handle | G27: 1 | I27: =VLOOKUP(Table336[[#This Row],[Part Number]],'2026 Pricing Rework'!$B$32:$F$740,5, FALSE) -> 22.88 | J27: =VLOOKUP(Table336[[#This Row],[Part Number]],'2025 Pricing Rework'!$B$31:$F$737,4, FALSE) -> 22.92 | K27: =Table336[[#This Row],[Your Price]]*Table336[[#This Row],[Qty]] -> 0
D28: 2811455100 | E28: 40-50mm / 1 1/2" - 2" | F28: Locking Handle | G28: 1 | I28: =VLOOKUP(Table336[[#This Row],[Part Number]],'2026 Pricing Rework'!$B$32:$F$740,5, FALSE) -> 35.39 | J28: =VLOOKUP(Table336[[#This Row],[Part Number]],'2025 Pricing Rework'!$B$31:$F$737,4, FALSE) -> 35.46 | K28: =Table336[[#This Row],[Your Price]]*Table336[[#This Row],[Qty]] -> 0
C30: Standard Ball Valves Locking Latch / UL Listed | F30: Use with (2) threaded connectors to connect to AIRnet piping
D31: 1310072363 | E31: 1/2"m x 1/2"f | F31: NPT x NPT connections | G31: 1 | I31: =VLOOKUP(Table336[[#This Row],[Part Number]],'2026 Pricing Rework'!$B$32:$F$740,5, FALSE) -> 31 | J31: =VLOOKUP(Table336[[#This Row],[Part Number]],'2025 Pricing Rework'!$B$31:$F$737,4, FALSE) -> 31.05 | K31: =Table336[[#This Row],[Your Price]]*Table336[[#This Row],[Qty]] -> 0
D32: 1310072884 | E32: 3/4"m x 3/4" f | F32: NPT x NPT connections | G32: 1 | I32: =VLOOKUP(Table336[[#This Row],[Part Number]],'2026 Pricing Rework'!$B$32:$F$740,5, FALSE) -> 33.06 | J32: =VLOOKUP(Table336[[#This Row],[Part Number]],'2025 Pricing Rework'!$B$31:$F$737,4, FALSE) -> 33.11 | K32: =Table336[[#This Row],[Your Price]]*Table336[[#This Row],[Qty]] -> 0
D33: 1310072282 | E33: 1/2" f x 1/2"f | F33: NPT x NPT connections | G33: 1 | I33: =VLOOKUP(Table336[[#This Row],[Part Number]],'2026 Pricing Rework'!$B$32:$F$740,5, FALSE) -> 25.76 | J33: =VLOOKUP(Table336[[#This Row],[Part Number]],'2025 Pricing Rework'!$B$31:$F$737,4, FALSE) -> 25.8 | K33: =Table336[[#This Row],[Your Price]]*Table336[[#This Row],[Qty]] -> 0
D34: 1310072283 | E34: 3/4"f x 3/4"f | F34: NPT x NPT connections | G34: 1 | I34: =VLOOKUP(Table336[[#This Row],[Part Number]],'2026 Pricing Rework'!$B$32:$F$740,5, FALSE) -> 33.31 | J34: =VLOOKUP(Table336[[#This Row],[Part Number]],'2025 Pricing Rework'!$B$31:$F$737,4, FALSE) -> 33.37 | K34: =Table336[[#This Row],[Your Price]]*Table336[[#This Row],[Qty]] -> 0
D35: 1310072284 | E35: 1"f x 1"f | F35: NPT x NPT connections | G35: 1 | I35: =VLOOKUP(Table336[[#This Row],[Part Number]],'2026 Pricing Rework'!$B$32:$F$740,5, FALSE) -> 43.11 | J35: =VLOOKUP(Table336[[#This Row],[Part Number]],'2025 Pricing Rework'!$B$31:$F$737,4, FALSE) -> 43.19 | K35: =Table336[[#This Row],[Your Price]]*Table336[[#This Row],[Qty]] -> 0
D36: 1310072378 | E36: 1 1/4"f x 1 1/4"f | F36: NPT x NPT connections | G36: 1 | I36: =VLOOKUP(Table336[[#This Row],[Part Number]],'2025 Pricing Rework'!$B$31:$F$737,5, FALSE) -> 63.1 | J36: =VLOOKUP(Table336[[#This Row],[Part Number]],'2025 Pricing Rework'!$B$31:$F$737,4, FALSE) -> 74.23 | K36: =Table336[[#This Row],[Your Price]]*Table336[[#This Row],[Qty]] -> 0
D37: 1310072286 | E37: 1 1/2"f x 1 1/2"f | F37: NPT x NPT connections | G37: 1 | I37: =VLOOKUP(Table336[[#This Row],[Part Number]],'2025 Pricing Rework'!$B$31:$F$737,5, FALSE) -> 76.25 | J37: =VLOOKUP(Table336[[#This Row],[Part Number]],'2025 Pricing Rework'!$B$31:$F$737,4, FALSE) -> 89.71 | K37: =Table336[[#This Row],[Your Price]]*Table336[[#This Row],[Qty]] -> 0
D38: 1310072287 | E38: 2"f x 2"f | F38: NPT x NPT connections | G38: 1 | I38: =VLOOKUP(Table336[[#This Row],[Part Number]],'2025 Pricing Rework'!$B$31:$F$737,5, FALSE) -> 199.69 | J38: =VLOOKUP(Table336[[#This Row],[Part Number]],'2025 Pricing Rework'!$B$31:$F$737,4, FALSE) -> 234.93 | K38: =Table336[[#This Row],[Your Price]]*Table336[[#This Row],[Qty]] -> 0
D39: 1310072288 | E39: 2 1/2"f x 2 1/2"f | F39: NPT x NPT connections | G39: 1 | I39: =VLOOKUP(Table336[[#This Row],[Part Number]],#REF!,5, FALSE) -> #REF! | J39: =VLOOKUP(Table336[[#This Row],[Part Number]],'2025 Pricing Rework'!$B$31:$F$737,4, FALSE) -> 304.15 | K39: =Table336[[#This Row],[Your Price]]*Table336[[#This Row],[Qty]] -> #REF!
D40: 1310072289 | E40: 3"f x 3"f | F40: NPT x NPT connections | G40: 1 | I40: =VLOOKUP(Table336[[#This Row],[Part Number]],#REF!,5, FALSE) -> #REF! | J40: =VLOOKUP(Table336[[#This Row],[Part Number]],'2025 Pricing Rework'!$B$31:$F$737,4, FALSE) -> 980.74 | K40: =Table336[[#This Row],[Your Price]]*Table336[[#This Row],[Qty]] -> #REF!
B41: Valves | C41: Butterfly Valve PM & Large Series
D42: 2811605190 | E42: 63 / 2½" | F42: (Flanges are included) | G42: 1 | I42: =VLOOKUP(Table336[[#This Row],[Part Number]],'2026 Pricing Rework'!$B$32:$F$740,5, FALSE) -> 486.18 | J42: =VLOOKUP(Table336[[#This Row],[Part Number]],'2025 Pricing Rework'!$B$31:$F$737,4, FALSE) -> 487.12 | K42: =Table336[[#This Row],[Your Price]]*Table336[[#This Row],[Qty]] -> 0
D43: 2811705190 | E43: 80 / 3" | F43: (Flanges are included) | G43: 1 | I43: =VLOOKUP(Table336[[#This Row],[Part Number]],'2026 Pricing Rework'!$B$32:$F$740,5, FALSE) -> 653.88 | J43: =VLOOKUP(Table336[[#This Row],[Part Number]],'2025 Pricing Rework'!$B$31:$F$737,4, FALSE) -> 655.14 | K43: =Table336[[#This Row],[Your Price]]*Table336[[#This Row],[Qty]] -> 0
D44: 1606456104 | E44: 100 / 4" | F44: (Valve Only) - requires flange & bolt sets | G44: 1 | I44: =VLOOKUP(Table336[[#This Row],[Part Number]],'2026 Pricing Rework'!$B$32:$F$740,5, FALSE) -> 472.09 | J44: =VLOOKUP(Table336[[#This Row],[Part Number]],'2025 Pricing Rework'!$B$31:$F$737,4, FALSE) -> 473 | K44: =Table336[[#This Row],[Your Price]]*Table336[[#This Row],[Qty]] -> 0
D45: 2810905100 | E45: 158 / 6" | F45: (Valve Only) - requires flange & bolt sets | G45: 1 | I45: =VLOOKUP(Table336[[#This Row],[Part Number]],'2026 Pricing Rework'!$B$32:$F$740,5, FALSE) -> 508.24 | J45: =VLOOKUP(Table336[[#This Row],[Part Number]],'2025 Pricing Rework'!$B$31:$F$737,4, FALSE) -> 509.22 | K45: =Table336[[#This Row],[Your Price]]*Table336[[#This Row],[Qty]] -> 0
C47: Threaded Butterfly Valve (NPT)
D48: 2811665390 | E48: 63 / 2½" | F48: (Flanges are included) | G48: 1 | I48: =VLOOKUP(Table336[[#This Row],[Part Number]],'2026 Pricing Rework'!$B$32:$F$740,5, FALSE) -> 540.46 | J48: =VLOOKUP(Table336[[#This Row],[Part Number]],'2025 Pricing Rework'!$B$31:$F$737,4, FALSE) -> 541.5 | K48: =Table336[[#This Row],[Your Price]]*Table336[[#This Row],[Qty]] -> 0
D49: 2811775390 | E49: 80 / 3" | F49: (Flanges are included) | G49: 1 | I49: =VLOOKUP(Table336[[#This Row],[Part Number]],'2026 Pricing Rework'!$B$32:$F$740,5, FALSE) -> 675.81 | J49: =VLOOKUP(Table336[[#This Row],[Part Number]],'2025 Pricing Rework'!$B$31:$F$737,4, FALSE) -> 677.11 | K49: =Table336[[#This Row],[Your Price]]*Table336[[#This Row],[Qty]] -> 0
B54: Flange - 150 class | C54: ANSI | E54: AIRnet Φ
D55: 2811615490 | E55: 63 / 2½" | F55: ANSI | G55: 1 | I55: =VLOOKUP(Table336[[#This Row],[Part Number]],'2026 Pricing Rework'!$B$32:$F$740,5, FALSE) -> 136.62 | J55: =VLOOKUP(Table336[[#This Row],[Part Number]],'2025 Pricing Rework'!$B$31:$F$737,4, FALSE) -> 136.88 | K55: =Table336[[#This Row],[Your Price]]*Table336[[#This Row],[Qty]] -> 0
D56: 2811715490 | E56: 80 / 3" | F56: ANSI | G56: 1 | I56: =VLOOKUP(Table336[[#This Row],[Part Number]],'2026 Pricing Rework'!$B$32:$F$740,5, FALSE) -> 183.7 | J56: =VLOOKUP(Table336[[#This Row],[Part Number]],'2025 Pricing Rework'!$B$31:$F$737,4, FALSE) -> 184.05 | K56: =Table336[[#This Row],[Your Price]]*Table336[[#This Row],[Qty]] -> 0
D57: 2810825400 | E57: 100 / 4" | F57: ANSI - Equal Unions required | G57: 1 | I57: =VLOOKUP(Table336[[#This Row],[Part Number]],'2026 Pricing Rework'!$B$32:$F$740,5, FALSE) -> 248.74 | J57: =VLOOKUP(Table336[[#This Row],[Part Number]],'2025 Pricing Rework'!$B$31:$F$737,4, FALSE) -> 249.22 | K57: =Table336[[#This Row],[Your Price]]*Table336[[#This Row],[Qty]] -> 0
D58: 2810915400 | E58: 158 / 6" | F58: ANSI - Equal Unions required | G58: 1 | I58: =VLOOKUP(Table336[[#This Row],[Part Number]],'2026 Pricing Rework'!$B$32:$F$740,5, FALSE) -> 278.38 | J58: =VLOOKUP(Table336[[#This Row],[Part Number]],'2025 Pricing Rework'!$B$31:$F$737,4, FALSE) -> 278.92 | K58: =Table336[[#This Row],[Your Price]]*Table336[[#This Row],[Qty]] -> 0
B61: Flange Accessories | C61: Support for Valves / Flanges
D62: 2810000638 | E62: 63 / 2½" | G62: 1 | I62: =VLOOKUP(Table336[[#This Row],[Part Number]],'2026 Pricing Rework'!$B$32:$F$740,5, FALSE) -> 49.77 | J62: =VLOOKUP(Table336[[#This Row],[Part Number]],'2025 Pricing Rework'!$B$31:$F$737,4, FALSE) -> 49.86 | K62: =Table336[[#This Row],[Your Price]]*Table336[[#This Row],[Qty]] -> 0
D63: 2810000738 | E63: 80 / 3" | G63: 1 | I63: =VLOOKUP(Table336[[#This Row],[Part Number]],'2026 Pricing Rework'!$B$32:$F$740,5, FALSE) -> 49.77 | J63: =VLOOKUP(Table336[[#This Row],[Part Number]],'2025 Pricing Rework'!$B$31:$F$737,4, FALSE) -> 49.86 | K63: =Table336[[#This Row],[Your Price]]*Table336[[#This Row],[Qty]] -> 0
D64: 2810806400 | E64: 100 / 4" | G64: 1 | I64: =VLOOKUP(Table336[[#This Row],[Part Number]],'2026 Pricing Rework'!$B$32:$F$740,5, FALSE) -> 35.12 | J64: =VLOOKUP(Table336[[#This Row],[Part Number]],'2025 Pricing Rework'!$B$31:$F$737,4, FALSE) -> 35.18 | K64: =Table336[[#This Row],[Your Price]]*Table336[[#This Row],[Qty]] -> 0
D65: 2810906400 | E65: 158 / 6" | G65: 1 | I65: =VLOOKUP(Table336[[#This Row],[Part Number]],'2026 Pricing Rework'!$B$32:$F$740,5, FALSE) -> 46.82 | J65: =VLOOKUP(Table336[[#This Row],[Part Number]],'2025 Pricing Rework'!$B$31:$F$737,4, FALSE) -> 46.9 | K65: =Table336[[#This Row],[Your Price]]*Table336[[#This Row],[Qty]] -> 0
C68: Flat Gasket | E68: Note: | F68: No gaskets required for Butterfly Valves
D69: 0650 0100 16 | E69: 63 / 2½" | G69: 1 | I69: =VLOOKUP(Table336[[#This Row],[Part Number]],'2026 Pricing Rework'!$B$20:$F$740,5, FALSE) -> 45.54 | J69: =VLOOKUP(Table336[[#This Row],[Part Number]],'2025 Pricing Rework'!$B$7:$F$737,4, FALSE) -> 45.54 | K69: =Table336[[#This Row],[Your Price]]*Table336[[#This Row],[Qty]] -> 0
D70: 0650 1001 27 | E70: 80 / 3" | G70: 1 | I70: =VLOOKUP(Table336[[#This Row],[Part Number]],'2026 Pricing Rework'!$B$20:$F$740,5, FALSE) -> 48.88 | J70: =VLOOKUP(Table336[[#This Row],[Part Number]],'2025 Pricing Rework'!$B$7:$F$737,4, FALSE) -> 27.44 | K70: =Table336[[#This Row],[Your Price]]*Table336[[#This Row],[Qty]] -> 0
D71: 0650 0100 06 | E71: 100 / 4" | G71: 1 | I71: =VLOOKUP(Table336[[#This Row],[Part Number]],'2026 Pricing Rework'!$B$20:$F$740,5, FALSE) -> 49.99 | J71: =VLOOKUP(Table336[[#This Row],[Part Number]],'2025 Pricing Rework'!$B$7:$F$737,4, FALSE) -> 45.54 | K71: =Table336[[#This Row],[Your Price]]*Table336[[#This Row],[Qty]] -> 0
D72: 0650 1001 25 | E72: 158 / 6" | G72: 1 | I72: =VLOOKUP(Table336[[#This Row],[Part Number]],'2026 Pricing Rework'!$B$20:$F$740,5, FALSE) -> 89.02 | J72: =VLOOKUP(Table336[[#This Row],[Part Number]],'2025 Pricing Rework'!$B$7:$F$737,4, FALSE) -> 73.04 | K72: =Table336[[#This Row],[Your Price]]*Table336[[#This Row],[Qty]] -> 0
C74: Flange Bolts (for use with butterfly valves)
D75: 2810025408 | E75: 4" | F75: 1 pack = 8 bolts | G75: 8 | I75: =VLOOKUP(Table336[[#This Row],[Part Number]],'2026 Pricing Rework'!$B$32:$F$740,5, FALSE) -> 111.73 | J75: =VLOOKUP(Table336[[#This Row],[Part Number]],'2025 Pricing Rework'!$B$31:$F$737,4, FALSE) -> 111.95 | K75: =Table336[[#This Row],[Your Price]]*Table336[[#This Row],[Qty]] -> 0
D76: 2810045408 | E76: 6" | F76: 1 pack = 8 bolts | G76: 8 | I76: =VLOOKUP(Table336[[#This Row],[Part Number]],'2026 Pricing Rework'!$B$32:$F$740,5, FALSE) -> 177.1 | J76: =VLOOKUP(Table336[[#This Row],[Part Number]],'2025 Pricing Rework'!$B$31:$F$737,4, FALSE) -> 177.44 | K76: =Table336[[#This Row],[Your Price]]*Table336[[#This Row],[Qty]] -> 0
J80: =VLOOKUP(Table336[[#This Row],[Part Number]],'2025 Pricing Rework'!$B$31:$F$737,4, FALSE) -> #N/A

Sheet NPT Adapters
D1: Adapters Unions & Threaded Connectors | H1: Enter Qty Here
B2: Adapters - NPT | C2: Sub Category | D2: Part Number | E2: Size mm / in | F2: NPT size inches | G2: Lot Size | H2: Qty | I2: Your Price | J2: List Price | K2: Total
J3: =VLOOKUP(Table3311[[#This Row],[Part Number]],'2025 Pricing Rework'!$B$31:$F$737,4,FALSE) -> #N/A
E4: AIRnet Φ | F4: Threaded Outlet Φ | G4: Lot Size | J4: =VLOOKUP(Table3311[[#This Row],[Part Number]],'2025 Pricing Rework'!$B$31:$F$737,4,FALSE) -> #N/A
D5: 2811651880 | E5: 63 / 2 1/2" | F5: 2" | G5: 1 | I5: =VLOOKUP(Table3311[[#This Row],[Part Number]],#REF!,11,FALSE) -> #REF! | J5: =VLOOKUP(Table3311[[#This Row],[Part Number]],'2025 Pricing Rework'!$B$31:$F$737,4,FALSE) -> #N/A | K5: =Table3311[[#This Row],[Qty]]*Table3311[[#This Row],[Your Price]] -> #REF!
D6: 2811661880 | E6: 63 2 1/2" | F6: 2½" | G6: 1 | I6: =VLOOKUP(Table3311[[#This Row],[Part Number]],#REF!,11,FALSE) -> #REF! | J6: =VLOOKUP(Table3311[[#This Row],[Part Number]],'2025 Pricing Rework'!$B$31:$F$737,4,FALSE) -> #N/A | K6: =Table3311[[#This Row],[Qty]]*Table3311[[#This Row],[Your Price]] -> #REF!
D7: 2811761880 | E7: 80 / 3" | F7: 2½" | G7: 1 | I7: =VLOOKUP(Table3311[[#This Row],[Part Number]],#REF!,11,FALSE) -> #REF! | J7: =VLOOKUP(Table3311[[#This Row],[Part Number]],'2025 Pricing Rework'!$B$31:$F$737,4,FALSE) -> #N/A | K7: =Table3311[[#This Row],[Qty]]*Table3311[[#This Row],[Your Price]] -> #REF!
D8: 2811771880 | E8: 80 / 3" | F8: 3" | G8: 1 | I8: =VLOOKUP(Table3311[[#This Row],[Part Number]],#REF!,11,FALSE) -> #REF! | J8: =VLOOKUP(Table3311[[#This Row],[Part Number]],'2025 Pricing Rework'!$B$31:$F$737,4,FALSE) -> #N/A | K8: =Table3311[[#This Row],[Qty]]*Table3311[[#This Row],[Your Price]] -> #REF!
B9: aka Threaded Connectors | C9: Male - NPT
B10: aka Nipple Sockets | C10: Aluminum PF Series
E11: AIRnet Φ | F11: Threaded Outlet Φ | G11: Lot Size
D12: 2811101880 | E12: 20 / ¾" | F12: 1/2" | G12: 1 | I12: =VLOOKUP(Table3311[[#This Row],[Part Number]],'2026 Pricing Rework'!$B$32:$F$740,5,FALSE) -> 23.38 | J12: =VLOOKUP(Table3311[[#This Row],[Part Number]],'2025 Pricing Rework'!$B$31:$F$737,4,FALSE) -> 23.42 | K12: =Table3311[[#This Row],[Qty]]*Table3311[[#This Row],[Your Price]] -> 0
D13: 2811111880 | E13: 20 / ¾" | F13: 3/4" | G13: 1 | I13: =VLOOKUP(Table3311[[#This Row],[Part Number]],'2026 Pricing Rework'!$B$32:$F$740,5,FALSE) -> 27.77 | J13: =VLOOKUP(Table3311[[#This Row],[Part Number]],'2025 Pricing Rework'!$B$31:$F$737,4,FALSE) -> 27.82 | K13: =Table3311[[#This Row],[Qty]]*Table3311[[#This Row],[Your Price]] -> 0
D14: 2811211880 | E14: 25 / 1" | F14: 3/4" | G14: 1 | I14: =VLOOKUP(Table3311[[#This Row],[Part Number]],'2026 Pricing Rework'!$B$32:$F$740,5,FALSE) -> 42.5 | J14: =VLOOKUP(Table3311[[#This Row],[Part Number]],'2025 Pricing Rework'!$B$31:$F$737,4,FALSE) -> 42.58 | K14: =Table3311[[#This Row],[Qty]]*Table3311[[#This Row],[Your Price]] -> 0
D15: 2811221880 | E15: 25 / 1" | F15: 1" | G15: 1 | I15: =VLOOKUP(Table3311[[#This Row],[Part Number]],'2026 Pricing Rework'!$B$32:$F$740,5,FALSE) -> 51.03 | J15: =VLOOKUP(Table3311[[#This Row],[Part Number]],'2025 Pricing Rework'!$B$31:$F$737,4,FALSE) -> 51.13 | K15: =Table3311[[#This Row],[Qty]]*Table3311[[#This Row],[Your Price]] -> 0
D16: 2811431880 | E16: 40 / 1½" | F16: 1 1/4" | G16: 1 | I16: =VLOOKUP(Table3311[[#This Row],[Part Number]],'2026 Pricing Rework'!$B$32:$F$740,5,FALSE) -> 69.61 | J16: =VLOOKUP(Table3311[[#This Row],[Part Number]],'2025 Pricing Rework'!$B$31:$F$737,4,FALSE) -> 69.74 | K16: =Table3311[[#This Row],[Qty]]*Table3311[[#This Row],[Your Price]] -> 0
D17: 2811441880 | E17: 40 / 1½" | F17: 1 1/2" | G17: 1 | I17: =VLOOKUP(Table3311[[#This Row],[Part Number]],'2026 Pricing Rework'!$B$32:$F$740,5,FALSE) -> 75.23 | J17: =VLOOKUP(Table3311[[#This Row],[Part Number]],'2025 Pricing Rework'!$B$31:$F$737,4,FALSE) -> 75.38 | K17: =Table3311[[#This Row],[Qty]]*Table3311[[#This Row],[Your Price]] -> 0
D18: 2811541880 | E18: 50 / 2" | F18: 1 1/2" | G18: 1 | I18: =VLOOKUP(Table3311[[#This Row],[Part Number]],'2026 Pricing Rework'!$B$32:$F$740,5,FALSE) -> 89.4 | J18: =VLOOKUP(Table3311[[#This Row],[Part Number]],'2025 Pricing Rework'!$B$31:$F$737,4,FALSE) -> 89.57 | K18: =Table3311[[#This Row],[Qty]]*Table3311[[#This Row],[Your Price]] -> 0
D19: 2811551880 | E19: 50 / 2" | F19: 2" | G19: 1 | I19: =VLOOKUP(Table3311[[#This Row],[Part Number]],'2026 Pricing Rework'!$B$32:$F$740,5,FALSE) -> 92.09 | J19: =VLOOKUP(Table3311[[#This Row],[Part Number]],'2025 Pricing Rework'!$B$31:$F$737,4,FALSE) -> 92.26 | K19: =Table3311[[#This Row],[Qty]]*Table3311[[#This Row],[Your Price]] -> 0
C20: Male - PM Series Aluminum Connector
E21: AIRnet Φ | F21: Threaded Outlet Φ | G21: Lot Size
D22: 2811651890 | E22: 63 / 2 1/2" | F22: 2" | G22: 1 | I22: =VLOOKUP(Table3311[[#This Row],[Part Number]],'2026 Pricing Rework'!$B$32:$F$740,5,FALSE) -> 164 | J22: =VLOOKUP(Table3311[[#This Row],[Part Number]],'2025 Pricing Rework'!$B$31:$F$737,4,FALSE) -> 164.32 | K22: =Table3311[[#This Row],[Qty]]*Table3311[[#This Row],[Your Price]] -> 0
D23: 2811661890 | E23: 63 2 1/2" | F23: 2½" | G23: 1 | I23: =VLOOKUP(Table3311[[#This Row],[Part Number]],'2026 Pricing Rework'!$B$32:$F$740,5,FALSE) -> 164 | J23: =VLOOKUP(Table3311[[#This Row],[Part Number]],'2025 Pricing Rework'!$B$31:$F$737,4,FALSE) -> 164.32 | K23: =Table3311[[#This Row],[Qty]]*Table3311[[#This Row],[Your Price]] -> 0
D24: 2811761890 | E24: 80 / 3" | F24: 2½" | G24: 1 | I24: =VLOOKUP(Table3311[[#This Row],[Part Number]],'2026 Pricing Rework'!$B$32:$F$740,5,FALSE) -> 205.56 | J24: =VLOOKUP(Table3311[[#This Row],[Part Number]],'2025 Pricing Rework'!$B$31:$F$737,4,FALSE) -> 205.95 | K24: =Table3311[[#This Row],[Qty]]*Table3311[[#This Row],[Your Price]] -> 0
D25: 2811771890 | E25: 80 / 3" | F25: 3" | G25: 1 | I25: =VLOOKUP(Table3311[[#This Row],[Part Number]],'2026 Pricing Rework'!$B$32:$F$740,5,FALSE) -> 207.82 | J25: =VLOOKUP(Table3311[[#This Row],[Part Number]],'2025 Pricing Rework'!$B$31:$F$737,4,FALSE) -> 208.21 | K25: =Table3311[[#This Row],[Qty]]*Table3311[[#This Row],[Your Price]] -> 0
C29: Female - PM Series Aluminum Connector | E29: AIRnet Φ | F29: Threaded Outlet Φ | G29: Lot Size
D30: 2811662090 | E30: 63 / 2½" | F30: 2 1/2" | G30: 1 | I30: =VLOOKUP(Table3311[[#This Row],[Part Number]],#REF!,11,FALSE) -> #REF! | K30: =Table3311[[#This Row],[Qty]]*Table3311[[#This Row],[Your Price]] -> #REF!
E36: AIRnet Φ | F36: Threaded Outlet Φ | G36: Lot Size
B37: Union Adapter (NPT) | C37: Female Connector - NPT PF Series | D37: 2811111480 | E37: 20 / ¾" | F37: 3/4" | G37: 1 | I37: =VLOOKUP(Table3311[[#This Row],[Part Number]],'2026 Pricing Rework'!$B$32:$F$740,5,FALSE) -> 64.91 | J37: =VLOOKUP(Table3311[[#This Row],[Part Number]],'2025 Pricing Rework'!$B$31:$F$737,4,FALSE) -> 78.23 | K37: =Table3311[[#This Row],[Qty]]*Table3311[[#This Row],[Your Price]] -> 0
B38: Union Adapters gives you the ability to replace equipment (Ex: filters) without removing pipe | D38: 2811221480 | E38: 25 / 1" | F38: 1" | G38: 1 | I38: =VLOOKUP(Table3311[[#This Row],[Part Number]],'2026 Pricing Rework'!$B$32:$F$740,5,FALSE) -> 75.23 | J38: =VLOOKUP(Table3311[[#This Row],[Part Number]],'2025 Pricing Rework'!$B$31:$F$737,4,FALSE) -> 75.37 | K38: =Table3311[[#This Row],[Qty]]*Table3311[[#This Row],[Your Price]] -> 0
D39: 2811441480 | E39: 40 / 1½" | F39: 1 1/2" | G39: 1 | I39: =VLOOKUP(Table3311[[#This Row],[Part Number]],'2026 Pricing Rework'!$B$32:$F$740,5,FALSE) -> 86.85 | J39: =VLOOKUP(Table3311[[#This Row],[Part Number]],'2025 Pricing Rework'!$B$31:$F$737,4,FALSE) -> 87.02 | K39: =Table3311[[#This Row],[Qty]]*Table3311[[#This Row],[Your Price]] -> 0
D40: 2811551480 | E40: 50 / 2" | F40: 2" | G40: 1 | I40: =VLOOKUP(Table3311[[#This Row],[Part Number]],'2026 Pricing Rework'!$B$32:$F$740,5,FALSE) -> 111.72 | J40: =VLOOKUP(Table3311[[#This Row],[Part Number]],'2025 Pricing Rework'!$B$31:$F$737,4,FALSE) -> 111.93 | K40: =Table3311[[#This Row],[Qty]]*Table3311[[#This Row],[Your Price]] -> 0
E43: AIRnet Φ | F43: Threaded Outlet Φ | G43: Lot Size
C44: Female Connector - NPT PM Series
D45: 2811661490 | E45: 63 / 2½" | F45: 2 1/2" | G45: 1 | I45: =VLOOKUP(Table3311[[#This Row],[Part Number]],'2026 Pricing Rework'!$B$32:$F$740,5,FALSE) -> 181.7 | J45: =VLOOKUP(Table3311[[#This Row],[Part Number]],'2025 Pricing Rework'!$B$31:$F$737,4,FALSE) -> 182.04 | K45: =Table3311[[#This Row],[Qty]]*Table3311[[#This Row],[Your Price]] -> 0
D46: 2811771490 | E46: 80 / 3" | F46: 3" | G46: 1 | I46: =VLOOKUP(Table3311[[#This Row],[Part Number]],'2026 Pricing Rework'!$B$32:$F$740,5,FALSE) -> 207.82 | J46: =VLOOKUP(Table3311[[#This Row],[Part Number]],'2025 Pricing Rework'!$B$31:$F$737,4,FALSE) -> 208.21 | K46: =Table3311[[#This Row],[Qty]]*Table3311[[#This Row],[Your Price]] -> 0
E50: AIRnet Φ | F50: Threaded Outlet Φ | G50: Lot Size
B51: Use with Adapters/Threaded Connectors to make additional pipe reductions or thread black iron pipes directly | C51: Adapter Kit - NPT - (replace any PF/PM Series nut to create an NPT fitting) | D51: 2811002080 | E51: 20 / ¾" | F51: 3/8" | G51: 1 | I51: =VLOOKUP(Table3311[[#This Row],[Part Number]],'2026 Pricing Rework'!$B$32:$F$740,5,FALSE) -> 50.68 | J51: =VLOOKUP(Table3311[[#This Row],[Part Number]],'2025 Pricing Rework'!$B$31:$F$737,4,FALSE) -> 50.77 | K51: =Table3311[[#This Row],[Qty]]*Table3311[[#This Row],[Your Price]] -> 0
D52: 2811102080 | E52: 20 / ¾" | F52: 1/2" | G52: 1 | I52: =VLOOKUP(Table3311[[#This Row],[Part Number]],'2026 Pricing Rework'!$B$32:$F$740,5,FALSE) -> 50.32 | J52: =VLOOKUP(Table3311[[#This Row],[Part Number]],'2025 Pricing Rework'!$B$31:$F$737,4,FALSE) -> 50.41 | K52: =Table3311[[#This Row],[Qty]]*Table3311[[#This Row],[Your Price]] -> 0
D53: 2811202080 | E53: 25 / 1" | F53: 1/2" | G53: 1 | I53: =VLOOKUP(Table3311[[#This Row],[Part Number]],'2026 Pricing Rework'!$B$32:$F$740,5,FALSE) -> 58.45 | J53: =VLOOKUP(Table3311[[#This Row],[Part Number]],'2025 Pricing Rework'!$B$31:$F$737,4,FALSE) -> 58.56 | K53: =Table3311[[#This Row],[Qty]]*Table3311[[#This Row],[Your Price]] -> 0
D54: 2811212080 | E54: 25 / 1" | F54: 3/4" | G54: 1 | I54: =VLOOKUP(Table3311[[#This Row],[Part Number]],'2026 Pricing Rework'!$B$32:$F$740,5,FALSE) -> 65.53 | J54: =VLOOKUP(Table3311[[#This Row],[Part Number]],'2025 Pricing Rework'!$B$31:$F$737,4,FALSE) -> 65.65 | K54: =Table3311[[#This Row],[Qty]]*Table3311[[#This Row],[Your Price]] -> 0
D55: 2811422080 | E55: 40 / 1½" | F55: 1" | G55: 1 | I55: =VLOOKUP(Table3311[[#This Row],[Part Number]],'2026 Pricing Rework'!$B$32:$F$740,5,FALSE) -> 87.14 | J55: =VLOOKUP(Table3311[[#This Row],[Part Number]],'2025 Pricing Rework'!$B$31:$F$737,4,FALSE) -> 87.31 | K55: =Table3311[[#This Row],[Qty]]*Table3311[[#This Row],[Your Price]] -> 0
D56: 2811542080 | E56: 50 / 2" | F56: 1 1/2" | G56: 1 | I56: =VLOOKUP(Table3311[[#This Row],[Part Number]],'2026 Pricing Rework'!$B$32:$F$740,5,FALSE) -> 102.51 | J56: =VLOOKUP(Table3311[[#This Row],[Part Number]],'2025 Pricing Rework'!$B$31:$F$737,4,FALSE) -> 102.7 | K56: =Table3311[[#This Row],[Qty]]*Table3311[[#This Row],[Your Price]] -> 0
D57: 2811552080 | E57: 50 / 2" | F57: 2" | G57: 1 | I57: =VLOOKUP(Table3311[[#This Row],[Part Number]],'2026 Pricing Rework'!$B$32:$F$740,5,FALSE) -> 111.84 | J57: =VLOOKUP(Table3311[[#This Row],[Part Number]],'2025 Pricing Rework'!$B$31:$F$737,4,FALSE) -> 112.05 | K57: =Table3311[[#This Row],[Qty]]*Table3311[[#This Row],[Your Price]] -> 0
D58: 2811652090 | E58: 63 / 2 1/2" | F58: 2" | G58: 1 | I58: =VLOOKUP(Table3311[[#This Row],[Part Number]],'2026 Pricing Rework'!$B$32:$F$740,5,FALSE) -> 203.07 | J58: =VLOOKUP(Table3311[[#This Row],[Part Number]],'2025 Pricing Rework'!$B$31:$F$737,4,FALSE) -> 203.46 | K58: =Table3311[[#This Row],[Qty]]*Table3311[[#This Row],[Your Price]] -> 0
D59: 2811662080 | E59: 63 / 2 1/2" | F59: 2 1/2" | G59: 2 | I59: =VLOOKUP(Table3311[[#This Row],[Part Number]],'2026 Pricing Rework'!$B$32:$F$740,5,FALSE) -> #N/A | J59: =VLOOKUP(Table3311[[#This Row],[Part Number]],'2025 Pricing Rework'!$B$31:$F$737,4,FALSE) -> #N/A | K59: =Table3311[[#This Row],[Qty]]*Table3311[[#This Row],[Your Price]] -> #N/A
D60: 2811762090 | E60: 80 / 3" | F60: 2 1/2" | G60: 1 | I60: =VLOOKUP(Table3311[[#This Row],[Part Number]],'2026 Pricing Rework'!$B$32:$F$740,5,FALSE) -> 253.65 | J60: =VLOOKUP(Table3311[[#This Row],[Part Number]],'2025 Pricing Rework'!$B$31:$F$737,4,FALSE) -> 254.13 | K60: =Table3311[[#This Row],[Qty]]*Table3311[[#This Row],[Your Price]] -> 0
D61: 2811772090 | E61: 80 / 3" | F61: 3" | G61: 1 | I61: =VLOOKUP(Table3311[[#This Row],[Part Number]],'2026 Pricing Rework'!$B$32:$F$740,5,FALSE) -> 257.86 | J61: =VLOOKUP(Table3311[[#This Row],[Part Number]],'2025 Pricing Rework'!$B$31:$F$737,4,FALSE) -> 258.36 | K61: =Table3311[[#This Row],[Qty]]*Table3311[[#This Row],[Your Price]] -> 0

Sheet HANGING MATERIAL
D1: Hanging Material | H1: Enter Qty Here
C2: Sub Category | D2: Part Number | E2: Size mm/in | F2: Additonal Info | G2: Lot Size | H2: Qty | I2: Your Price | J2: List Price | K2: Total
B3: CLIPS, BRACKETS, ADAPTERS, AND SUPPORTS | C3: Pipe Clips | E3: AIRnet Φ mm / inch | F3: Thread
D4: 2811112220 | E4: 20 / ¾" | F4: 1/4" UNC | G4: 20 | I4: =VLOOKUP(Table35[[#This Row],[Part Number]],'2026 Pricing Rework'!$B$32:$F$740,5,FALSE) -> 52.95 | J4: =VLOOKUP(Table35[[#This Row],[Part Number]],'2025 Pricing Rework'!$B$31:$F$737,4,FALSE) -> 53.04 | K4: =Table35[[#This Row],[Your Price]]*Table35[[#This Row],[Qty]] -> 0
D5: 2811212220 | E5: 25 / 1" | F5: 1/4" UNC | G5: 20 | I5: =VLOOKUP(Table35[[#This Row],[Part Number]],'2026 Pricing Rework'!$B$32:$F$740,5,FALSE) -> 56.53 | J5: =VLOOKUP(Table35[[#This Row],[Part Number]],'2025 Pricing Rework'!$B$31:$F$737,4,FALSE) -> 56.64 | K5: =Table35[[#This Row],[Your Price]]*Table35[[#This Row],[Qty]] -> 0
D6: 2811412220 | E6: 40 / 1½" | F6: 1/4" UNC | G6: 20 | I6: =VLOOKUP(Table35[[#This Row],[Part Number]],'2026 Pricing Rework'!$B$32:$F$740,5,FALSE) -> 71.27 | J6: =VLOOKUP(Table35[[#This Row],[Part Number]],'2025 Pricing Rework'!$B$31:$F$737,4,FALSE) -> 71.4 | K6: =Table35[[#This Row],[Your Price]]*Table35[[#This Row],[Qty]] -> 0
D7: 2811512220 | E7: 50 / 2" | F7: 1/4" UNC | G7: 20 | I7: =VLOOKUP(Table35[[#This Row],[Part Number]],'2026 Pricing Rework'!$B$32:$F$740,5,FALSE) -> 78 | J7: =VLOOKUP(Table35[[#This Row],[Part Number]],'2025 Pricing Rework'!$B$31:$F$737,4,FALSE) -> 78.14 | K7: =Table35[[#This Row],[Your Price]]*Table35[[#This Row],[Qty]] -> 0
D8: 2811612220 | E8: 63 / 2½" | F8: 5/16" UNC | G8: 20 | I8: =VLOOKUP(Table35[[#This Row],[Part Number]],'2026 Pricing Rework'!$B$32:$F$740,5,FALSE) -> 168.4 | J8: =VLOOKUP(Table35[[#This Row],[Part Number]],'2025 Pricing Rework'!$B$31:$F$737,4,FALSE) -> 168.72 | K8: =Table35[[#This Row],[Your Price]]*Table35[[#This Row],[Qty]] -> 0
D9: 2811712220 | E9: 80 / 3" | F9: 5/16" UNC | G9: 20 | I9: =VLOOKUP(Table35[[#This Row],[Part Number]],'2026 Pricing Rework'!$B$32:$F$740,5,FALSE) -> 183.7 | J9: =VLOOKUP(Table35[[#This Row],[Part Number]],'2025 Pricing Rework'!$B$31:$F$737,4,FALSE) -> 184.05 | K9: =Table35[[#This Row],[Your Price]]*Table35[[#This Row],[Qty]] -> 0
D10: 1312101361 | E10: 100 / 4" | F10: 3/8" UNC | G10: 1 | I10: =VLOOKUP(Table35[[#This Row],[Part Number]],'2026 Pricing Rework'!$B$32:$F$740,5,FALSE) -> 28.19 | J10: =VLOOKUP(Table35[[#This Row],[Part Number]],'2025 Pricing Rework'!$B$31:$F$737,4,FALSE) -> 28.24 | K10: =Table35[[#This Row],[Your Price]]*Table35[[#This Row],[Qty]] -> 0
D11: 2810912210 | E11: 158 / 6" | F11: 3/8" UNC | G11: 10 | I11: =VLOOKUP(Table35[[#This Row],[Part Number]],'2026 Pricing Rework'!$B$32:$F$740,5,FALSE) -> 224.94 | J11: =VLOOKUP(Table35[[#This Row],[Part Number]],'2025 Pricing Rework'!$B$31:$F$737,4,FALSE) -> 225.37 | K11: =Table35[[#This Row],[Your Price]]*Table35[[#This Row],[Qty]] -> 0
C12: Pipe Clip Spacers | F12: Height (mm)
D13: 2811002710 | E13: 20-25 / 3/4"-1" | F13: 15 | G13: 10 | I13: =VLOOKUP(Table35[[#This Row],[Part Number]],'2026 Pricing Rework'!$B$32:$F$740,5,FALSE) -> 22.38 | J13: =VLOOKUP(Table35[[#This Row],[Part Number]],'2025 Pricing Rework'!$B$31:$F$737,4,FALSE) -> 22.42 | K13: =Table35[[#This Row],[Your Price]]*Table35[[#This Row],[Qty]] -> 0
D14: 2811012710 | E14: 40-50 / 1 1/2"- 2" | F14: 20 | G14: 10 | I14: =VLOOKUP(Table35[[#This Row],[Part Number]],'2026 Pricing Rework'!$B$32:$F$740,5,FALSE) -> 44.58 | J14: =VLOOKUP(Table35[[#This Row],[Part Number]],'2025 Pricing Rework'!$B$31:$F$737,4,FALSE) -> 44.67 | K14: =Table35[[#This Row],[Your Price]]*Table35[[#This Row],[Qty]] -> 0
D15: 2811022710 | E15: 63-80 / 2 1/2" - 3" | F15: 30 | G15: 10 | I15: =VLOOKUP(Table35[[#This Row],[Part Number]],'2026 Pricing Rework'!$B$32:$F$740,5,FALSE) -> 61.46 | J15: =VLOOKUP(Table35[[#This Row],[Part Number]],'2025 Pricing Rework'!$B$31:$F$737,4,FALSE) -> 61.57 | K15: =Table35[[#This Row],[Your Price]]*Table35[[#This Row],[Qty]] -> 0
D16: 2810032710 | E16: 100 / 4" | F16: 50 | G16: 10 | I16: =VLOOKUP(Table35[[#This Row],[Part Number]],'2026 Pricing Rework'!$B$32:$F$740,5,FALSE) -> 247.26 | J16: =VLOOKUP(Table35[[#This Row],[Part Number]],'2025 Pricing Rework'!$B$31:$F$737,4,FALSE) -> 247.73 | K16: =Table35[[#This Row],[Your Price]]*Table35[[#This Row],[Qty]] -> 0
C18: Adapter Bolts (to adapt 3/4"- 3" pipe clips to 3/8" all thread) | E18: Size | F18: Comment
D19: 2811017200 | E19: 1/4" UNC - 3/8" UNC | F19: Use with 3/4" - 2" Pipe Clips | G19: 1 | I19: =VLOOKUP(Table35[[#This Row],[Part Number]],'2026 Pricing Rework'!$B$32:$F$740,5,FALSE) -> 3.32 | J19: =VLOOKUP(Table35[[#This Row],[Part Number]],'2025 Pricing Rework'!$B$31:$F$737,4,FALSE) -> 3.32 | K19: =Table35[[#This Row],[Your Price]]*Table35[[#This Row],[Qty]] -> 0
D20: 2811027200 | E20: 5/16" UNC - 3/8" UNC | F20: Use with 2 1/2" & 3" Pipe Clips | G20: 1 | I20: =VLOOKUP(Table35[[#This Row],[Part Number]],'2026 Pricing Rework'!$B$32:$F$740,5,FALSE) -> 3.88 | J20: =VLOOKUP(Table35[[#This Row],[Part Number]],'2025 Pricing Rework'!$B$31:$F$737,4,FALSE) -> 3.88 | K20: =Table35[[#This Row],[Your Price]]*Table35[[#This Row],[Qty]] -> 0
D21: 2811037200 | E21: M10 - 3/8" UNC | F21: Use with 6" Pipe Clips | G21: 1 | I21: =VLOOKUP(D21,#REF!,5,FALSE) -> #REF! | J21: =VLOOKUP(Table35[[#This Row],[Part Number]],'2025 Pricing Rework'!$B$31:$F$737,4,FALSE) -> #N/A | K21: =Table35[[#This Row],[Your Price]]*Table35[[#This Row],[Qty]] -> #REF!
B25: Hanging from Beams | C25: Screw Beam Clamps | E25: Size | F25: Comment
D26: 1310074482 | E26: 1/4" | F26: Use with 3/4" - 2" Pipe Clips | G26: 1 | I26: =VLOOKUP(Table35[[#This Row],[Part Number]],'2026 Pricing Rework'!$B$32:$F$740,5,FALSE) -> 5.31 | J26: =VLOOKUP(Table35[[#This Row],[Part Number]],'2025 Pricing Rework'!$B$31:$F$737,4,FALSE) -> 5.32 | K26: =Table35[[#This Row],[Your Price]]*Table35[[#This Row],[Qty]] -> 0
D27: AIRNET3610 | G27: 1 | I27: =VLOOKUP(Table35[[#This Row],[Part Number]],'2026 Pricing Rework'!$B$32:$F$740,5,FALSE) -> 2.92 | J27: =VLOOKUP(Table35[[#This Row],[Part Number]],'2025 Pricing Rework'!$B$31:$F$737,4,FALSE) -> 102.05 | K27: =Table35[[#This Row],[Your Price]]*Table35[[#This Row],[Qty]] -> 0
D28: 1310074483 | E28: 5/16" | F28: Use with 2 1/2" - 3" Pipe Clips | G28: 1 | I28: =VLOOKUP(Table35[[#This Row],[Part Number]],'2026 Pricing Rework'!$B$32:$F$740,5,FALSE) -> 7.71 | J28: =VLOOKUP(Table35[[#This Row],[Part Number]],'2025 Pricing Rework'!$B$31:$F$737,4,FALSE) -> 7.72 | K28: =Table35[[#This Row],[Your Price]]*Table35[[#This Row],[Qty]] -> 0
D29: 2810003610 | E29: 3/8" | F29: Use with 4 & 6" Pipe Clips | G29: 10 | I29: =VLOOKUP(Table35[[#This Row],[Part Number]],'2025 Pricing Rework'!$B$31:$F$737,5,FALSE) -> #N/A | J29: =VLOOKUP(Table35[[#This Row],[Part Number]],'2025 Pricing Rework'!$B$31:$F$737,4,FALSE) -> #N/A | K29: =Table35[[#This Row],[Your Price]]*Table35[[#This Row],[Qty]] -> #N/A
C33: All Thread / Threaded Rod | E33: Size | F33: Comment
D34: 1310074250 | E34: 1/4" | F34: Use with 3/4" - 2" Pipe Clips | G34: 1 | I34: =VLOOKUP(Table35[[#This Row],[Part Number]],'2026 Pricing Rework'!$B$32:$F$740,5,FALSE) -> 2.85 | J34: =VLOOKUP(Table35[[#This Row],[Part Number]],'2025 Pricing Rework'!$B$31:$F$737,4,FALSE) -> 2.85 | K34: =Table35[[#This Row],[Your Price]]*Table35[[#This Row],[Qty]] -> 0
D35: 1310074413 | E35: 5/16" | F35: Use with 2 1/2" & 3" Pipe Clips | G35: 1 | I35: =VLOOKUP(Table35[[#This Row],[Part Number]],'2026 Pricing Rework'!$B$32:$F$740,5,FALSE) -> 7.15 | J35: =VLOOKUP(Table35[[#This Row],[Part Number]],'2025 Pricing Rework'!$B$31:$F$737,4,FALSE) -> 7.16 | K35: =Table35[[#This Row],[Your Price]]*Table35[[#This Row],[Qty]] -> 0
D36: 1310073618 | E36: 3/8" | F36: Use with 4 & 6" Pipe Clips | G36: 1 | I36: =VLOOKUP(Table35[[#This Row],[Part Number]],'2026 Pricing Rework'!$B$32:$F$740,5,FALSE) -> 9.49 | J36: =VLOOKUP(Table35[[#This Row],[Part Number]],'2025 Pricing Rework'!$B$31:$F$737,4,FALSE) -> 9.51 | K36: =Table35[[#This Row],[Your Price]]*Table35[[#This Row],[Qty]] -> 0
B40: Mounting Options | C40: Strut Channel - (C Profile) | E40: Length
D41: 2810003005 | E41: 6' | F41: Use with wall bracket (below) | G41: 1 | I41: =VLOOKUP(Table35[[#This Row],[Part Number]],#REF!,11,FALSE) -> #REF! | K41: =Table35[[#This Row],[Your Price]]*Table35[[#This Row],[Qty]] -> #REF!
C46: Wall Bracket -(used to attach Strut Channel to wall)
D48: 2810003105 | F48: Attach strut channel (above) to wall | G48: 1 | I48: =VLOOKUP(Table35[[#This Row],[Part Number]],#REF!,11,FALSE) -> #REF! | K48: =Table35[[#This Row],[Your Price]]*Table35[[#This Row],[Qty]] -> #REF!
C55: Cantilever Arm | E55: Length
D56: 2810013200 | E56: 21" | G56: 1 | I56: =VLOOKUP(Table35[[#This Row],[Part Number]],#REF!,11,FALSE) -> #REF! | J56: =VLOOKUP(Table35[[#This Row],[Part Number]],'2025 Pricing Rework'!$B$31:$F$737,4,FALSE) -> 35.45 | K56: =Table35[[#This Row],[Your Price]]*Table35[[#This Row],[Qty]] -> #REF!
D57: 2810003205 | E57: 12" | G57: 5 | I57: =VLOOKUP(Table35[[#This Row],[Part Number]],'2026 Pricing Rework'!$B$32:$F$740,5,FALSE) -> 127.02 | J57: =VLOOKUP(Table35[[#This Row],[Part Number]],'2025 Pricing Rework'!$B$31:$F$737,4,FALSE) -> 127.26 | K57: =Table35[[#This Row],[Your Price]]*Table35[[#This Row],[Qty]] -> 0
B62: Gripple Hangers | C62: Loop Hangers | E62: Length
C63: Ideal Use - Hanging from beams | D63: 2810023805 | E63: 5' length | G63: 5 | I63: =VLOOKUP(Table35[[#This Row],[Part Number]],'2025 Pricing Rework'!$B$31:$F$737,5,FALSE) -> #N/A | J63: =VLOOKUP(Table35[[#This Row],[Part Number]],'2025 Pricing Rework'!$B$31:$F$737,4,FALSE) -> #N/A | K63: =Table35[[#This Row],[Your Price]]*Table35[[#This Row],[Qty]] -> #N/A
C64: Ideal Use - Hanging from beams | D64: 2810023810 | E64: 5' length | G64: 10 | I64: =VLOOKUP(Table35[[#This Row],[Part Number]],'2026 Pricing Rework'!$B$32:$F$740,5,FALSE) -> 110.15 | J64: =VLOOKUP(Table35[[#This Row],[Part Number]],'2025 Pricing Rework'!$B$31:$F$737,4,FALSE) -> 110.36 | K64: =Table35[[#This Row],[Your Price]]*Table35[[#This Row],[Qty]] -> 0
D65: 2810033805 | E65: 15' length | G65: 5 | I65: =VLOOKUP(Table35[[#This Row],[Part Number]],'2026 Pricing Rework'!$B$32:$F$740,5,FALSE) -> #N/A | J65: =VLOOKUP(Table35[[#This Row],[Part Number]],'2025 Pricing Rework'!$B$31:$F$737,4,FALSE) -> #N/A | K65: =Table35[[#This Row],[Your Price]]*Table35[[#This Row],[Qty]] -> #N/A
D66: 2810033810 | E66: 15' length | G66: 10 | I66: =VLOOKUP(Table35[[#This Row],[Part Number]],'2026 Pricing Rework'!$B$32:$F$740,5,FALSE) -> 145.56 | J66: =VLOOKUP(Table35[[#This Row],[Part Number]],'2025 Pricing Rework'!$B$31:$F$737,4,FALSE) -> 145.84 | K66: =Table35[[#This Row],[Your Price]]*Table35[[#This Row],[Qty]] -> 0
C71: 1/4" Stud Hangers | E71: Length
C72: Ideal Use - with pipe clip 3/4" -2" | D72: 2810043805 | E72: 5' length | G72: 5 | I72: =VLOOKUP(Table35[[#This Row],[Part Number]],'2025 Pricing Rework'!$B$31:$F$737,5,FALSE) -> #N/A | J72: =VLOOKUP(Table35[[#This Row],[Part Number]],'2025 Pricing Rework'!$B$31:$F$737,4,FALSE) -> #N/A | K72: =Table35[[#This Row],[Your Price]]*Table35[[#This Row],[Qty]] -> #N/A
C73: Ideal Use - with pipe clip 3/4" -2" | D73: 2810043810 | E73: 5' length | G73: 10 | I73: =VLOOKUP(Table35[[#This Row],[Part Number]],'2026 Pricing Rework'!$B$32:$F$740,5,FALSE) -> 107.06 | J73: =VLOOKUP(Table35[[#This Row],[Part Number]],'2025 Pricing Rework'!$B$31:$F$737,4,FALSE) -> 107.26 | K73: =Table35[[#This Row],[Your Price]]*Table35[[#This Row],[Qty]] -> 0
D74: 2810053805 | E74: 15' length | G74: 5 | I74: =VLOOKUP(Table35[[#This Row],[Part Number]],'2026 Pricing Rework'!$B$32:$F$740,5,FALSE) -> #N/A | J74: =VLOOKUP(Table35[[#This Row],[Part Number]],'2025 Pricing Rework'!$B$31:$F$737,4,FALSE) -> #N/A | K74: =Table35[[#This Row],[Your Price]]*Table35[[#This Row],[Qty]] -> #N/A
D75: 2810053810 | E75: 15' length | G75: 10 | I75: =VLOOKUP(Table35[[#This Row],[Part Number]],'2026 Pricing Rework'!$B$32:$F$740,5,FALSE) -> 157.9 | J75: =VLOOKUP(Table35[[#This Row],[Part Number]],'2025 Pricing Rework'!$B$31:$F$737,4,FALSE) -> 158.19 | K75: =Table35[[#This Row],[Your Price]]*Table35[[#This Row],[Qty]] -> 0
C80: 90° Eyelet Hangers | E80: Length
C81: Ideal Use - with powder actuated devices | D81: 2810063805 | E81: 5' length | G81: 5 | I81: =VLOOKUP(Table35[[#This Row],[Part Number]],'2025 Pricing Rework'!$B$31:$F$737,5,FALSE) -> #N/A | J81: =VLOOKUP(Table35[[#This Row],[Part Number]],'2025 Pricing Rework'!$B$31:$F$737,4,FALSE) -> #N/A | K81: =Table35[[#This Row],[Your Price]]*Table35[[#This Row],[Qty]] -> #N/A
C82: Ideal Use - with powder actuated devices | D82: 2810063810 | E82: 5' length | G82: 10 | I82: =VLOOKUP(Table35[[#This Row],[Part Number]],'2026 Pricing Rework'!$B$32:$F$740,5,FALSE) -> 111.98 | J82: =VLOOKUP(Table35[[#This Row],[Part Number]],'2025 Pricing Rework'!$B$31:$F$737,4,FALSE) -> 112.19 | K82: =Table35[[#This Row],[Your Price]]*Table35[[#This Row],[Qty]] -> 0
D83: 2810073805 | E83: 15' length | G83: 5 | I83: =VLOOKUP(Table35[[#This Row],[Part Number]],'2026 Pricing Rework'!$B$32:$F$740,5,FALSE) -> #N/A | J83: =VLOOKUP(Table35[[#This Row],[Part Number]],'2025 Pricing Rework'!$B$31:$F$737,4,FALSE) -> #N/A | K83: =Table35[[#This Row],[Your Price]]*Table35[[#This Row],[Qty]] -> #N/A
D84: 2810073810 | E84: 15' length | G84: 10 | I84: =VLOOKUP(Table35[[#This Row],[Part Number]],'2026 Pricing Rework'!$B$32:$F$740,5,FALSE) -> 143.58 | J84: =VLOOKUP(Table35[[#This Row],[Part Number]],'2025 Pricing Rework'!$B$31:$F$737,4,FALSE) -> 143.86 | K84: =Table35[[#This Row],[Your Price]]*Table35[[#This Row],[Qty]] -> 0

Sheet TOOLS
D1: Tools | H1: Enter Qty Here
C2: Sub Category | D2: Part Number | E2: Size mm / in | F2: Additonal Info | G2: Lot Size | H2: Qty | I2: Your Price | J2: Total
B3: Tools | C3: ***Pipe Depth Gauge***
D4: 2811022990 | F4: (Sizes 3/4" - 6") | G4: 1 | I4: =VLOOKUP(Table3514[[#This Row],[Part Number]],'2026 Pricing Rework'!$B$9:$F$740,5,FALSE) -> 4 | J4: =Table3514[[#This Row],[Your Price]]*Table3514[[#This Row],[Qty]] -> 0
F5: ***A must for any installation***
C8: Pipe Deburrer
D9: AIRNET0041 | E9: 3/4" & 1" | F9: PF Series - Metal | I9: =VLOOKUP(Table3514[[#This Row],[Part Number]],'2026 Pricing Rework'!$B$9:$F$740,5,FALSE) -> 93 | J9: =Table3514[[#This Row],[Your Price]]*Table3514[[#This Row],[Qty]] -> 0
D10: 2810014100 | E10: 3/4" - 2" | F10: PF Series - Metal | G10: 1 | I10: =VLOOKUP(Table3514[[#This Row],[Part Number]],'2026 Pricing Rework'!$B$9:$F$740,5,FALSE) -> 175.81 | J10: =Table3514[[#This Row],[Your Price]]*Table3514[[#This Row],[Qty]] -> 0
D11: 2810084100 | E11: 2 1/2" - 3" | F11: 2 handle deburrer | G11: 1 | I11: =VLOOKUP(Table3514[[#This Row],[Part Number]],'2026 Pricing Rework'!$B$9:$F$740,5,FALSE) -> 920.99 | J11: =Table3514[[#This Row],[Your Price]]*Table3514[[#This Row],[Qty]] -> 0
C14: Pen Style Deburrer | D14: 2810004200 | E14: 3/4" - 4" | F14: Used to debur quick drop holes | G14: 1 | I14: =VLOOKUP(Table3514[[#This Row],[Part Number]],'2026 Pricing Rework'!$B$9:$F$740,5,FALSE) -> 29.73 | J14: =Table3514[[#This Row],[Your Price]]*Table3514[[#This Row],[Qty]] -> 0
D15: 2810064100 | E15: 2" - 6" | F15: Used to debur quick drop holes & Large Pipe | G15: 1 | I15: =VLOOKUP(Table3514[[#This Row],[Part Number]],'2026 Pricing Rework'!$B$9:$F$740,5,FALSE) -> 34.32 | J15: =Table3514[[#This Row],[Your Price]]*Table3514[[#This Row],[Qty]] -> 0
C17: Hole Saw | F17: Comment
D18: 2810004300 | E18: 19mm / 3/4" | F18: Classic Series 1" drops & Threaded 3/4" drops | G18: 1 | I18: =VLOOKUP(D18,#REF!,5,FALSE) -> #REF! | J18: 0
D19: 2810014300 | E19: 14mm / 9/16" | F19: PF Series 1" | G19: 1 | I19: =VLOOKUP(Table3514[[#This Row],[Part Number]],'2026 Pricing Rework'!$B$9:$F$740,5,FALSE) -> 7.12 | J19: =Table3514[[#This Row],[Your Price]]*Table3514[[#This Row],[Qty]] -> 0
D20: 2810024300 | E20: 24mm / 1" | F20: PF Series 1 1/2" - 3" | G20: 1 | I20: =VLOOKUP(Table3514[[#This Row],[Part Number]],'2026 Pricing Rework'!$B$9:$F$740,5,FALSE) -> 5.93 | J20: =Table3514[[#This Row],[Your Price]]*Table3514[[#This Row],[Qty]] -> 0
D21: 2810034300 | E21: 48mm / 1.9" | F21: 4" & 6" Header Qucik Drops | G21: 1 | I21: =VLOOKUP(Table3514[[#This Row],[Part Number]],'2026 Pricing Rework'!$B$9:$F$740,5,FALSE) -> 9.69 | J21: =Table3514[[#This Row],[Your Price]]*Table3514[[#This Row],[Qty]] -> 0
C23: Drill Arbor for Hole Saw
D24: 2810004400 | E24: 1" - 3" | G24: 1 | I24: =VLOOKUP(Table3514[[#This Row],[Part Number]],'2026 Pricing Rework'!$B$9:$F$740,5,FALSE) -> 9.34 | J24: =Table3514[[#This Row],[Your Price]]*Table3514[[#This Row],[Qty]] -> 0
C26: L Keys
D27: 2811014900 | G27: 1 | I27: =VLOOKUP(Table3514[[#This Row],[Part Number]],'2026 Pricing Rework'!$B$9:$F$740,5,FALSE) -> 1.18 | J27: =Table3514[[#This Row],[Your Price]]*Table3514[[#This Row],[Qty]] -> 0
C30: Pipe Cutters
D31: 2810004000 | E31: 3/4" - 1 1/2" | G31: 1 | I31: =VLOOKUP(Table3514[[#This Row],[Part Number]],'2026 Pricing Rework'!$B$9:$F$740,5,FALSE) -> 147.8 | J31: =Table3514[[#This Row],[Your Price]]*Table3514[[#This Row],[Qty]] -> 0
D32: 2810014000 | E32: 2"- 3" | G32: 1 | I32: =VLOOKUP(Table3514[[#This Row],[Part Number]],'2026 Pricing Rework'!$B$9:$F$740,5,FALSE) -> 295.64 | J32: =Table3514[[#This Row],[Your Price]]*Table3514[[#This Row],[Qty]] -> 0
D33: 2810024000 | E33: 4"- 6" | G33: 1 | I33: =VLOOKUP(Table3514[[#This Row],[Part Number]],'2026 Pricing Rework'!$B$9:$F$740,5,FALSE) -> 412.2 | J33: =Table3514[[#This Row],[Your Price]]*Table3514[[#This Row],[Qty]] -> 0
D34: 2810064080 | E34: 110V Electric | F34: All sizes - 3/4" - 6" | G34: 1 | I34: =VLOOKUP(Table3514[[#This Row],[Part Number]],'2026 Pricing Rework'!$B$9:$F$740,5,FALSE) -> 1102.7 | J34: =Table3514[[#This Row],[Your Price]]*Table3514[[#This Row],[Qty]] -> 0
C36: Slide Fluid (water based)
D37: 2810014800 | F37: 1/2 liter bottle | G37: 1 | I37: =VLOOKUP(Table3514[[#This Row],[Part Number]],'2026 Pricing Rework'!$B$9:$F$740,5,FALSE) -> 18.95 | J37: =Table3514[[#This Row],[Your Price]]*Table3514[[#This Row],[Qty]] -> 0
D38: 1312100945 | F38: 4 liter bottles (Qty - 4) | G38: 4 | I38: =VLOOKUP(Table3514[[#This Row],[Part Number]],'2025 Pricing Rework'!$B$9:$F$737,5,FALSE) -> 238.104 | J38: 0
C42: Spanner Wrenches - PF Series | E42: 3/4"-2" - Push to Connect - ***Do not tighten fittings during assembly( 3/4" thru 2")***
D43: 2811102800 | E43: 20 / ¾" | F43: Push to connect (only use for disassembly) | G43: 1 | I43: =VLOOKUP(Table3514[[#This Row],[Part Number]],'2026 Pricing Rework'!$B$9:$F$740,5,FALSE) -> 4.5 | J43: =Table3514[[#This Row],[Your Price]]*Table3514[[#This Row],[Qty]] -> 0
D44: 2811202800 | E44: 25 / 1" | F44: Push to connect (only use for disassembly) | G44: 1 | I44: =VLOOKUP(Table3514[[#This Row],[Part Number]],'2026 Pricing Rework'!$B$9:$F$740,5,FALSE) -> 4.59 | J44: =Table3514[[#This Row],[Your Price]]*Table3514[[#This Row],[Qty]] -> 0
D45: 2811402800 | E45: 40 / 1½" | F45: Push to connect (only use for disassembly) | G45: 1 | I45: =VLOOKUP(Table3514[[#This Row],[Part Number]],'2026 Pricing Rework'!$B$9:$F$740,5,FALSE) -> 49.26 | J45: =Table3514[[#This Row],[Your Price]]*Table3514[[#This Row],[Qty]] -> 0
D46: 2811502800 | E46: 50 / 2" | F46: Push to connect (only use for disassembly) | G46: 1 | I46: =VLOOKUP(Table3514[[#This Row],[Part Number]],'2026 Pricing Rework'!$B$9:$F$740,5,FALSE) -> 52.95 | J46: =Table3514[[#This Row],[Your Price]]*Table3514[[#This Row],[Qty]] -> 0
D47: 2811602890 | E47: 63 / 2½" | F47: Use on Nut of Fitting (PM Series) | G47: 1 | I47: =VLOOKUP(Table3514[[#This Row],[Part Number]],'2026 Pricing Rework'!$B$9:$F$740,5,FALSE) -> 63.77 | J47: =Table3514[[#This Row],[Your Price]]*Table3514[[#This Row],[Qty]] -> 0
D48: 2811662890 | E48: 63 / 2½" | F48: Use on Body of Fitting (PM Series) | G48: 1 | I48: =VLOOKUP(Table3514[[#This Row],[Part Number]],'2026 Pricing Rework'!$B$9:$F$740,5,FALSE) -> 69.37 | J48: =Table3514[[#This Row],[Your Price]]*Table3514[[#This Row],[Qty]] -> 0
D49: 2811702890 | E49: 80 / 3" | F49: Use on Nut of Fitting (PM Series) | G49: 1 | I49: =VLOOKUP(Table3514[[#This Row],[Part Number]],'2026 Pricing Rework'!$B$9:$F$740,5,FALSE) -> 63.91 | J49: =Table3514[[#This Row],[Your Price]]*Table3514[[#This Row],[Qty]] -> 0
D50: 2811772890 | E50: 80 / 3" 63mm / 2.5" - Adapter Union | F50: Use on Body of 3" Fitting (PM Series) & 2 1/2" NPT Union Adapter Fitting. | G50: 1 | I50: =VLOOKUP(Table3514[[#This Row],[Part Number]],'2026 Pricing Rework'!$B$9:$F$740,5,FALSE) -> 70.15 | J50: =Table3514[[#This Row],[Your Price]]*Table3514[[#This Row],[Qty]] -> 0
D51: 2811772891 | E51: 80 / 3" | F51: 3" NPT Adapter Kit | G51: 1 | I51: =VLOOKUP(Table3514[[#This Row],[Part Number]],'2026 Pricing Rework'!$B$9:$F$740,5,FALSE) -> 65.51 | J51: =Table3514[[#This Row],[Your Price]]*Table3514[[#This Row],[Qty]] -> 0
C53: Strap Wrench
D54: 2810802800 | E54: 40 / 1½" - 80 / 3" | F54: Optional / Alternative | G54: 1 | I54: =VLOOKUP(Table3514[[#This Row],[Part Number]],'2026 Pricing Rework'!$B$9:$F$740,5,FALSE) -> 76.22 | J54: =Table3514[[#This Row],[Your Price]]*Table3514[[#This Row],[Qty]] -> 0
C56: Hex Head Sockets
D57: 4027132308 | E57: 100 / 4" | F57: Hex Drive Socket - 8mm | G57: 1 | I57: =VLOOKUP(Table3514[[#This Row],[Part Number]],'2026 Pricing Rework'!$B$9:$F$740,5,FALSE) -> 124.99 | J57: =Table3514[[#This Row],[Your Price]]*Table3514[[#This Row],[Qty]] -> 0
D58: 462360123 | E58: 158 / 6" | F58: Hex Drive Socket - 10mm | G58: 1 | I58: =VLOOKUP(Table3514[[#This Row],[Part Number]],'2026 Pricing Rework'!$B$9:$F$740,5,FALSE) -> 185.21 | J58: =Table3514[[#This Row],[Your Price]]*Table3514[[#This Row],[Qty]] -> 0
C60: Tool Box
D61: 2811004500 | E61: 3/4" - 2" | F61: PF Series | G61: 1 | I61: =VLOOKUP(Table3514[[#This Row],[Part Number]],'2026 Pricing Rework'!$B$9:$F$740,5,FALSE) -> 674.92 | J61: =Table3514[[#This Row],[Your Price]]*Table3514[[#This Row],[Qty]] -> 0
D62: 2811024500 | E62: 2 1/2" - 6" | F62: PM & Large Series | G62: 1 | I62: =VLOOKUP(Table3514[[#This Row],[Part Number]],'2026 Pricing Rework'!$B$9:$F$740,5,FALSE) -> 1344.48 | J62: =Table3514[[#This Row],[Your Price]]*Table3514[[#This Row],[Qty]] -> 0
C68: Torque Wrench
D69: 462101105 | F69: Torque Head only | G69: 1 | I69: =VLOOKUP(Table3514[[#This Row],[Part Number]],#REF!,11,FALSE) -> #REF! | J69: =Table3514[[#This Row],[Your Price]]*Table3514[[#This Row],[Qty]] -> #REF!
D70: 462709421 | F70: Wrench (with head) | G70: 1 | I70: =VLOOKUP(Table3514[[#This Row],[Part Number]],#REF!,11,FALSE) -> #REF! | J70: =Table3514[[#This Row],[Your Price]]*Table3514[[#This Row],[Qty]] -> #REF!

Sheet ACCESSORIES, HOSES
D1: Accessories & Hoses | H1: Enter Qty Here
B2: Accessories | C2: Sub Category | D2: Part Number | E2: Size mm / in | F2: Additonal Info | G2: Lot Size | H2: Qty | I2: Your Price | J2: List Price | K2: Total
B3: Accessories | C3: FRL's - Filter Regulators Lubricators | F3: Description
D4: 2813920004 | E4: 3/4" | F4: Pressure Regulator | G4: 1 | I4: =VLOOKUP(Table337[[#This Row],[Part Number]],'2026 Pricing Rework'!$B$32:$F$740,5,FALSE) -> 197.69 | J4: =VLOOKUP(Table337[[#This Row],[Part Number]],'2025 Pricing Rework'!$B$31:$F$737,4,FALSE) -> 198.07 | K4: =Table337[[#This Row],[Your Price]]*Table337[[#This Row],[Qty]] -> 0
D5: 2813920006 | E5: 1" | F5: Pressure Regulator | G5: 1 | I5: =VLOOKUP(Table337[[#This Row],[Part Number]],'2026 Pricing Rework'!$B$32:$F$740,5,FALSE) -> 199.61 | J5: =VLOOKUP(Table337[[#This Row],[Part Number]],'2025 Pricing Rework'!$B$31:$F$737,4,FALSE) -> 199.99 | K5: =Table337[[#This Row],[Your Price]]*Table337[[#This Row],[Qty]] -> 0
D6: 2813920018 | E6: 3/4" | F6: Filter Regulator | G6: 1 | I6: =VLOOKUP(Table337[[#This Row],[Part Number]],'2026 Pricing Rework'!$B$32:$F$740,5,FALSE) -> 188.33 | J6: =VLOOKUP(Table337[[#This Row],[Part Number]],'2025 Pricing Rework'!$B$31:$F$737,4,FALSE) -> 188.68 | K6: =Table337[[#This Row],[Your Price]]*Table337[[#This Row],[Qty]] -> 0
