Workbook

Sheet Parts List
A1: 2811100001 | B1: Aluminum Pipe (length 18.7 ft) | C1: 35.62
A2: 2811200001 | B2: Aluminum Pipe (length 18.7 ft) | C2: 54.78
A3: 2811400001 | B3: Aluminum Pipe (length 18.7 ft) | C3: 81.54
A4: 2811500001 | B4: Aluminum Pipe (length 18.7 ft) | C4: 106.24
A5: 2810660001 | B5: Aluminum Pipe (length 18.7 ft) | C5: 129.92
A6: 2810770001 | B6: Aluminum Pipe (length 18.7 ft) | C6: 182.25
A7: 2810880000 | B7: Aluminum Pipe (length 18.7 ft) | C7: 187.91
A8: 2810900000 | B8: Aluminum Pipe (length 18.7 ft) | C8: 434.17
A9: 2811106101 | B9: Aluminum Pipe Nitrogen | C9: 35.62
A10: 2811206101 | B10: Aluminum Pipe Nitrogen | C10: 54.78
A11: 2810100105 | B11: S-Bend (package of 5) | C11: 40.65
A12: 2810200105 | B12: S-Bend (package of 5) | C12: 50.29
... A147: 2810915400 | B147: Flange (ANSI) | C147: 155.99
A148: 0650010016 | B148: Flange Accessories (Flat Gasket) | C148: 18.12
A149: 0650100127 | B149: Flange Accessories (Flat Gasket) | C149: 22.35
A150: 0650010006 | B150: Flange Accessories (Flat Gasket) | C150: 21.92
A151: 2810806400 | B151: Flange Support | C151: 19.43
A152: 2810906400 | B152: Flange Support | C152: 28.99
A153: 2811102480 | B153: Wall Mounted Manifold | C153: 29.29
A154: 2811202480 | B154: Wall Mounted Manifold | C154: 30.8
A155: 2811002680 | B155: Wall Mounted Manifold (NPT Connection) | C155: 27.75
A156: 2811102680 | B156: Wall Mounted Manifold (NPT Connection) | C156: 29.29
A158: 2811100112 | B158: Spare Parts Fittings (internal parts / Push to Fit Series) | C158: 68.43
A159: 2811200112 | B159: Spare Parts Fittings (internal parts / Push to Fit Series) | C159: 29.71
A160: 2811400112 | B160: Spare Parts Fittings (internal parts / Push to Fit Series) | C160: 70.07
A161: 2811500112 | B161: Spare Parts Fittings (internal parts / Push to Fit Series) | C161: 90.87
A162: 2810606005 | B162: Spare Parts Fittings (internal parts) | C162: 43.09
A163: 2810706005 | B163: Spare Parts Fittings (internal parts) | C163: 78.15
A164: 2810106510 | B164: Spare Parts (o-rings) | C164: 10.99
A165: 2810206510 | B165: Spare Parts (o-rings) | C165: 14.32
... A304: 2811014900 | B304: L Key for Quick Drop (PF Series) | C304: 1.46

Sheet MENU
A4: 25
B7: Straight Connections, Elbows, Tees, & End Caps
B9: Straight Connections, Elbows, Tees, & End Caps
B11: Reducing Connections
B17: Adaptor Unions, Adaptor Kits & Threaded Connectors
B19: Hanging Material
B21: Tools
B23: Accessories
B25: Spare Parts

Sheet BOM
H3: =SUM(I6:I211) -> 0 | M3: 1 | N3: 2 | O3: 3 | P3: 4 | Q3: 5 | R3: 6 | S3: 7 | T3: 8 | U3: 9 | V3: 10
L4: # | M4: Count | N4: Description | P4: Qty ordered | Q4: Price | R4: Total | S4: P/N | T4: Size | U4: Additional Info | V4: Lot
B5: ALL QUANTITY CHANGES MUST BE MADE ON PRODUCT PAGES | U5: Reduced Size / Other info
B6: =IF(ISERROR(VLOOKUP(L6,$M$6:$V$612,7,0)),"",(VLOOKUP(L6,$M$6:$V612,7,0))) | C6: =IF(ISERROR(VLOOKUP(L6,$M$6:$V$612,2,0)),"",(VLOOKUP(L6,$M$6:$V$612,2,0))) | D6: =IF(ISERROR(VLOOKUP(L6,$M$6:$V$612,8,0)),"",(VLOOKUP(L6,$M$6:$V$612,8,0))) | E6: =IF(ISERROR(VLOOKUP(L6,$M$6:$V$612,9,FALSE)),"",(VLOOKUP(L6,$M$6:$V$612,9,0))) | F6: =IF(ISERROR(VLOOKUP(L6,$M$6:$V$612,10,0)),"",(VLOOKUP(L6,$M$6:$V$612,10,0))) | G6: =IF(ISERROR(VLOOKUP(L6,$M$6:$V$612,5,0)),"",(VLOOKUP(L6,$M$6:$V$612,5,0))) | H6: =IF(ISERROR(VLOOKUP(L6,$M$6:$V$612,4,0)),"",(VLOOKUP(L6,$M$6:$V$612,4,0))) | I6: =IF(ISERROR(VLOOKUP(L6,$M$6:$V$612,6,0)),"",(VLOOKUP(L6,$M$6:$V$612,6,0))) | L6: 1 | M6: =IF(P6>0,1,0) -> 0 | N6: =PIPE!$B$3 -> Pipe | P6: =PIPE!H4 -> 0 | Q6: =PIPE!I4 -> 63.67 | R6: =PIPE!K4 -> 0 | S6: =PIPE!D4 -> 2811100000 | T6: =PIPE!E4 -> 20 / ¾" | U6: =PIPE!F4 -> 18 ft 8 inch | V6: =PIPE!G4 -> 1
B7: =IF(ISERROR(VLOOKUP(L7,$M$6:$V$612,7,0)),"",(VLOOKUP(L7,$M$6:$V613,7,0))) | C7: =IF(ISERROR(VLOOKUP(L7,$M$6:$V$612,2,0)),"",(VLOOKUP(L7,$M$6:$V$612,2,0))) | D7: =IF(ISERROR(VLOOKUP(L7,$M$6:$V$612,8,0)),"",(VLOOKUP(L7,$M$6:$V$612,8,0))) | E7: =IF(ISERROR(VLOOKUP(L7,$M$6:$V$612,9,FALSE)),"",(VLOOKUP(L7,$M$6:$V$612,9,0))) | F7: =IF(ISERROR(VLOOKUP(L7,$M$6:$V$612,10,0)),"",(VLOOKUP(L7,$M$6:$V$612,10,0))) | G7: =IF(ISERROR(VLOOKUP(L7,$M$6:$V$612,5,0)),"",(VLOOKUP(L7,$M$6:$V$612,5,0))) | H7: =IF(ISERROR(VLOOKUP(L7,$M$6:$V$612,4,0)),"",(VLOOKUP(L7,$M$6:$V$612,4,0))) | I7: =IF(ISERROR(VLOOKUP(L7,$M$6:$V$612,6,0)),"",(VLOOKUP(L7,$M$6:$V$612,6,0))) | L7: 2 | M7: =IF(P7>0,M6+1,M6) -> 0 | N7: =PIPE!$B$3 -> Pipe | P7: =PIPE!H5 -> 0 | Q7: =PIPE!I5 -> 79.58 | R7: =PIPE!K5 -> 0 | S7: =PIPE!D5 -> 2811200000 | T7: =PIPE!E5 -> 25 / 1" | U7: =PIPE!F5 -> 18 ft 8 inch | V7: =PIPE!G5 -> 1
B8: =IF(ISERROR(VLOOKUP(L8,$M$6:$V$612,7,0)),"",(VLOOKUP(L8,$M$6:$V614,7,0))) | C8: =IF(ISERROR(VLOOKUP(L8,$M$6:$V$612,2,0)),"",(VLOOKUP(L8,$M$6:$V$612,2,0))) | D8: =IF(ISERROR(VLOOKUP(L8,$M$6:$V$612,8,0)),"",(VLOOKUP(L8,$M$6:$V$612,8,0))) | E8: =IF(ISERROR(VLOOKUP(L8,$M$6:$V$612,9,FALSE)),"",(VLOOKUP(L8,$M$6:$V$612,9,0))) | F8: =IF(ISERROR(VLOOKUP(L8,$M$6:$V$612,10,0)),"",(VLOOKUP(L8,$M$6:$V$612,10,0))) | G8: =IF(ISERROR(VLOOKUP(L8,$M$6:$V$612,5,0)),"",(VLOOKUP(L8,$M$6:$V$612,5,0))) | H8: =IF(ISERROR(VLOOKUP(L8,$M$6:$V$612,4,0)),"",(VLOOKUP(L8,$M$6:$V$612,4,0))) | I8: =IF(ISERROR(VLOOKUP(L8,$M$6:$V$612,6,0)),"",(VLOOKUP(L8,$M$6:$V$612,6,0))) | L8: 3 | M8: =IF(P8>0,M7+1,M7) -> 0 | N8: =PIPE!$B$3 -> Pipe | P8: =PIPE!H6 -> 0 | Q8: =PIPE!I6 -> 130.04 | R8: =PIPE!K6 -> 0 | S8: =PIPE!D6 -> 2811400000 | T8: =PIPE!E6 -> 40 / 1½" | U8: =PIPE!F6 -> 18 ft 8 inch | V8: =PIPE!G6 -> 1
B9: =IF(ISERROR(VLOOKUP(L9,$M$6:$V$612,7,0)),"",(VLOOKUP(L9,$M$6:$V615,7,0))) | C9: =IF(ISERROR(VLOOKUP(L9,$M$6:$V$612,2,0)),"",(VLOOKUP(L9,$M$6:$V$612,2,0))) | D9: =IF(ISERROR(VLOOKUP(L9,$M$6:$V$612,8,0)),"",(VLOOKUP(L9,$M$6:$V$612,8,0))) | E9: =IF(ISERROR(VLOOKUP(L9,$M$6:$V$612,9,FALSE)),"",(VLOOKUP(L9,$M$6:$V$612,9,0))) | F9: =IF(ISERROR(VLOOKUP(L9,$M$6:$V$612,10,0)),"",(VLOOKUP(L9,$M$6:$V$612,10,0))) | G9: =IF(ISERROR(VLOOKUP(L9,$M$6:$V$612,5,0)),"",(VLOOKUP(L9,$M$6:$V$612,5,0))) | H9: =IF(ISERROR(VLOOKUP(L9,$M$6:$V$612,4,0)),"",(VLOOKUP(L9,$M$6:$V$612,4,0))) | I9: =IF(ISERROR(VLOOKUP(L9,$M$6:$V$612,6,0)),"",(VLOOKUP(L9,$M$6:$V$612,6,0))) | L9: 4 | M9: =IF(P9>0,M8+1,M8) -> 0 | N9: =PIPE!$B$3 -> Pipe | P9: =PIPE!H7 -> 0 | Q9: =PIPE!I7 -> 175.81 | R9: =PIPE!K7 -> 0 | S9: =PIPE!D7 -> 2811500000 | T9: =PIPE!E7 -> 50 / 2" | U9: =PIPE!F7 -> 18 ft 8 inch | V9: =PIPE!G7 -> 1
B10: =IF(ISERROR(VLOOKUP(L10,$M$6:$V$612,7,0)),"",(VLOOKUP(L10,$M$6:$V616,7,0))) | C10: =IF(ISERROR(VLOOKUP(L10,$M$6:$V$612,2,0)),"",(VLOOKUP(L10,$M$6:$V$612,2,0))) | D10: =IF(ISERROR(VLOOKUP(L10,$M$6:$V$612,8,0)),"",(VLOOKUP(L10,$M$6:$V$612,8,0))) | E10: =IF(ISERROR(VLOOKUP(L10,$M$6:$V$612,9,FALSE)),"",(VLOOKUP(L10,$M$6:$V$612,9,0))) | F10: =IF(ISERROR(VLOOKUP(L10,$M$6:$V$612,10,0)),"",(VLOOKUP(L10,$M$6:$V$612,10,0))) | G10: =IF(ISERROR(VLOOKUP(L10,$M$6:$V$612,5,0)),"",(VLOOKUP(L10,$M$6:$V$612,5,0))) | H10: =IF(ISERROR(VLOOKUP(L10,$M$6:$V$612,4,0)),"",(VLOOKUP(L10,$M$6:$V$612,4,0))) | I10: =IF(ISERROR(VLOOKUP(L10,$M$6:$V$612,6,0)),"",(VLOOKUP(L10,$M$6:$V$612,6,0))) | L10: 5 | M10: =IF(P10>0,M9+1,M9) -> 0 | N10: =PIPE!$B$3 -> Pipe | P10: =PIPE!H8 -> 0 | Q10: =PIPE!I8 -> 225.22 | R10: =PIPE!K8 -> 0 | S10: =PIPE!D8 -> 2811600000 | T10: =PIPE!E8 -> 63 / 2½" | U10: =PIPE!F8 -> 18 ft 8 inch | V10: =PIPE!G8 -> 1
B11: =IF(ISERROR(VLOOKUP(L11,$M$6:$V$612,7,0)),"",(VLOOKUP(L11,$M$6:$V617,7,0))) | C11: =IF(ISERROR(VLOOKUP(L11,$M$6:$V$612,2,0)),"",(VLOOKUP(L11,$M$6:$V$612,2,0))) | D11: =IF(ISERROR(VLOOKUP(L11,$M$6:$V$612,8,0)),"",(VLOOKUP(L11,$M$6:$V$612,8,0))) | E11: =IF(ISERROR(VLOOKUP(L11,$M$6:$V$612,9,FALSE)),"",(VLOOKUP(L11,$M$6:$V$612,9,0))) | F11: =IF(ISERROR(VLOOKUP(L11,$M$6:$V$612,10,0)),"",(VLOOKUP(L11,$M$6:$V$612,10,0))) | G11: =IF(ISERROR(VLOOKUP(L11,$M$6:$V$612,5,0)),"",(VLOOKUP(L11,$M$6:$V$612,5,0))) | H11: =IF(ISERROR(VLOOKUP(L11,$M$6:$V$612,4,0)),"",(VLOOKUP(L11,$M$6:$V$612,4,0))) | I11: =IF(ISERROR(VLOOKUP(L11,$M$6:$V$612,6,0)),"",(VLOOKUP(L11,$M$6:$V$612,6,0))) | L11: 6 | M11: =IF(P11>0,M10+1,M10) -> 0 | N11: =PIPE!$B$3 -> Pipe | P11: =PIPE!H9 -> 0 | Q11: =PIPE!I9 -> 314.96 | R11: =PIPE!K9 -> 0 | S11: =PIPE!D9 -> 2811700000 | T11: =PIPE!E9 -> 80 / 3" | U11: =PIPE!F9 -> 18 ft 8 inch | V11: =PIPE!G9 -> 1
B12: =IF(ISERROR(VLOOKUP(L12,$M$6:$V$612,7,0)),"",(VLOOKUP(L12,$M$6:$V618,7,0))) | C12: =IF(ISERROR(VLOOKUP(L12,$M$6:$V$612,2,0)),"",(VLOOKUP(L12,$M$6:$V$612,2,0))) | D12: =IF(ISERROR(VLOOKUP(L12,$M$6:$V$612,8,0)),"",(VLOOKUP(L12,$M$6:$V$612,8,0))) | E12: =IF(ISERROR(VLOOKUP(L12,$M$6:$V$612,9,FALSE)),"",(VLOOKUP(L12,$M$6:$V$612,9,0))) | F12: =IF(ISERROR(VLOOKUP(L12,$M$6:$V$612,10,0)),"",(VLOOKUP(L12,$M$6:$V$612,10,0))) | G12: =IF(ISERROR(VLOOKUP(L12,$M$6:$V$612,5,0)),"",(VLOOKUP(L12,$M$6:$V$612,5,0))) | H12: =IF(ISERROR(VLOOKUP(L12,$M$6:$V$612,4,0)),"",(VLOOKUP(L12,$M$6:$V$612,4,0))) | I12: =IF(ISERROR(VLOOKUP(L12,$M$6:$V$612,6,0)),"",(VLOOKUP(L12,$M$6:$V$612,6,0))) | L12: 7 | M12: =IF(P12>0,M11+1,M11) -> 0 | N12: =PIPE!$B$3 -> Pipe | P12: =PIPE!H10 -> 0 | Q12: =PIPE!I10 -> 439.13 | R12: =PIPE!K10 -> 0 | S12: =PIPE!D10 -> 2811800000 | T12: =PIPE!E10 -> 100 / 4" | U12: =PIPE!F10 -> 18 ft 8 inch | V12: =PIPE!G10 -> 1
B13: =IF(ISERROR(VLOOKUP(L13,$M$6:$V$612,7,0)),"",(VLOOKUP(L13,$M$6:$V619,7,0))) | C13: =IF(ISERROR(VLOOKUP(L13,$M$6:$V$612,2,0)),"",(VLOOKUP(L13,$M$6:$V$612,2,0))) | D13: =IF(ISERROR(VLOOKUP(L13,$M$6:$V$612,8,0)),"",(VLOOKUP(L13,$M$6:$V$612,8,0))) | E13: =IF(ISERROR(VLOOKUP(L13,$M$6:$V$612,9,FALSE)),"",(VLOOKUP(L13,$M$6:$V$612,9,0))) | F13: =IF(ISERROR(VLOOKUP(L13,$M$6:$V$612,10,0)),"",(VLOOKUP(L13,$M$6:$V$612,10,0))) | G13: =IF(ISERROR(VLOOKUP(L13,$M$6:$V$612,5,0)),"",(VLOOKUP(L13,$M$6:$V$612,5,0))) | H13: =IF(ISERROR(VLOOKUP(L13,$M$6:$V$612,4,0)),"",(VLOOKUP(L13,$M$6:$V$612,4,0))) | I13: =IF(ISERROR(VLOOKUP(L13,$M$6:$V$612,6,0)),"",(VLOOKUP(L13,$M$6:$V$612,6,0))) | L13: 8 | M13: =IF(P13>0,M12+1,M12) -> 0 | N13: =PIPE!$B$3 -> Pipe | P13: =PIPE!H11 -> 0 | Q13: =PIPE!I11 -> 901.34 | R13: =PIPE!K11 -> 0 | S13: =PIPE!D11 -> 2811900000 | T13: =PIPE!E11 -> 158 / 6" | U13: =PIPE!F11 -> 18 ft 8 inch | V13: =PIPE!G11 -> 1
B14: =IF(ISERROR(VLOOKUP(L14,$M$6:$V$612,7,0)),"",(VLOOKUP(L14,$M$6:$V620,7,0))) | C14: =IF(ISERROR(VLOOKUP(L14,$M$6:$V$612,2,0)),"",(VLOOKUP(L14,$M$6:$V$612,2,0))) | D14: =IF(ISERROR(VLOOKUP(L14,$M$6:$V$612,8,0)),"",(VLOOKUP(L14,$M$6:$V$612,8,0))) | E14: =IF(ISERROR(VLOOKUP(L14,$M$6:$V$612,9,FALSE)),"",(VLOOKUP(L14,$M$6:$V$612,9,0))) | F14: =IF(ISERROR(VLOOKUP(L14,$M$6:$V$612,10,0)),"",(VLOOKUP(L14,$M$6:$V$612,10,0))) | G14: =IF(ISERROR(VLOOKUP(L14,$M$6:$V$612,5,0)),"",(VLOOKUP(L14,$M$6:$V$612,5,0))) | H14: =IF(ISERROR(VLOOKUP(L14,$M$6:$V$612,4,0)),"",(VLOOKUP(L14,$M$6:$V$612,4,0))) | I14: =IF(ISERROR(VLOOKUP(L14,$M$6:$V$612,6,0)),"",(VLOOKUP(L14,$M$6:$V$612,6,0))) | L14: 9 | M14: =IF(P14>0,M13+1,M13) -> 0
B15: =IF(ISERROR(VLOOKUP(L15,$M$6:$V$612,7,0)),"",(VLOOKUP(L15,$M$6:$V621,7,0))) | C15: =IF(ISERROR(VLOOKUP(L15,$M$6:$V$612,2,0)),"",(VLOOKUP(L15,$M$6:$V$612,2,0))) | D15: =IF(ISERROR(VLOOKUP(L15,$M$6:$V$612,8,0)),"",(VLOOKUP(L15,$M$6:$V$612,8,0))) | E15: =IF(ISERROR(VLOOKUP(L15,$M$6:$V$612,9,FALSE)),"",(VLOOKUP(L15,$M$6:$V$612,9,0))) | F15: =IF(ISERROR(VLOOKUP(L15,$M$6:$V$612,10,0)),"",(VLOOKUP(L15,$M$6:$V$612,10,0))) | G15: =IF(ISERROR(VLOOKUP(L15,$M$6:$V$612,5,0)),"",(VLOOKUP(L15,$M$6:$V$612,5,0))) | H15: =IF(ISERROR(VLOOKUP(L15,$M$6:$V$612,4,0)),"",(VLOOKUP(L15,$M$6:$V$612,4,0))) | I15: =IF(ISERROR(VLOOKUP(L15,$M$6:$V$612,6,0)),"",(VLOOKUP(L15,$M$6:$V$612,6,0))) | L15: 10 | M15: =IF(P15>0,M14+1,M14) -> 0
B16: =IF(ISERROR(VLOOKUP(L16,$M$6:$V$612,7,0)),"",(VLOOKUP(L16,$M$6:$V622,7,0))) | C16: =IF(ISERROR(VLOOKUP(L16,$M$6:$V$612,2,0)),"",(VLOOKUP(L16,$M$6:$V$612,2,0))) | D16: =IF(ISERROR(VLOOKUP(L16,$M$6:$V$612,8,0)),"",(VLOOKUP(L16,$M$6:$V$612,8,0))) | E16: =IF(ISERROR(VLOOKUP(L16,$M$6:$V$612,9,FALSE)),"",(VLOOKUP(L16,$M$6:$V$612,9,0))) | F16: =IF(ISERROR(VLOOKUP(L16,$M$6:$V$612,10,0)),"",(VLOOKUP(L16,$M$6:$V$612,10,0))) | G16: =IF(ISERROR(VLOOKUP(L16,$M$6:$V$612,5,0)),"",(VLOOKUP(L16,$M$6:$V$612,5,0))) | H16: =IF(ISERROR(VLOOKUP(L16,$M$6:$V$612,4,0)),"",(VLOOKUP(L16,$M$6:$V$612,4,0))) | I16: =IF(ISERROR(VLOOKUP(L16,$M$6:$V$612,6,0)),"",(VLOOKUP(L16,$M$6:$V$612,6,0))) | L16: 11 | M16: =IF(P16>0,M15+1,M15) -> 0 | N16: =PIPE!$C$13 -> Inert Gas (green pipe) | P16: =PIPE!H14 -> 0 | Q16: =PIPE!I14 -> 74.16 | R16: =PIPE!K14 -> 0 | S16: =PIPE!D14 -> 2811106100 | T16: =PIPE!E14 -> 20 / ¾" | U16: =PIPE!F14 -> 18 ft 8 inch | V16: =PIPE!G14 -> 1
B17: =IF(ISERROR(VLOOKUP(L17,$M$6:$V$612,7,0)),"",(VLOOKUP(L17,$M$6:$V623,7,0))) | C17: =IF(ISERROR(VLOOKUP(L17,$M$6:$V$612,2,0)),"",(VLOOKUP(L17,$M$6:$V$612,2,0))) | D17: =IF(ISERROR(VLOOKUP(L17,$M$6:$V$612,8,0)),"",(VLOOKUP(L17,$M$6:$V$612,8,0))) | E17: =IF(ISERROR(VLOOKUP(L17,$M$6:$V$612,9,FALSE)),"",(VLOOKUP(L17,$M$6:$V$612,9,0))) | F17: =IF(ISERROR(VLOOKUP(L17,$M$6:$V$612,10,0)),"",(VLOOKUP(L17,$M$6:$V$612,10,0))) | G17: =IF(ISERROR(VLOOKUP(L17,$M$6:$V$612,5,0)),"",(VLOOKUP(L17,$M$6:$V$612,5,0))) | H17: =IF(ISERROR(VLOOKUP(L17,$M$6:$V$612,4,0)),"",(VLOOKUP(L17,$M$6:$V$612,4,0))) | I17: =IF(ISERROR(VLOOKUP(L17,$M$6:$V$612,6,0)),"",(VLOOKUP(L17,$M$6:$V$612,6,0))) | L17: 12 | M17: =IF(P17>0,M16+1,M16) -> 0 | N17: =PIPE!$C$13 -> Inert Gas (green pipe) | P17: =PIPE!H15 -> 0 | Q17: =PIPE!I15 -> 120.17 | R17: =PIPE!K15 -> 0 | S17: =PIPE!D15 -> 2811206100 | T17: =PIPE!E15 -> 25 / 1" | U17: =PIPE!F15 -> 18 ft 8 inch | V17: =PIPE!G15 -> 1
B18: =IF(ISERROR(VLOOKUP(L18,$M$6:$V$612,7,0)),"",(VLOOKUP(L18,$M$6:$V624,7,0))) | C18: =IF(ISERROR(VLOOKUP(L18,$M$6:$V$612,2,0)),"",(VLOOKUP(L18,$M$6:$V$612,2,0))) | D18: =IF(ISERROR(VLOOKUP(L18,$M$6:$V$612,8,0)),"",(VLOOKUP(L18,$M$6:$V$612,8,0))) | E18: =IF(ISERROR(VLOOKUP(L18,$M$6:$V$612,9,FALSE)),"",(VLOOKUP(L18,$M$6:$V$612,9,0))) | F18: =IF(ISERROR(VLOOKUP(L18,$M$6:$V$612,10,0)),"",(VLOOKUP(L18,$M$6:$V$612,10,0))) | G18: =IF(ISERROR(VLOOKUP(L18,$M$6:$V$612,5,0)),"",(VLOOKUP(L18,$M$6:$V$612,5,0))) | H18: =IF(ISERROR(VLOOKUP(L18,$M$6:$V$612,4,0)),"",(VLOOKUP(L18,$M$6:$V$612,4,0))) | I18: =IF(ISERROR(VLOOKUP(L18,$M$6:$V$612,6,0)),"",(VLOOKUP(L18,$M$6:$V$612,6,0))) | L18: 13 | M18: =IF(P18>0,M17+1,M17) -> 0 | P18: =PIPE!H16 -> 0 | V18: =PIPE!G16 -> 0
B19: =IF(ISERROR(VLOOKUP(L19,$M$6:$V$612,7,0)),"",(VLOOKUP(L19,$M$6:$V625,7,0))) | C19: =IF(ISERROR(VLOOKUP(L19,$M$6:$V$612,2,0)),"",(VLOOKUP(L19,$M$6:$V$612,2,0))) | D19: =IF(ISERROR(VLOOKUP(L19,$M$6:$V$612,8,0)),"",(VLOOKUP(L19,$M$6:$V$612,8,0))) | E19: =IF(ISERROR(VLOOKUP(L19,$M$6:$V$612,9,FALSE)),"",(VLOOKUP(L19,$M$6:$V$612,9,0))) | F19: =IF(ISERROR(VLOOKUP(L19,$M$6:$V$612,10,0)),"",(VLOOKUP(L19,$M$6:$V$612,10,0))) | G19: =IF(ISERROR(VLOOKUP(L19,$M$6:$V$612,5,0)),"",(VLOOKUP(L19,$M$6:$V$612,5,0))) | H19: =IF(ISERROR(VLOOKUP(L19,$M$6:$V$612,4,0)),"",(VLOOKUP(L19,$M$6:$V$612,4,0))) | I19: =IF(ISERROR(VLOOKUP(L19,$M$6:$V$612,6,0)),"",(VLOOKUP(L19,$M$6:$V$612,6,0))) | L19: 14 | M19: =IF(P19>0,M18+1,M18) -> 0 | P19: =PIPE!H17 -> 0 | V19: =PIPE!G17 -> 0
B20: =IF(ISERROR(VLOOKUP(L20,$M$6:$V$612,7,0)),"",(VLOOKUP(L20,$M$6:$V626,7,0))) | C20: =IF(ISERROR(VLOOKUP(L20,$M$6:$V$612,2,0)),"",(VLOOKUP(L20,$M$6:$V$612,2,0))) | D20: =IF(ISERROR(VLOOKUP(L20,$M$6:$V$612,8,0)),"",(VLOOKUP(L20,$M$6:$V$612,8,0))) | E20: =IF(ISERROR(VLOOKUP(L20,$M$6:$V$612,9,FALSE)),"",(VLOOKUP(L20,$M$6:$V$612,9,0))) | F20: =IF(ISERROR(VLOOKUP(L20,$M$6:$V$612,10,0)),"",(VLOOKUP(L20,$M$6:$V$612,10,0))) | G20: =IF(ISERROR(VLOOKUP(L20,$M$6:$V$612,5,0)),"",(VLOOKUP(L20,$M$6:$V$612,5,0))) | H20: =IF(ISERROR(VLOOKUP(L20,$M$6:$V$612,4,0)),"",(VLOOKUP(L20,$M$6:$V$612,4,0))) | I20: =IF(ISERROR(VLOOKUP(L20,$M$6:$V$612,6,0)),"",(VLOOKUP(L20,$M$6:$V$612,6,0))) | L20: 15 | M20: =IF(P20>0,M19+1,M19) -> 0 | P20: =PIPE!H18 -> 0 | V20: =PIPE!G18 -> 0
B21: =IF(ISERROR(VLOOKUP(L21,$M$6:$V$612,7,0)),"",(VLOOKUP(L21,$M$6:$V627,7,0))) | C21: =IF(ISERROR(VLOOKUP(L21,$M$6:$V$612,2,0)),"",(VLOOKUP(L21,$M$6:$V$612,2,0))) | D21: =IF(ISERROR(VLOOKUP(L21,$M$6:$V$612,8,0)),"",(VLOOKUP(L21,$M$6:$V$612,8,0))) | E21: =IF(ISERROR(VLOOKUP(L21,$M$6:$V$612,9,FALSE)),"",(VLOOKUP(L21,$M$6:$V$612,9,0))) | F21: =IF(ISERROR(VLOOKUP(L21,$M$6:$V$612,10,0)),"",(VLOOKUP(L21,$M$6:$V$612,10,0))) | G21: =IF(ISERROR(VLOOKUP(L21,$M$6:$V$612,5,0)),"",(VLOOKUP(L21,$M$6:$V$612,5,0))) | H21: =IF(ISERROR(VLOOKUP(L21,$M$6:$V$612,4,0)),"",(VLOOKUP(L21,$M$6:$V$612,4,0))) | I21: =IF(ISERROR(VLOOKUP(L21,$M$6:$V$612,6,0)),"",(VLOOKUP(L21,$M$6:$V$612,6,0))) | L21: 16 | M21: =IF(P21>0,M20+1,M20) -> 0 | P21: =PIPE!H19 -> 0 | V21: =PIPE!G19 -> 0
B22: =IF(ISERROR(VLOOKUP(L22,$M$6:$V$612,7,0)),"",(VLOOKUP(L22,$M$6:$V628,7,0))) | C22: =IF(ISERROR(VLOOKUP(L22,$M$6:$V$612,2,0)),"",(VLOOKUP(L22,$M$6:$V$612,2,0))) | D22: =IF(ISERROR(VLOOKUP(L22,$M$6:$V$612,8,0)),"",(VLOOKUP(L22,$M$6:$V$612,8,0))) | E22: =IF(ISERROR(VLOOKUP(L22,$M$6:$V$612,9,FALSE)),"",(VLOOKUP(L22,$M$6:$V$612,9,0))) | F22: =IF(ISERROR(VLOOKUP(L22,$M$6:$V$612,10,0)),"",(VLOOKUP(L22,$M$6:$V$612,10,0))) | G22: =IF(ISERROR(VLOOKUP(L22,$M$6:$V$612,5,0)),"",(VLOOKUP(L22,$M$6:$V$612,5,0))) | H22: =IF(ISERROR(VLOOKUP(L22,$M$6:$V$612,4,0)),"",(VLOOKUP(L22,$M$6:$V$612,4,0))) | I22: =IF(ISERROR(VLOOKUP(L22,$M$6:$V$612,6,0)),"",(VLOOKUP(L22,$M$6:$V$612,6,0))) | L22: 17 | M22: =IF(P22>0,M21+1,M21) -> 0 | P22: =PIPE!H21 -> 0 | V22: =PIPE!G21 -> 0
B23: =IF(ISERROR(VLOOKUP(L23,$M$6:$V$612,7,0)),"",(VLOOKUP(L23,$M$6:$V629,7,0))) | C23: =IF(ISERROR(VLOOKUP(L23,$M$6:$V$612,2,0)),"",(VLOOKUP(L23,$M$6:$V$612,2,0))) | D23: =IF(ISERROR(VLOOKUP(L23,$M$6:$V$612,8,0)),"",(VLOOKUP(L23,$M$6:$V$612,8,0))) | E23: =IF(ISERROR(VLOOKUP(L23,$M$6:$V$612,9,FALSE)),"",(VLOOKUP(L23,$M$6:$V$612,9,0))) | F23: =IF(ISERROR(VLOOKUP(L23,$M$6:$V$612,10,0)),"",(VLOOKUP(L23,$M$6:$V$612,10,0))) | G23: =IF(ISERROR(VLOOKUP(L23,$M$6:$V$612,5,0)),"",(VLOOKUP(L23,$M$6:$V$612,5,0))) | H23: =IF(ISERROR(VLOOKUP(L23,$M$6:$V$612,4,0)),"",(VLOOKUP(L23,$M$6:$V$612,4,0))) | I23: =IF(ISERROR(VLOOKUP(L23,$M$6:$V$612,6,0)),"",(VLOOKUP(L23,$M$6:$V$612,6,0))) | L23: 18 | M23: =IF(P23>0,M22+1,M22) -> 0 | N23: =PIPE!$C$21 -> S Bend | P23: =PIPE!H22 -> 0 | Q23: =PIPE!I22 -> 74.44 | R23: =PIPE!K22 -> 0 | S23: =PIPE!D22 -> 2811106705 | T23: =PIPE!E22 -> 20 / ¾" | U23: =PIPE!F22 -> Use with Quick Drops to rotate pipe against wall (~6.5" offset) | V23: =PIPE!G22 -> 5
B24: =IF(ISERROR(VLOOKUP(L24,$M$6:$V$612,7,0)),"",(VLOOKUP(L24,$M$6:$V630,7,0))) | C24: =IF(ISERROR(VLOOKUP(L24,$M$6:$V$612,2,0)),"",(VLOOKUP(L24,$M$6:$V$612,2,0))) | D24: =IF(ISERROR(VLOOKUP(L24,$M$6:$V$612,8,0)),"",(VLOOKUP(L24,$M$6:$V$612,8,0))) | E24: =IF(ISERROR(VLOOKUP(L24,$M$6:$V$612,9,FALSE)),"",(VLOOKUP(L24,$M$6:$V$612,9,0))) | F24: =IF(ISERROR(VLOOKUP(L24,$M$6:$V$612,10,0)),"",(VLOOKUP(L24,$M$6:$V$612,10,0))) | G24: =IF(ISERROR(VLOOKUP(L24,$M$6:$V$612,5,0)),"",(VLOOKUP(L24,$M$6:$V$612,5,0))) | H24: =IF(ISERROR(VLOOKUP(L24,$M$6:$V$612,4,0)),"",(VLOOKUP(L24,$M$6:$V$612,4,0))) | I24: =IF(ISERROR(VLOOKUP(L24,$M$6:$V$612,6,0)),"",(VLOOKUP(L24,$M$6:$V$612,6,0))) | L24: 19 | M24: =IF(P24>0,M23+1,M23) -> 0 | N24: =PIPE!$C$21 -> S Bend | P24: =PIPE!H23 -> 0 | Q24: =PIPE!I23 -> 103.06 | R24: =PIPE!K23 -> 0 | S24: =PIPE!D23 -> 2811206705 | T24: =PIPE!E23 -> 25 / 1" | U24: =PIPE!F23 -> Use with Quick Drops to rotate pipe against wall (~6.5" offset) | V24: =PIPE!G23 -> 5
B25: =IF(ISERROR(VLOOKUP(L25,$M$6:$V$612,7,0)),"",(VLOOKUP(L25,$M$6:$V631,7,0))) | C25: =IF(ISERROR(VLOOKUP(L25,$M$6:$V$612,2,0)),"",(VLOOKUP(L25,$M$6:$V$612,2,0))) | D25: =IF(ISERROR(VLOOKUP(L25,$M$6:$V$612,8,0)),"",(VLOOKUP(L25,$M$6:$V$612,8,0))) | E25: =IF(ISERROR(VLOOKUP(L25,$M$6:$V$612,9,FALSE)),"",(VLOOKUP(L25,$M$6:$V$612,9,0))) | F25: =IF(ISERROR(VLOOKUP(L25,$M$6:$V$612,10,0)),"",(VLOOKUP(L25,$M$6:$V$612,10,0))) | G25: =IF(ISERROR(VLOOKUP(L25,$M$6:$V$612,5,0)),"",(VLOOKUP(L25,$M$6:$V$612,5,0))) | H25: =IF(ISERROR(VLOOKUP(L25,$M$6:$V$612,4,0)),"",(VLOOKUP(L25,$M$6:$V$612,4,0))) | I25: =IF(ISERROR(VLOOKUP(L25,$M$6:$V$612,6,0)),"",(VLOOKUP(L25,$M$6:$V$612,6,0))) | L25: 20 | M25: =IF(P25>0,M24+1,M24) -> 0
B26: =IF(ISERROR(VLOOKUP(L26,$M$6:$V$612,7,0)),"",(VLOOKUP(L26,$M$6:$V632,7,0))) | C26: =IF(ISERROR(VLOOKUP(L26,$M$6:$V$612,2,0)),"",(VLOOKUP(L26,$M$6:$V$612,2,0))) | D26: =IF(ISERROR(VLOOKUP(L26,$M$6:$V$612,8,0)),"",(VLOOKUP(L26,$M$6:$V$612,8,0))) | E26: =IF(ISERROR(VLOOKUP(L26,$M$6:$V$612,9,FALSE)),"",(VLOOKUP(L26,$M$6:$V$612,9,0))) | F26: =IF(ISERROR(VLOOKUP(L26,$M$6:$V$612,10,0)),"",(VLOOKUP(L26,$M$6:$V$612,10,0))) | G26: =IF(ISERROR(VLOOKUP(L26,$M$6:$V$612,5,0)),"",(VLOOKUP(L26,$M$6:$V$612,5,0))) | H26: =IF(ISERROR(VLOOKUP(L26,$M$6:$V$612,4,0)),"",(VLOOKUP(L26,$M$6:$V$612,4,0))) | I26: =IF(ISERROR(VLOOKUP(L26,$M$6:$V$612,6,0)),"",(VLOOKUP(L26,$M$6:$V$612,6,0))) | L26: 21 | M26: =IF(P26>0,M25+1,M25) -> 0 | N26: ='Straight Connection'!$C$3 -> Equal Union - PF Series | P26: ='Straight Connection'!H4 -> 0 | Q26: ='Straight Connection'!I4 -> 20.18 | R26: ='Straight Connection'!K4 -> 0 | S26: ='Straight Connection'!D4 -> 2811100280 | T26: ='Straight Connection'!E4 -> 20 / ¾" | U26: ='Straight Connection'!F4 -> Pipe to Pipe connector | V26: ='Straight Connection'!G4 -> 1
B27: =IF(ISERROR(VLOOKUP(L27,$M$6:$V$612,7,0)),"",(VLOOKUP(L27,$M$6:$V633,7,0))) | C27: =IF(ISERROR(VLOOKUP(L27,$M$6:$V$612,2,0)),"",(VLOOKUP(L27,$M$6:$V$612,2,0))) | D27: =IF(ISERROR(VLOOKUP(L27,$M$6:$V$612,8,0)),"",(VLOOKUP(L27,$M$6:$V$612,8,0))) | E27: =IF(ISERROR(VLOOKUP(L27,$M$6:$V$612,9,FALSE)),"",(VLOOKUP(L27,$M$6:$V$612,9,0))) | F27: =IF(ISERROR(VLOOKUP(L27,$M$6:$V$612,10,0)),"",(VLOOKUP(L27,$M$6:$V$612,10,0))) | G27: =IF(ISERROR(VLOOKUP(L27,$M$6:$V$612,5,0)),"",(VLOOKUP(L27,$M$6:$V$612,5,0))) | H27: =IF(ISERROR(VLOOKUP(L27,$M$6:$V$612,4,0)),"",(VLOOKUP(L27,$M$6:$V$612,4,0))) | I27: =IF(ISERROR(VLOOKUP(L27,$M$6:$V$612,6,0)),"",(VLOOKUP(L27,$M$6:$V$612,6,0))) | L27: 22 | M27: =IF(P27>0,M26+1,M26) -> 0 | N27: ='Straight Connection'!$C$3 -> Equal Union - PF Series | P27: ='Straight Connection'!H5 -> 0 | Q27: ='Straight Connection'!I5 -> 30.83 | R27: ='Straight Connection'!K5 -> 0 | S27: ='Straight Connection'!D5 -> 2811200280 | T27: ='Straight Connection'!E5 -> 25 / 1" | U27: ='Straight Connection'!F5 -> Pipe to Pipe connector | V27: ='Straight Connection'!G5 -> 1
B28: =IF(ISERROR(VLOOKUP(L28,$M$6:$V$612,7,0)),"",(VLOOKUP(L28,$M$6:$V634,7,0))) | C28: =IF(ISERROR(VLOOKUP(L28,$M$6:$V$612,2,0)),"",(VLOOKUP(L28,$M$6:$V$612,2,0))) | D28: =IF(ISERROR(VLOOKUP(L28,$M$6:$V$612,8,0)),"",(VLOOKUP(L28,$M$6:$V$612,8,0))) | E28: =IF(ISERROR(VLOOKUP(L28,$M$6:$V$612,9,FALSE)),"",(VLOOKUP(L28,$M$6:$V$612,9,0))) | F28: =IF(ISERROR(VLOOKUP(L28,$M$6:$V$612,10,0)),"",(VLOOKUP(L28,$M$6:$V$612,10,0))) | G28: =IF(ISERROR(VLOOKUP(L28,$M$6:$V$612,5,0)),"",(VLOOKUP(L28,$M$6:$V$612,5,0))) | H28: =IF(ISERROR(VLOOKUP(L28,$M$6:$V$612,4,0)),"",(VLOOKUP(L28,$M$6:$V$612,4,0))) | I28: =IF(ISERROR(VLOOKUP(L28,$M$6:$V$612,6,0)),"",(VLOOKUP(L28,$M$6:$V$612,6,0))) | L28: 23 | M28: =IF(P28>0,M27+1,M27) -> 0 | N28: ='Straight Connection'!$C$3 -> Equal Union - PF Series | P28: ='Straight Connection'!H6 -> 0 | Q28: ='Straight Connection'!I6 -> 53.46 | R28: ='Straight Connection'!K6 -> 0 | S28: ='Straight Connection'!D6 -> 2811400280 | T28: ='Straight Connection'!E6 -> 40 / 1½" | U28: ='Straight Connection'!F6 -> Pipe to Pipe connector | V28: ='Straight Connection'!G6 -> 1
B29: =IF(ISERROR(VLOOKUP(L29,$M$6:$V$612,7,0)),"",(VLOOKUP(L29,$M$6:$V635,7,0))) | C29: =IF(ISERROR(VLOOKUP(L29,$M$6:$V$612,2,0)),"",(VLOOKUP(L29,$M$6:$V$612,2,0))) | D29: =IF(ISERROR(VLOOKUP(L29,$M$6:$V$612,8,0)),"",(VLOOKUP(L29,$M$6:$V$612,8,0))) | E29: =IF(ISERROR(VLOOKUP(L29,$M$6:$V$612,9,FALSE)),"",(VLOOKUP(L29,$M$6:$V$612,9,0))) | F29: =IF(ISERROR(VLOOKUP(L29,$M$6:$V$612,10,0)),"",(VLOOKUP(L29,$M$6:$V$612,10,0))) | G29: =IF(ISERROR(VLOOKUP(L29,$M$6:$V$612,5,0)),"",(VLOOKUP(L29,$M$6:$V$612,5,0))) | H29: =IF(ISERROR(VLOOKUP(L29,$M$6:$V$612,4,0)),"",(VLOOKUP(L29,$M$6:$V$612,4,0))) | I29: =IF(ISERROR(VLOOKUP(L29,$M$6:$V$612,6,0)),"",(VLOOKUP(L29,$M$6:$V$612,6,0))) | L29: 24 | M29: =IF(P29>0,M28+1,M28) -> 0 | N29: ='Straight Connection'!$C$3 -> Equal Union - PF Series | P29: ='Straight Connection'!H7 -> 0 | Q29: ='Straight Connection'!I7 -> 67.22 | R29: ='Straight Connection'!K7 -> 0 | S29: ='Straight Connection'!D7 -> 2811500280 | T29: ='Straight Connection'!E7 -> 50 / 2" | U29: ='Straight Connection'!F7 -> Pipe to Pipe connector | V29: ='Straight Connection'!G7 -> 1
B30: =IF(ISERROR(VLOOKUP(L30,$M$6:$V$612,7,0)),"",(VLOOKUP(L30,$M$6:$V636,7,0))) | C30: =IF(ISERROR(VLOOKUP(L30,$M$6:$V$612,2,0)),"",(VLOOKUP(L30,$M$6:$V$612,2,0))) | D30: =IF(ISERROR(VLOOKUP(L30,$M$6:$V$612,8,0)),"",(VLOOKUP(L30,$M$6:$V$612,8,0))) | E30: =IF(ISERROR(VLOOKUP(L30,$M$6:$V$612,9,FALSE)),"",(VLOOKUP(L30,$M$6:$V$612,9,0))) | F30: =IF(ISERROR(VLOOKUP(L30,$M$6:$V$612,10,0)),"",(VLOOKUP(L30,$M$6:$V$612,10,0))) | G30: =IF(ISERROR(VLOOKUP(L30,$M$6:$V$612,5,0)),"",(VLOOKUP(L30,$M$6:$V$612,5,0))) | H30: =IF(ISERROR(VLOOKUP(L30,$M$6:$V$612,4,0)),"",(VLOOKUP(L30,$M$6:$V$612,4,0))) | I30: =IF(ISERROR(VLOOKUP(L30,$M$6:$V$612,6,0)),"",(VLOOKUP(L30,$M$6:$V$612,6,0))) | L30: 25 | M30: =IF(P30>0,M29+1,M29) -> 0 | P30: ='Straight Connection'!H8 -> 0 | S30: ='Straight Connection'!D8 -> 0 | T30: ='Straight Connection'!E8 -> 0 | U30: ='Straight Connection'!F8 -> 0 | V30: ='Straight Connection'!G8 -> 0
B31: =IF(ISERROR(VLOOKUP(L31,$M$6:$V$612,7,0)),"",(VLOOKUP(L31,$M$6:$V637,7,0))) | C31: =IF(ISERROR(VLOOKUP(L31,$M$6:$V$612,2,0)),"",(VLOOKUP(L31,$M$6:$V$612,2,0))) | D31: =IF(ISERROR(VLOOKUP(L31,$M$6:$V$612,8,0)),"",(VLOOKUP(L31,$M$6:$V$612,8,0))) | E31: =IF(ISERROR(VLOOKUP(L31,$M$6:$V$612,9,FALSE)),"",(VLOOKUP(L31,$M$6:$V$612,9,0))) | F31: =IF(ISERROR(VLOOKUP(L31,$M$6:$V$612,10,0)),"",(VLOOKUP(L31,$M$6:$V$612,10,0))) | G31: =IF(ISERROR(VLOOKUP(L31,$M$6:$V$612,5,0)),"",(VLOOKUP(L31,$M$6:$V$612,5,0))) | H31: =IF(ISERROR(VLOOKUP(L31,$M$6:$V$612,4,0)),"",(VLOOKUP(L31,$M$6:$V$612,4,0))) | I31: =IF(ISERROR(VLOOKUP(L31,$M$6:$V$612,6,0)),"",(VLOOKUP(L31,$M$6:$V$612,6,0))) | L31: 26 | M31: =IF(P31>0,M30+1,M30) -> 0 | P31: ='Straight Connection'!H9 -> 0 | S31: ='Straight Connection'!D9 -> 0 | T31: ='Straight Connection'!E9 -> 0 | U31: ='Straight Connection'!F9 -> 0 | V31: ='Straight Connection'!G9 -> 0
B32: =IF(ISERROR(VLOOKUP(L32,$M$6:$V$612,7,0)),"",(VLOOKUP(L32,$M$6:$V638,7,0))) | C32: =IF(ISERROR(VLOOKUP(L32,$M$6:$V$612,2,0)),"",(VLOOKUP(L32,$M$6:$V$612,2,0))) | D32: =IF(ISERROR(VLOOKUP(L32,$M$6:$V$612,8,0)),"",(VLOOKUP(L32,$M$6:$V$612,8,0))) | E32: =IF(ISERROR(VLOOKUP(L32,$M$6:$V$612,9,FALSE)),"",(VLOOKUP(L32,$M$6:$V$612,9,0))) | F32: =IF(ISERROR(VLOOKUP(L32,$M$6:$V$612,10,0)),"",(VLOOKUP(L32,$M$6:$V$612,10,0))) | G32: =IF(ISERROR(VLOOKUP(L32,$M$6:$V$612,5,0)),"",(VLOOKUP(L32,$M$6:$V$612,5,0))) | H32: =IF(ISERROR(VLOOKUP(L32,$M$6:$V$612,4,0)),"",(VLOOKUP(L32,$M$6:$V$612,4,0))) | I32: =IF(ISERROR(VLOOKUP(L32,$M$6:$V$612,6,0)),"",(VLOOKUP(L32,$M$6:$V$612,6,0))) | L32: 27 | M32: =IF(P32>0,M31+1,M31) -> 0 | N32: ='Straight Connection'!$C$3 -> Equal Union - PF Series | P32: ='Straight Connection'!H10 -> 0 | Q32: ='Straight Connection'!I10 -> 82.08 | R32: ='Straight Connection'!K10 -> 0 | S32: ='Straight Connection'!D10 -> 2811600290 | T32: ='Straight Connection'!E10 -> 63 / 2½" | U32: ='Straight Connection'!F10 -> Pipe to Pipe connector | V32: ='Straight Connection'!G10 -> 1
B33: =IF(ISERROR(VLOOKUP(L33,$M$6:$V$612,7,0)),"",(VLOOKUP(L33,$M$6:$V639,7,0))) | C33: =IF(ISERROR(VLOOKUP(L33,$M$6:$V$612,2,0)),"",(VLOOKUP(L33,$M$6:$V$612,2,0))) | D33: =IF(ISERROR(VLOOKUP(L33,$M$6:$V$612,8,0)),"",(VLOOKUP(L33,$M$6:$V$612,8,0))) | E33: =IF(ISERROR(VLOOKUP(L33,$M$6:$V$612,9,FALSE)),"",(VLOOKUP(L33,$M$6:$V$612,9,0))) | F33: =IF(ISERROR(VLOOKUP(L33,$M$6:$V$612,10,0)),"",(VLOOKUP(L33,$M$6:$V$612,10,0))) | G33: =IF(ISERROR(VLOOKUP(L33,$M$6:$V$612,5,0)),"",(VLOOKUP(L33,$M$6:$V$612,5,0))) | H33: =IF(ISERROR(VLOOKUP(L33,$M$6:$V$612,4,0)),"",(VLOOKUP(L33,$M$6:$V$612,4,0))) | I33: =IF(ISERROR(VLOOKUP(L33,$M$6:$V$612,6,0)),"",(VLOOKUP(L33,$M$6:$V$612,6,0))) | L33: 28 | M33: =IF(P33>0,M32+1,M32) -> 0 | N33: ='Straight Connection'!$C$3 -> Equal Union - PF Series | P33: ='Straight Connection'!H11 -> 0 | Q33: ='Straight Connection'!I11 -> 111.6 | R33: ='Straight Connection'!K11 -> 0 | S33: ='Straight Connection'!D11 -> 2811700290 | T33: ='Straight Connection'!E11 -> 80 / 3" | U33: ='Straight Connection'!F11 -> Pipe to Pipe connector | V33: ='Straight Connection'!G11 -> 1
B34: =IF(ISERROR(VLOOKUP(L34,$M$6:$V$612,7,0)),"",(VLOOKUP(L34,$M$6:$V640,7,0))) | C34: =IF(ISERROR(VLOOKUP(L34,$M$6:$V$612,2,0)),"",(VLOOKUP(L34,$M$6:$V$612,2,0))) | D34: =IF(ISERROR(VLOOKUP(L34,$M$6:$V$612,8,0)),"",(VLOOKUP(L34,$M$6:$V$612,8,0))) | E34: =IF(ISERROR(VLOOKUP(L34,$M$6:$V$612,9,FALSE)),"",(VLOOKUP(L34,$M$6:$V$612,9,0))) | F34: =IF(ISERROR(VLOOKUP(L34,$M$6:$V$612,10,0)),"",(VLOOKUP(L34,$M$6:$V$612,10,0))) | G34: =IF(ISERROR(VLOOKUP(L34,$M$6:$V$612,5,0)),"",(VLOOKUP(L34,$M$6:$V$612,5,0))) | H34: =IF(ISERROR(VLOOKUP(L34,$M$6:$V$612,4,0)),"",(VLOOKUP(L34,$M$6:$V$612,4,0))) | I34: =IF(ISERROR(VLOOKUP(L34,$M$6:$V$612,6,0)),"",(VLOOKUP(L34,$M$6:$V$612,6,0))) | L34: 29 | M34: =IF(P34>0,M33+1,M33) -> 0 | N34: ='Straight Connection'!$C$3 -> Equal Union - PF Series | P34: ='Straight Connection'!H12 -> 0 | Q34: ='Straight Connection'!I12 -> 146.21 | R34: ='Straight Connection'!K12 -> 0 | S34: ='Straight Connection'!D12 -> 2810880200 | T34: ='Straight Connection'!E12 -> 100 / 4" | U34: ='Straight Connection'!F12 -> Pipe to Pipe or Pipe to Fitting | V34: ='Straight Connection'!G12 -> 1
B35: =IF(ISERROR(VLOOKUP(L35,$M$6:$V$612,7,0)),"",(VLOOKUP(L35,$M$6:$V641,7,0))) | C35: =IF(ISERROR(VLOOKUP(L35,$M$6:$V$612,2,0)),"",(VLOOKUP(L35,$M$6:$V$612,2,0))) | D35: =IF(ISERROR(VLOOKUP(L35,$M$6:$V$612,8,0)),"",(VLOOKUP(L35,$M$6:$V$612,8,0))) | E35: =IF(ISERROR(VLOOKUP(L35,$M$6:$V$612,9,FALSE)),"",(VLOOKUP(L35,$M$6:$V$612,9,0))) | F35: =IF(ISERROR(VLOOKUP(L35,$M$6:$V$612,10,0)),"",(VLOOKUP(L35,$M$6:$V$612,10,0))) | G35: =IF(ISERROR(VLOOKUP(L35,$M$6:$V$612,5,0)),"",(VLOOKUP(L35,$M$6:$V$612,5,0))) | H35: =IF(ISERROR(VLOOKUP(L35,$M$6:$V$612,4,0)),"",(VLOOKUP(L35,$M$6:$V$612,4,0))) | I35: =IF(ISERROR(VLOOKUP(L35,$M$6:$V$612,6,0)),"",(VLOOKUP(L35,$M$6:$V$612,6,0))) | L35: 30 | M35: =IF(P35>0,M34+1,M34) -> 0 | N35: ='Straight Connection'!$C$3 -> Equal Union - PF Series | P35: ='Straight Connection'!H13 -> 0 | Q35: ='Straight Connection'!I13 -> 157.84 | R35: ='Straight Connection'!K13 -> 0 | S35: ='Straight Connection'!D13 -> 2810900200 | T35: ='Straight Connection'!E13 -> 158 / 6" | U35: ='Straight Connection'!F13 -> Pipe to Pipe or Pipe to Fitting | V35: ='Straight Connection'!G13 -> 1
B36: =IF(ISERROR(VLOOKUP(L36,$M$6:$V$612,7,0)),"",(VLOOKUP(L36,$M$6:$V642,7,0))) | C36: =IF(ISERROR(VLOOKUP(L36,$M$6:$V$612,2,0)),"",(VLOOKUP(L36,$M$6:$V$612,2,0))) | D36: =IF(ISERROR(VLOOKUP(L36,$M$6:$V$612,8,0)),"",(VLOOKUP(L36,$M$6:$V$612,8,0))) | E36: =IF(ISERROR(VLOOKUP(L36,$M$6:$V$612,9,FALSE)),"",(VLOOKUP(L36,$M$6:$V$612,9,0))) | F36: =IF(ISERROR(VLOOKUP(L36,$M$6:$V$612,10,0)),"",(VLOOKUP(L36,$M$6:$V$612,10,0))) | G36: =IF(ISERROR(VLOOKUP(L36,$M$6:$V$612,5,0)),"",(VLOOKUP(L36,$M$6:$V$612,5,0))) | H36: =IF(ISERROR(VLOOKUP(L36,$M$6:$V$612,4,0)),"",(VLOOKUP(L36,$M$6:$V$612,4,0))) | I36: =IF(ISERROR(VLOOKUP(L36,$M$6:$V$612,6,0)),"",(VLOOKUP(L36,$M$6:$V$612,6,0))) | L36: 31 | M36: =IF(P36>0,M35+1,M35) -> 0
B37: =IF(ISERROR(VLOOKUP(L37,$M$6:$V$612,7,0)),"",(VLOOKUP(L37,$M$6:$V643,7,0))) | C37: =IF(ISERROR(VLOOKUP(L37,$M$6:$V$612,2,0)),"",(VLOOKUP(L37,$M$6:$V$612,2,0))) | D37: =IF(ISERROR(VLOOKUP(L37,$M$6:$V$612,8,0)),"",(VLOOKUP(L37,$M$6:$V$612,8,0))) | E37: =IF(ISERROR(VLOOKUP(L37,$M$6:$V$612,9,FALSE)),"",(VLOOKUP(L37,$M$6:$V$612,9,0))) | F37: =IF(ISERROR(VLOOKUP(L37,$M$6:$V$612,10,0)),"",(VLOOKUP(L37,$M$6:$V$612,10,0))) | G37: =IF(ISERROR(VLOOKUP(L37,$M$6:$V$612,5,0)),"",(VLOOKUP(L37,$M$6:$V$612,5,0))) | H37: =IF(ISERROR(VLOOKUP(L37,$M$6:$V$612,4,0)),"",(VLOOKUP(L37,$M$6:$V$612,4,0))) | I37: =IF(ISERROR(VLOOKUP(L37,$M$6:$V$612,6,0)),"",(VLOOKUP(L37,$M$6:$V$612,6,0))) | L37: 32 | M37: =IF(P37>0,M36+1,M36) -> 0
B38: =IF(ISERROR(VLOOKUP(L38,$M$6:$V$612,7,0)),"",(VLOOKUP(L38,$M$6:$V644,7,0))) | C38: =IF(ISERROR(VLOOKUP(L38,$M$6:$V$612,2,0)),"",(VLOOKUP(L38,$M$6:$V$612,2,0))) | D38: =IF(ISERROR(VLOOKUP(L38,$M$6:$V$612,8,0)),"",(VLOOKUP(L38,$M$6:$V$612,8,0))) | E38: =IF(ISERROR(VLOOKUP(L38,$M$6:$V$612,9,FALSE)),"",(VLOOKUP(L38,$M$6:$V$612,9,0))) | F38: =IF(ISERROR(VLOOKUP(L38,$M$6:$V$612,10,0)),"",(VLOOKUP(L38,$M$6:$V$612,10,0))) | G38: =IF(ISERROR(VLOOKUP(L38,$M$6:$V$612,5,0)),"",(VLOOKUP(L38,$M$6:$V$612,5,0))) | H38: =IF(ISERROR(VLOOKUP(L38,$M$6:$V$612,4,0)),"",(VLOOKUP(L38,$M$6:$V$612,4,0))) | I38: =IF(ISERROR(VLOOKUP(L38,$M$6:$V$612,6,0)),"",(VLOOKUP(L38,$M$6:$V$612,6,0))) | L38: 33 | M38: =IF(P38>0,M37+1,M37) -> 0 | N38: ='Straight Connection'!$C$15 -> 90° Elbows - PF Series | P38: ='Straight Connection'!H16 -> 0 | Q38: ='Straight Connection'!I16 -> 28.87 | R38: ='Straight Connection'!K16 -> 0 | S38: ='Straight Connection'!D16 -> 2811100380 | T38: ='Straight Connection'!E16 -> 20 / ¾" | U38: ='Straight Connection'!F16 -> 0 | V38: ='Straight Connection'!G16 -> 1
B39: =IF(ISERROR(VLOOKUP(L39,$M$6:$V$612,7,0)),"",(VLOOKUP(L39,$M$6:$V645,7,0))) | C39: =IF(ISERROR(VLOOKUP(L39,$M$6:$V$612,2,0)),"",(VLOOKUP(L39,$M$6:$V$612,2,0))) | D39: =IF(ISERROR(VLOOKUP(L39,$M$6:$V$612,8,0)),"",(VLOOKUP(L39,$M$6:$V$612,8,0))) | E39: =IF(ISERROR(VLOOKUP(L39,$M$6:$V$612,9,FALSE)),"",(VLOOKUP(L39,$M$6:$V$612,9,0))) | F39: =IF(ISERROR(VLOOKUP(L39,$M$6:$V$612,10,0)),"",(VLOOKUP(L39,$M$6:$V$612,10,0))) | G39: =IF(ISERROR(VLOOKUP(L39,$M$6:$V$612,5,0)),"",(VLOOKUP(L39,$M$6:$V$612,5,0))) | H39: =IF(ISERROR(VLOOKUP(L39,$M$6:$V$612,4,0)),"",(VLOOKUP(L39,$M$6:$V$612,4,0))) | I39: =IF(ISERROR(VLOOKUP(L39,$M$6:$V$612,6,0)),"",(VLOOKUP(L39,$M$6:$V$612,6,0))) | L39: 34 | M39: =IF(P39>0,M38+1,M38) -> 0 | N39: ='Straight Connection'!$C$15 -> 90° Elbows - PF Series | P39: ='Straight Connection'!H17 -> 0 | Q39: ='Straight Connection'!I17 -> 36.55 | R39: ='Straight Connection'!K17 -> 0 | S39: ='Straight Connection'!D17 -> 2811200380 | T39: ='Straight Connection'!E17 -> 25 / 1" | U39: ='Straight Connection'!F17 -> 0 | V39: ='Straight Connection'!G17 -> 1
B40: =IF(ISERROR(VLOOKUP(L40,$M$6:$V$612,7,0)),"",(VLOOKUP(L40,$M$6:$V646,7,0))) | C40: =IF(ISERROR(VLOOKUP(L40,$M$6:$V$612,2,0)),"",(VLOOKUP(L40,$M$6:$V$612,2,0))) | D40: =IF(ISERROR(VLOOKUP(L40,$M$6:$V$612,8,0)),"",(VLOOKUP(L40,$M$6:$V$612,8,0))) | E40: =IF(ISERROR(VLOOKUP(L40,$M$6:$V$612,9,FALSE)),"",(VLOOKUP(L40,$M$6:$V$612,9,0))) | F40: =IF(ISERROR(VLOOKUP(L40,$M$6:$V$612,10,0)),"",(VLOOKUP(L40,$M$6:$V$612,10,0))) | G40: =IF(ISERROR(VLOOKUP(L40,$M$6:$V$612,5,0)),"",(VLOOKUP(L40,$M$6:$V$612,5,0))) | H40: =IF(ISERROR(VLOOKUP(L40,$M$6:$V$612,4,0)),"",(VLOOKUP(L40,$M$6:$V$612,4,0))) | I40: =IF(ISERROR(VLOOKUP(L40,$M$6:$V$612,6,0)),"",(VLOOKUP(L40,$M$6:$V$612,6,0))) | L40: 35 | M40: =IF(P40>0,M39+1,M39) -> 0 | N40: ='Straight Connection'!$C$15 -> 90° Elbows - PF Series | P40: ='Straight Connection'!H18 -> 0 | Q40: ='Straight Connection'!I18 -> 57.12 | R40: ='Straight Connection'!K18 -> 0 | S40: ='Straight Connection'!D18 -> 2811400380 | T40: ='Straight Connection'!E18 -> 40 / 1½" | U40: ='Straight Connection'!F18 -> 0 | V40: ='Straight Connection'!G18 -> 1
B41: =IF(ISERROR(VLOOKUP(L41,$M$6:$V$612,7,0)),"",(VLOOKUP(L41,$M$6:$V647,7,0))) | C41: =IF(ISERROR(VLOOKUP(L41,$M$6:$V$612,2,0)),"",(VLOOKUP(L41,$M$6:$V$612,2,0))) | D41: =IF(ISERROR(VLOOKUP(L41,$M$6:$V$612,8,0)),"",(VLOOKUP(L41,$M$6:$V$612,8,0))) | E41: =IF(ISERROR(VLOOKUP(L41,$M$6:$V$612,9,FALSE)),"",(VLOOKUP(L41,$M$6:$V$612,9,0))) | F41: =IF(ISERROR(VLOOKUP(L41,$M$6:$V$612,10,0)),"",(VLOOKUP(L41,$M$6:$V$612,10,0))) | G41: =IF(ISERROR(VLOOKUP(L41,$M$6:$V$612,5,0)),"",(VLOOKUP(L41,$M$6:$V$612,5,0))) | H41: =IF(ISERROR(VLOOKUP(L41,$M$6:$V$612,4,0)),"",(VLOOKUP(L41,$M$6:$V$612,4,0))) | I41: =IF(ISERROR(VLOOKUP(L41,$M$6:$V$612,6,0)),"",(VLOOKUP(L41,$M$6:$V$612,6,0))) | L41: 36 | M41: =IF(P41>0,M40+1,M40) -> 0 | N41: ='Straight Connection'!$C$15 -> 90° Elbows - PF Series | P41: ='Straight Connection'!H19 -> 0 | Q41: ='Straight Connection'!I19 -> 76.31 | R41: ='Straight Connection'!K19 -> 0 | S41: ='Straight Connection'!D19 -> 2811500380 | T41: ='Straight Connection'!E19 -> 50 / 2" | U41: ='Straight Connection'!F19 -> 0 | V41: ='Straight Connection'!G19 -> 1
B42: =IF(ISERROR(VLOOKUP(L42,$M$6:$V$612,7,0)),"",(VLOOKUP(L42,$M$6:$V648,7,0))) | C42: =IF(ISERROR(VLOOKUP(L42,$M$6:$V$612,2,0)),"",(VLOOKUP(L42,$M$6:$V$612,2,0))) | D42: =IF(ISERROR(VLOOKUP(L42,$M$6:$V$612,8,0)),"",(VLOOKUP(L42,$M$6:$V$612,8,0))) | E42: =IF(ISERROR(VLOOKUP(L42,$M$6:$V$612,9,FALSE)),"",(VLOOKUP(L42,$M$6:$V$612,9,0))) | F42: =IF(ISERROR(VLOOKUP(L42,$M$6:$V$612,10,0)),"",(VLOOKUP(L42,$M$6:$V$612,10,0))) | G42: =IF(ISERROR(VLOOKUP(L42,$M$6:$V$612,5,0)),"",(VLOOKUP(L42,$M$6:$V$612,5,0))) | H42: =IF(ISERROR(VLOOKUP(L42,$M$6:$V$612,4,0)),"",(VLOOKUP(L42,$M$6:$V$612,4,0))) | I42: =IF(ISERROR(VLOOKUP(L42,$M$6:$V$612,6,0)),"",(VLOOKUP(L42,$M$6:$V$612,6,0))) | L42: 37 | M42: =IF(P42>0,M41+1,M41) -> 0
...

Sheet PIPE
D1: Pipes & Pipe Clips | H1: Enter Qty Here
B2: Category | C2: Sub Category | D2: Part Number | E2: Size mm / in | F2: Additonal Info | G2: Lot Size | H2: Qty | I2: Your Price | J2: List Price | K2: Total
B3: Pipe | C3: Compressed Air | E3: AIRnet Φ
D4: 2811100000 | E4: 20 / ¾" | F4: 18 ft 8 inch | G4: 1 | I4: =VLOOKUP(Table32[[#This Row],[Part Number]],'2026 Pricing Rework'!$B$32:$F$740,5,FALSE) -> 63.67 | J4: =VLOOKUP(Table32[[#This Row],[Part Number]],'2025 Pricing Rework'!$B$31:$F$737,4,FALSE) -> 63.79 | K4: =Table32[[#This Row],[Your Price]]*Table32[[#This Row],[Qty]] -> 0
D5: 2811200000 | E5: 25 / 1" | F5: 18 ft 8 inch | G5: 1 | I5: =VLOOKUP(Table32[[#This Row],[Part Number]],'2026 Pricing Rework'!$B$32:$F$740,5,FALSE) -> 79.58 | J5: =VLOOKUP(Table32[[#This Row],[Part Number]],'2025 Pricing Rework'!$B$31:$F$737,4,FALSE) -> 79.73 | K5: =Table32[[#This Row],[Your Price]]*Table32[[#This Row],[Qty]] -> 0
D6: 2811400000 | E6: 40 / 1½" | F6: 18 ft 8 inch | G6: 1 | I6: =VLOOKUP(Table32[[#This Row],[Part Number]],'2026 Pricing Rework'!$B$32:$F$740,5,FALSE) -> 130.04 | J6: =VLOOKUP(Table32[[#This Row],[Part Number]],'2025 Pricing Rework'!$B$31:$F$737,4,FALSE) -> 130.29 | K6: =Table32[[#This Row],[Your Price]]*Table32[[#This Row],[Qty]] -> 0
D7: 2811500000 | E7: 50 / 2" | F7: 18 ft 8 inch | G7: 1 | I7: =VLOOKUP(Table32[[#This Row],[Part Number]],'2026 Pricing Rework'!$B$32:$F$740,5,FALSE) -> 175.81 | J7: =VLOOKUP(Table32[[#This Row],[Part Number]],'2025 Pricing Rework'!$B$31:$F$737,4,FALSE) -> 176.14 | K7: =Table32[[#This Row],[Your Price]]*Table32[[#This Row],[Qty]] -> 0
D8: 2811600000 | E8: 63 / 2½" | F8: 18 ft 8 inch | G8: 1 | I8: =VLOOKUP(Table32[[#This Row],[Part Number]],'2026 Pricing Rework'!$B$32:$F$740,5,FALSE) -> 225.22 | J8: =VLOOKUP(Table32[[#This Row],[Part Number]],'2025 Pricing Rework'!$B$31:$F$737,4,FALSE) -> 225.66 | K8: =Table32[[#This Row],[Your Price]]*Table32[[#This Row],[Qty]] -> 0
D9: 2811700000 | E9: 80 / 3" | F9: 18 ft 8 inch | G9: 1 | I9: =VLOOKUP(Table32[[#This Row],[Part Number]],'2026 Pricing Rework'!$B$32:$F$740,5,FALSE) -> 314.96 | J9: =VLOOKUP(Table32[[#This Row],[Part Number]],'2025 Pricing Rework'!$B$31:$F$737,4,FALSE) -> 315.56 | K9: =Table32[[#This Row],[Your Price]]*Table32[[#This Row],[Qty]] -> 0
D10: 2811800000 | E10: 100 / 4" | F10: 18 ft 8 inch | G10: 1 | I10: =VLOOKUP(Table32[[#This Row],[Part Number]],'2026 Pricing Rework'!$B$32:$F$740,5,FALSE) -> 439.13 | J10: =VLOOKUP(Table32[[#This Row],[Part Number]],'2025 Pricing Rework'!$B$31:$F$737,4,FALSE) -> 439.97 | K10: =Table32[[#This Row],[Your Price]]*Table32[[#This Row],[Qty]] -> 0
D11: 2811900000 | E11: 158 / 6" | F11: 18 ft 8 inch | G11: 1 | I11: =VLOOKUP(Table32[[#This Row],[Part Number]],'2026 Pricing Rework'!$B$32:$F$740,5,FALSE) -> 901.34 | J11: =VLOOKUP(Table32[[#This Row],[Part Number]],'2025 Pricing Rework'!$B$31:$F$737,4,FALSE) -> 903.08 | K11: =Table32[[#This Row],[Your Price]]*Table32[[#This Row],[Qty]] -> 0
C13: Inert Gas (green pipe)
D14: 2811106100 | E14: 20 / ¾" | F14: 18 ft 8 inch | G14: 1 | I14: =VLOOKUP(Table32[[#This Row],[Part Number]],'2026 Pricing Rework'!$B$32:$F$740,5,FALSE) -> 74.16 | J14: =VLOOKUP(Table32[[#This Row],[Part Number]],'2025 Pricing Rework'!$B$31:$F$737,4,FALSE) -> 74.3 | K14: =Table32[[#This Row],[Your Price]]*Table32[[#This Row],[Qty]] -> 0
D15: 2811206100 | E15: 25 / 1" | F15: 18 ft 8 inch | G15: 1 | I15: =VLOOKUP(Table32[[#This Row],[Part Number]],'2026 Pricing Rework'!$B$32:$F$740,5,FALSE) -> 120.17 | J15: =VLOOKUP(Table32[[#This Row],[Part Number]],'2025 Pricing Rework'!$B$31:$F$737,4,FALSE) -> 120.4 | K15: =Table32[[#This Row],[Your Price]]*Table32[[#This Row],[Qty]] -> 0
F16: Additonal Sizes available - Special order
C17: Vacuum (gray pipe) | F17: Available by Special Order
C21: S Bend | F21: Comment
D22: 2811106705 | E22: 20 / ¾" | F22: Use with Quick Drops to rotate pipe against wall (~6.5" offset) | G22: 5 | I22: =VLOOKUP(Table32[[#This Row],[Part Number]],'2026 Pricing Rework'!$B$32:$F$740,5,FALSE) -> 74.44 | J22: =VLOOKUP(Table32[[#This Row],[Part Number]],'2025 Pricing Rework'!$B$31:$F$737,4,FALSE) -> 74.58 | K22: =Table32[[#This Row],[Your Price]]*Table32[[#This Row],[Qty]] -> 0
D23: 2811206705 | E23: 25 / 1" | F23: Use with Quick Drops to rotate pipe against wall (~6.5" offset) | G23: 5 | I23: =VLOOKUP(Table32[[#This Row],[Part Number]],'2026 Pricing Rework'!$B$32:$F$740,5,FALSE) -> 103.06 | J23: =VLOOKUP(Table32[[#This Row],[Part Number]],'2025 Pricing Rework'!$B$31:$F$737,4,FALSE) -> 103.25 | K23: =Table32[[#This Row],[Your Price]]*Table32[[#This Row],[Qty]] -> 0

Sheet Straight Connection
A1: 4 | D1: Straight Connections, Elbows, Tees, & End Caps | H1: Enter Qty Here
B2: Category | C2: Sub Category | D2: Part Number | E2: Size mm / in | F2: Additonal Info | G2: Lot Size | H2: Qty | I2: Your Price | J2: List Price | K2: Total
B3: Straight Connection | C3: Equal Union - PF Series
D4: 2811100280 | E4: 20 / ¾" | F4: Pipe to Pipe connector | G4: 1 | I4: =VLOOKUP(Table33[[#This Row],[Part Number]],'2026 Pricing Rework'!$B$32:$F$740,5,FALSE) -> 20.18 | J4: =VLOOKUP(Table33[[#This Row],[Part Number]],'2025 Pricing Rework'!$B$31:$F$737,4,FALSE) -> 20.21 | K4: =Table33[[#This Row],[Your Price]]*Table33[[#This Row],[Qty]] -> 0
D5: 2811200280 | E5: 25 / 1" | F5: Pipe to Pipe connector | G5: 1 | I5: =VLOOKUP(Table33[[#This Row],[Part Number]],'2026 Pricing Rework'!$B$32:$F$740,5,FALSE) -> 30.83 | J5: =VLOOKUP(Table33[[#This Row],[Part Number]],'2025 Pricing Rework'!$B$31:$F$737,4,FALSE) -> 30.89 | K5: =Table33[[#This Row],[Your Price]]*Table33[[#This Row],[Qty]] -> 0
D6: 2811400280 | E6: 40 / 1½" | F6: Pipe to Pipe connector | G6: 1 | I6: =VLOOKUP(Table33[[#This Row],[Part Number]],'2026 Pricing Rework'!$B$32:$F$740,5,FALSE) -> 53.46 | J6: =VLOOKUP(Table33[[#This Row],[Part Number]],'2025 Pricing Rework'!$B$31:$F$737,4,FALSE) -> 53.55 | K6: =Table33[[#This Row],[Your Price]]*Table33[[#This Row],[Qty]] -> 0
D7: 2811500280 | E7: 50 / 2" | F7: Pipe to Pipe connector | G7: 1 | I7: =VLOOKUP(Table33[[#This Row],[Part Number]],'2026 Pricing Rework'!$B$32:$F$740,5,FALSE) -> 67.22 | J7: =VLOOKUP(Table33[[#This Row],[Part Number]],'2025 Pricing Rework'!$B$31:$F$737,4,FALSE) -> 67.34 | K7: =Table33[[#This Row],[Your Price]]*Table33[[#This Row],[Qty]] -> 0
C9: Equal Union - PM & Large Series
D10: 2811600290 | E10: 63 / 2½" | F10: Pipe to Pipe connector | G10: 1 | I10: =VLOOKUP(Table33[[#This Row],[Part Number]],'2026 Pricing Rework'!$B$32:$F$740,5,FALSE) -> 82.08 | J10: =VLOOKUP(Table33[[#This Row],[Part Number]],'2025 Pricing Rework'!$B$31:$F$737,4,FALSE) -> 82.24 | K10: =Table33[[#This Row],[Your Price]]*Table33[[#This Row],[Qty]] -> 0
D11: 2811700290 | E11: 80 / 3" | F11: Pipe to Pipe connector | G11: 1 | I11: =VLOOKUP(Table33[[#This Row],[Part Number]],'2026 Pricing Rework'!$B$32:$F$740,5,FALSE) -> 111.6 | J11: =VLOOKUP(Table33[[#This Row],[Part Number]],'2025 Pricing Rework'!$B$31:$F$737,4,FALSE) -> 111.81 | K11: =Table33[[#This Row],[Your Price]]*Table33[[#This Row],[Qty]] -> 0
D12: 2810880200 | E12: 100 / 4" | F12: Pipe to Pipe or Pipe to Fitting | G12: 1 | I12: =VLOOKUP(Table33[[#This Row],[Part Number]],'2026 Pricing Rework'!$B$32:$F$740,5,FALSE) -> 146.21 | J12: =VLOOKUP(Table33[[#This Row],[Part Number]],'2025 Pricing Rework'!$B$31:$F$737,4,FALSE) -> 146.49 | K12: =Table33[[#This Row],[Your Price]]*Table33[[#This Row],[Qty]] -> 0
D13: 2810900200 | E13: 158 / 6" | F13: Pipe to Pipe or Pipe to Fitting | G13: 1 | I13: =VLOOKUP(Table33[[#This Row],[Part Number]],'2026 Pricing Rework'!$B$32:$F$740,5,FALSE) -> 157.84 | J13: =VLOOKUP(Table33[[#This Row],[Part Number]],'2025 Pricing Rework'!$B$31:$F$737,4,FALSE) -> 158.14 | K13: =Table33[[#This Row],[Your Price]]*Table33[[#This Row],[Qty]] -> 0
B15: Elbow | C15: 90° Elbows - PF Series
D16: 2811100380 | E16: 20 / ¾" | G16: 1 | I16: =VLOOKUP(Table33[[#This Row],[Part Number]],'2026 Pricing Rework'!$B$32:$F$740,5,FALSE) -> 28.87 | J16: =VLOOKUP(Table33[[#This Row],[Part Number]],'2025 Pricing Rework'!$B$31:$F$737,4,FALSE) -> 28.92 | K16: =Table33[[#This Row],[Your Price]]*Table33[[#This Row],[Qty]] -> 0
D17: 2811200380 | E17: 25 / 1" | G17: 1 | I17: =VLOOKUP(Table33[[#This Row],[Part Number]],'2026 Pricing Rework'!$B$32:$F$740,5,FALSE) -> 36.55 | J17: =VLOOKUP(Table33[[#This Row],[Part Number]],'2025 Pricing Rework'!$B$31:$F$737,4,FALSE) -> 36.61 | K17: =Table33[[#This Row],[Your Price]]*Table33[[#This Row],[Qty]] -> 0
D18: 2811400380 | E18: 40 / 1½" | G18: 1 | I18: =VLOOKUP(Table33[[#This Row],[Part Number]],'2026 Pricing Rework'!$B$32:$F$740,5,FALSE) -> 57.12 | J18: =VLOOKUP(Table33[[#This Row],[Part Number]],'2025 Pricing Rework'!$B$31:$F$737,4,FALSE) -> 57.23 | K18: =Table33[[#This Row],[Your Price]]*Table33[[#This Row],[Qty]] -> 0
D19: 2811500380 | E19: 50 / 2" | G19: 1 | I19: =VLOOKUP(Table33[[#This Row],[Part Number]],'2026 Pricing Rework'!$B$32:$F$740,5,FALSE) -> 76.31 | J19: =VLOOKUP(Table33[[#This Row],[Part Number]],'2025 Pricing Rework'!$B$31:$F$737,4,FALSE) -> 76.46 | K19: =Table33[[#This Row],[Your Price]]*Table33[[#This Row],[Qty]] -> 0
C21: 90° Elbows - PM & Large Series
D22: 2811600390 | E22: 63 / 2½" | G22: 1 | I22: =VLOOKUP(Table33[[#This Row],[Part Number]],'2026 Pricing Rework'!$B$32:$F$740,5,FALSE) -> 132.91 | J22: =VLOOKUP(Table33[[#This Row],[Part Number]],'2025 Pricing Rework'!$B$31:$F$737,4,FALSE) -> 133.16 | K22: =Table33[[#This Row],[Your Price]]*Table33[[#This Row],[Qty]] -> 0
D23: 2811700390 | E23: 80 / 3" | G23: 1 | I23: =VLOOKUP(Table33[[#This Row],[Part Number]],'2026 Pricing Rework'!$B$32:$F$740,5,FALSE) -> 155.64 | J23: =VLOOKUP(Table33[[#This Row],[Part Number]],'2025 Pricing Rework'!$B$31:$F$737,4,FALSE) -> 155.93 | K23: =Table33[[#This Row],[Your Price]]*Table33[[#This Row],[Qty]] -> 0
D24: 2810800300 | E24: 100 / 4" | F24: Requires 2 Equal Unions | G24: 1 | I24: =VLOOKUP(Table33[[#This Row],[Part Number]],'2026 Pricing Rework'!$B$32:$F$740,5,FALSE) -> 188.98 | J24: =VLOOKUP(Table33[[#This Row],[Part Number]],'2025 Pricing Rework'!$B$31:$F$737,4,FALSE) -> 189.34 | K24: =Table33[[#This Row],[Your Price]]*Table33[[#This Row],[Qty]] -> 0
D25: 2810900300 | E25: 158 / 6" | F25: Requires 2 Equal Unions | G25: 1 | I25: =VLOOKUP(Table33[[#This Row],[Part Number]],'2026 Pricing Rework'!$B$32:$F$740,5,FALSE) -> 269.67 | J25: =VLOOKUP(Table33[[#This Row],[Part Number]],'2025 Pricing Rework'!$B$31:$F$737,4,FALSE) -> 270.18 | K25: =Table33[[#This Row],[Your Price]]*Table33[[#This Row],[Qty]] -> 0
C28: 45° Elbow - PF Series
D29: 2811100480 | E29: 20 / ¾" | G29: 1 | I29: =VLOOKUP(Table33[[#This Row],[Part Number]],'2026 Pricing Rework'!$B$32:$F$740,5,FALSE) -> 32.49 | J29: =VLOOKUP(Table33[[#This Row],[Part Number]],'2025 Pricing Rework'!$B$31:$F$737,4,FALSE) -> 32.54 | K29: =Table33[[#This Row],[Your Price]]*Table33[[#This Row],[Qty]] -> 0
D30: 2811200480 | E30: 25 / 1" | G30: 1 | I30: =VLOOKUP(Table33[[#This Row],[Part Number]],'2026 Pricing Rework'!$B$32:$F$740,5,FALSE) -> 42.82 | J30: =VLOOKUP(Table33[[#This Row],[Part Number]],'2025 Pricing Rework'!$B$31:$F$737,4,FALSE) -> 42.9 | K30: =Table33[[#This Row],[Your Price]]*Table33[[#This Row],[Qty]] -> 0
D31: 2811400480 | E31: 40 / 1½" | G31: 1 | I31: =VLOOKUP(Table33[[#This Row],[Part Number]],'2026 Pricing Rework'!$B$32:$F$740,5,FALSE) -> 67.1 | J31: =VLOOKUP(Table33[[#This Row],[Part Number]],'2025 Pricing Rework'!$B$31:$F$737,4,FALSE) -> 67.23 | K31: =Table33[[#This Row],[Your Price]]*Table33[[#This Row],[Qty]] -> 0
D32: 2811500480 | E32: 50 / 2" | G32: 1 | I32: =VLOOKUP(Table33[[#This Row],[Part Number]],'2026 Pricing Rework'!$B$32:$F$740,5,FALSE) -> 83.49 | J32: =VLOOKUP(Table33[[#This Row],[Part Number]],'2025 Pricing Rework'!$B$31:$F$737,4,FALSE) -> 83.64 | K32: =Table33[[#This Row],[Your Price]]*Table33[[#This Row],[Qty]] -> 0
C33: 45° Elbow - PM & Large Series
D34: 2811600490 | E34: 63 / 2½" | G34: 1 | I34: =VLOOKUP(Table33[[#This Row],[Part Number]],'2026 Pricing Rework'!$B$32:$F$740,5,FALSE) -> 137.45 | J34: =VLOOKUP(Table33[[#This Row],[Part Number]],'2025 Pricing Rework'!$B$31:$F$737,4,FALSE) -> 137.71 | K34: =Table33[[#This Row],[Your Price]]*Table33[[#This Row],[Qty]] -> 0
D35: 2811700490 | E35: 80 / 3" | G35: 1 | I35: =VLOOKUP(Table33[[#This Row],[Part Number]],'2026 Pricing Rework'!$B$32:$F$740,5,FALSE) -> 170.58 | J35: =VLOOKUP(Table33[[#This Row],[Part Number]],'2025 Pricing Rework'!$B$31:$F$737,4,FALSE) -> 170.9 | K35: =Table33[[#This Row],[Your Price]]*Table33[[#This Row],[Qty]] -> 0
D36: 2810800400 | E36: 100 / 4" | F36: Requires 2 Equal Unions | G36: 1 | I36: =VLOOKUP(Table33[[#This Row],[Part Number]],'2026 Pricing Rework'!$B$32:$F$740,5,FALSE) -> 198.53 | J36: =VLOOKUP(Table33[[#This Row],[Part Number]],'2025 Pricing Rework'!$B$31:$F$737,4,FALSE) -> 198.9 | K36: =Table33[[#This Row],[Your Price]]*Table33[[#This Row],[Qty]] -> 0
D37: 2810900400 | E37: 158 / 6" | F37: Requires 2 Equal Unions | G37: 1 | I37: =VLOOKUP(Table33[[#This Row],[Part Number]],'2026 Pricing Rework'!$B$32:$F$740,5,FALSE) -> 274.17 | J37: =VLOOKUP(Table33[[#This Row],[Part Number]],'2025 Pricing Rework'!$B$31:$F$737,4,FALSE) -> 274.69 | K37: =Table33[[#This Row],[Your Price]]*Table33[[#This Row],[Qty]] -> 0
B40: Tee | C40: Equal Tee - PF Series
D41: 2811100580 | E41: 20 / ¾" | G41: 1 | I41: =VLOOKUP(Table33[[#This Row],[Part Number]],'2026 Pricing Rework'!$B$32:$F$740,5,FALSE) -> 33.74 | J41: =VLOOKUP(Table33[[#This Row],[Part Number]],'2025 Pricing Rework'!$B$31:$F$737,4,FALSE) -> 33.8 | K41: =Table33[[#This Row],[Your Price]]*Table33[[#This Row],[Qty]] -> 0
D42: 2811200580 | E42: 25 / 1" | G42: 1 | I42: =VLOOKUP(Table33[[#This Row],[Part Number]],'2026 Pricing Rework'!$B$32:$F$740,5,FALSE) -> 44.2 | J42: =VLOOKUP(Table33[[#This Row],[Part Number]],'2025 Pricing Rework'!$B$31:$F$737,4,FALSE) -> 44.28 | K42: =Table33[[#This Row],[Your Price]]*Table33[[#This Row],[Qty]] -> 0
D43: 2811400580 | E43: 40 / 1½" | G43: 1 | I43: =VLOOKUP(Table33[[#This Row],[Part Number]],'2026 Pricing Rework'!$B$32:$F$740,5,FALSE) -> 61.17 | J43: =VLOOKUP(Table33[[#This Row],[Part Number]],'2025 Pricing Rework'!$B$31:$F$737,4,FALSE) -> 61.29 | K43: =Table33[[#This Row],[Your Price]]*Table33[[#This Row],[Qty]] -> 0
D44: 2811500580 | E44: 50 / 2" | G44: 1 | I44: =VLOOKUP(Table33[[#This Row],[Part Number]],'2026 Pricing Rework'!$B$32:$F$740,5,FALSE) -> 85.76 | J44: =VLOOKUP(Table33[[#This Row],[Part Number]],'2025 Pricing Rework'!$B$31:$F$737,4,FALSE) -> 85.92 | K44: =Table33[[#This Row],[Your Price]]*Table33[[#This Row],[Qty]] -> 0
C45: Equal Tee - PM & Large Series
D46: 2811600590 | E46: 63 / 2½" | G46: 1 | I46: =VLOOKUP(Table33[[#This Row],[Part Number]],'2026 Pricing Rework'!$B$32:$F$740,5,FALSE) -> 153.65 | J46: =VLOOKUP(Table33[[#This Row],[Part Number]],'2025 Pricing Rework'!$B$31:$F$737,4,FALSE) -> 153.94 | K46: =Table33[[#This Row],[Your Price]]*Table33[[#This Row],[Qty]] -> 0
D47: 2811700590 | E47: 80 / 3" | G47: 1 | I47: =VLOOKUP(Table33[[#This Row],[Part Number]],'2026 Pricing Rework'!$B$32:$F$740,5,FALSE) -> 200.46 | J47: =VLOOKUP(Table33[[#This Row],[Part Number]],'2025 Pricing Rework'!$B$31:$F$737,4,FALSE) -> 200.85 | K47: =Table33[[#This Row],[Your Price]]*Table33[[#This Row],[Qty]] -> 0
...

Sheet Reducing Fittings
D1: Reducing Connections | H1: Enter Qty Here
B2: Category | C2: Sub Category | D2: Part Number | E2: Size mm / in | F2: Size mm / in | G2: Lot Size | H2: Qty | I2: Your Price | J2: List Price | K2: Total
B3: Reduction connections | C3: Reducing Union PF Series | E3: Main Size | F3: Reduced Size
D4: 2811212180 | E4: 25 / 1" | F4: 20 / ¾" | G4: 1 | I4: =VLOOKUP(Table339[[#This Row],[Part Number]],'2026 Pricing Rework'!$B$32:$F$740,5,FALSE) -> 35.88 | J4: =VLOOKUP(Table339[[#This Row],[Part Number]],'2025 Pricing Rework'!$B$31:$F$737,4,FALSE) -> 35.95 | K4: =Table339[[#This Row],[Your Price]]*Table339[[#This Row],[Qty]] -> 0
D5: 2811422180 | E5: 40 / 1½" | F5: 25 / 1" | G5: 1 | I5: =VLOOKUP(Table339[[#This Row],[Part Number]],'2026 Pricing Rework'!$B$32:$F$740,5,FALSE) -> 61.68 | J5: =VLOOKUP(Table339[[#This Row],[Part Number]],'2025 Pricing Rework'!$B$31:$F$737,4,FALSE) -> 61.8 | K5: =Table339[[#This Row],[Your Price]]*Table339[[#This Row],[Qty]] -> 0
D6: 2811542180 | E6: 50 / 2" | F6: 40 / 1½" | G6: 1 | I6: =VLOOKUP(Table339[[#This Row],[Part Number]],'2026 Pricing Rework'!$B$32:$F$740,5,FALSE) -> 61.62 | J6: =VLOOKUP(Table339[[#This Row],[Part Number]],'2025 Pricing Rework'!$B$31:$F$737,4,FALSE) -> 61.73 | K6: =Table339[[#This Row],[Your Price]]*Table339[[#This Row],[Qty]] -> 0
C8: Reducing Union PM & Large Series | D8: 2811652190 | E8: 63 / 2½" | F8: 50 / 2" | G8: 1 | I8: =VLOOKUP(Table339[[#This Row],[Part Number]],'2026 Pricing Rework'!$B$32:$F$740,5,FALSE) -> 180.13 | J8: =VLOOKUP(Table339[[#This Row],[Part Number]],'2025 Pricing Rework'!$B$31:$F$737,4,FALSE) -> 180.47 | K8: =Table339[[#This Row],[Your Price]]*Table339[[#This Row],[Qty]] -> 0
D9: 2811762190 | E9: 80 / 3" | F9: 63 / 2½" | G9: 1 | I9: =VLOOKUP(Table339[[#This Row],[Part Number]],'2026 Pricing Rework'!$B$32:$F$740,5,FALSE) -> 222.99 | J9: =VLOOKUP(Table339[[#This Row],[Part Number]],'2025 Pricing Rework'!$B$31:$F$737,4,FALSE) -> 223.41 | K9: =Table339[[#This Row],[Your Price]]*Table339[[#This Row],[Qty]] -> 0
D10: 2810872100 | E10: 100 / 4" | F10: 80 / 3" | G10: 1 | I10: =VLOOKUP(Table339[[#This Row],[Part Number]],'2026 Pricing Rework'!$B$32:$F$740,5,FALSE) -> 201.32 | J10: =VLOOKUP(Table339[[#This Row],[Part Number]],'2025 Pricing Rework'!$B$31:$F$737,4,FALSE) -> 201.71 | K10: =Table339[[#This Row],[Your Price]]*Table339[[#This Row],[Qty]] -> 0
D11: 2810982100 | E11: 158 / 6" | F11: 4 / 100" | G11: 1 | I11: =VLOOKUP(Table339[[#This Row],[Part Number]],'2026 Pricing Rework'!$B$32:$F$740,5,FALSE) -> 195.14 | J11: =VLOOKUP(Table339[[#This Row],[Part Number]],'2025 Pricing Rework'!$B$31:$F$737,4,FALSE) -> 195.52 | K11: =Table339[[#This Row],[Your Price]]*Table339[[#This Row],[Qty]] -> 0
B14: Reducing Tees | C14: Reducing Tee PF Series | E14: Main Size | F14: Reduced Size
B15: See "Quick Drop" Fittings when creating drops | D15: 2811210780 | E15: 25 / 1" | F15: 20 / ¾" | G15: 1 | I15: =VLOOKUP(Table339[[#This Row],[Part Number]],'2026 Pricing Rework'!$B$32:$F$740,5,FALSE) -> 43.55 | J15: =VLOOKUP(Table339[[#This Row],[Part Number]],'2025 Pricing Rework'!$B$31:$F$737,4,FALSE) -> 43.62 | K15: =Table339[[#This Row],[Your Price]]*Table339[[#This Row],[Qty]] -> 0
D16: 2811410780 | E16: 40 / 1½" | F16: 20 / ¾" | G16: 1 | I16: =VLOOKUP(Table339[[#This Row],[Part Number]],'2026 Pricing Rework'!$B$32:$F$740,5,FALSE) -> 66.87 | J16: =VLOOKUP(Table339[[#This Row],[Part Number]],'2025 Pricing Rework'!$B$31:$F$737,4,FALSE) -> 66.99 | K16: =Table339[[#This Row],[Your Price]]*Table339[[#This Row],[Qty]] -> 0
D17: 2811420780 | E17: 40 / 1½" | F17: 25 / 1" | G17: 1 | I17: =VLOOKUP(Table339[[#This Row],[Part Number]],'2026 Pricing Rework'!$B$32:$F$740,5,FALSE) -> 68.77 | J17: =VLOOKUP(Table339[[#This Row],[Part Number]],'2025 Pricing Rework'!$B$31:$F$737,4,FALSE) -> 68.9 | K17: =Table339[[#This Row],[Your Price]]*Table339[[#This Row],[Qty]] -> 0
D18: 2811510780 | E18: 50 / 2" | F18: 20 / ¾" | G18: 1 | I18: =VLOOKUP(Table339[[#This Row],[Part Number]],'2026 Pricing Rework'!$B$32:$F$740,5,FALSE) -> 93.97 | J18: =VLOOKUP(Table339[[#This Row],[Part Number]],'2025 Pricing Rework'!$B$31:$F$737,4,FALSE) -> 94.15 | K18: =Table339[[#This Row],[Your Price]]*Table339[[#This Row],[Qty]] -> 0
D19: 2811520780 | E19: 50 / 2" | F19: 25 / 1" | G19: 1 | I19: =VLOOKUP(Table339[[#This Row],[Part Number]],'2026 Pricing Rework'!$B$32:$F$740,5,FALSE) -> 111.76 | J19: =VLOOKUP(Table339[[#This Row],[Part Number]],'2025 Pricing Rework'!$B$31:$F$737,4,FALSE) -> 111.97 | K19: =Table339[[#This Row],[Your Price]]*Table339[[#This Row],[Qty]] -> 0
D20: 2811540780 | E20: 50 / 2" | F20: 40 / 1½" | G20: 1 | I20: =VLOOKUP(Table339[[#This Row],[Part Number]],'2026 Pricing Rework'!$B$32:$F$740,5,FALSE) -> 145.51 | J20: =VLOOKUP(Table339[[#This Row],[Part Number]],'2025 Pricing Rework'!$B$31:$F$737,4,FALSE) -> 145.79 | K20: =Table339[[#This Row],[Your Price]]*Table339[[#This Row],[Qty]] -> 0
C21: Reducing Tee PM & Large Series | E21: Main Size | F21: Reduced Size
D22: 2811640790 | E22: 63 / 2½" | F22: 40 / 1½" | G22: 1 | I22: =VLOOKUP(Table339[[#This Row],[Part Number]],'2026 Pricing Rework'!$B$32:$F$740,5,FALSE) -> 171.67 | J22: =VLOOKUP(Table339[[#This Row],[Part Number]],'2025 Pricing Rework'!$B$31:$F$737,4,FALSE) -> 171.99 | K22: =Table339[[#This Row],[Your Price]]*Table339[[#This Row],[Qty]] -> 0
D23: 2811650790 | E23: 63 / 2½" | F23: 50 / 2" | G23: 1 | I23: =VLOOKUP(Table339[[#This Row],[Part Number]],'2026 Pricing Rework'!$B$32:$F$740,5,FALSE) -> 183.98 | J23: =VLOOKUP(Table339[[#This Row],[Part Number]],'2025 Pricing Rework'!$B$31:$F$737,4,FALSE) -> 184.33 | K23: =Table339[[#This Row],[Your Price]]*Table339[[#This Row],[Qty]] -> 0
D24: 2811740790 | E24: 80 / 3" | F24: 40 / 1½" | G24: 1 | I24: =VLOOKUP(Table339[[#This Row],[Part Number]],'2026 Pricing Rework'!$B$32:$F$740,5,FALSE) -> 210.82 | J24: =VLOOKUP(Table339[[#This Row],[Part Number]],'2025 Pricing Rework'!$B$31:$F$737,4,FALSE) -> 211.22 | K24: =Table339[[#This Row],[Your Price]]*Table339[[#This Row],[Qty]] -> 0
D25: 2811750790 | E25: 80 / 3" | F25: 50 / 2" | G25: 1 | I25: =VLOOKUP(Table339[[#This Row],[Part Number]],'2026 Pricing Rework'!$B$32:$F$740,5,FALSE) -> 219.29 | J25: =VLOOKUP(Table339[[#This Row],[Part Number]],'2025 Pricing Rework'!$B$31:$F$737,4,FALSE) -> 219.71 | K25: =Table339[[#This Row],[Your Price]]*Table339[[#This Row],[Qty]] -> 0
D26: 2811760790 | E26: 80 / 3" | F26: 63 / 2½" | G26: 1 | I26: =VLOOKUP(Table339[[#This Row],[Part Number]],'2026 Pricing Rework'!$B$32:$F$740,5,FALSE) -> 223 | J26: =VLOOKUP(Table339[[#This Row],[Part Number]],'2025 Pricing Rework'!$B$31:$F$737,4,FALSE) -> 223.42 | K26: =Table339[[#This Row],[Your Price]]*Table339[[#This Row],[Qty]] -> 0
E27: Main Size | F27: Reduced Size
B28: See "Quick Drop" Fittings when creating drops | D28: 2810850700 | E28: 100 / 4" | F28: 50 / 2" | G28: 1 | I28: =VLOOKUP(Table339[[#This Row],[Part Number]],'2026 Pricing Rework'!$B$32:$F$740,5,FALSE) -> 209.71 | J28: =VLOOKUP(Table339[[#This Row],[Part Number]],'2025 Pricing Rework'!$B$31:$F$737,4,FALSE) -> 210.11 | K28: =Table339[[#This Row],[Your Price]]*Table339[[#This Row],[Qty]] -> 0
D29: 2810860700 | E29: 100 / 4" | F29: 63 / 2½" | G29: 1 | I29: =VLOOKUP(Table339[[#This Row],[Part Number]],'2026 Pricing Rework'!$B$32:$F$740,5,FALSE) -> 214.64 | J29: =VLOOKUP(Table339[[#This Row],[Part Number]],'2025 Pricing Rework'!$B$31:$F$737,4,FALSE) -> 215.05 | K29: =Table339[[#This Row],[Your Price]]*Table339[[#This Row],[Qty]] -> 0
D30: 2810870700 | E30: 100 / 4" | F30: 80 / 3" | G30: 1 | I30: =VLOOKUP(Table339[[#This Row],[Part Number]],'2026 Pricing Rework'!$B$32:$F$740,5,FALSE) -> 239.62 | J30: =VLOOKUP(Table339[[#This Row],[Part Number]],'2025 Pricing Rework'!$B$31:$F$737,4,FALSE) -> 240.07 | K30: =Table339[[#This Row],[Your Price]]*Table339[[#This Row],[Qty]] -> 0
